Uber Exif Photo
Make : Leica Camera AG
Camera Model Name : LEICA M10
Software : Adobe Photoshop Lightroom Classic 14.0.1 (Macintosh)
Modify Date : 2024:12:01 15:57:19
Exposure Time : 1/250
F Number : 2.4
Exposure Program : Aperture-priority AE
ISO : 200
Date/Time Original : 2024:12:01 11:39:21
Create Date : 2024:12:01 11:39:21
Shutter Speed Value : 1/250
Aperture Value : 2.4
Exposure Compensation : 0
Max Aperture Value : 2.0
Metering Mode : Center-weighted average
Light Source : Unknown
Flash : No Flash
Focal Length : 35.0 mm
Color Space : sRGB
Scene Type : Directly photographed
Custom Rendered : Normal
Exposure Mode : Auto
White Balance : Auto
Digital Zoom Ratio : 0
Scene Capture Type : Standard
Contrast : Normal
Saturation : Normal
Sharpness : Normal
Serial Number : 5233626
Lens Info : 35mm f/2
Lens Make : Leica Camera AG
Lens Model : Summicron-M 1:2/35 ASPH.
Profile Description : sRGB IEC61966-2.1
Creator Tool : Adobe Photoshop Lightroom Classic 14.0.1 (Macintosh)
Format : image/jpeg
Lens : Summicron-M 1:2/35 ASPH.
Approximate Focus Distance : 34.8
Distortion Correction Already Applied : True
Lateral Chromatic Aberration Correction Already Applied : True
Date Created : 2024:12:01 11:39:21
Preserved File Name : M1000450.DNG
Pick : 0
Raw File Name : M1000450.DNG
Version : 17.0
Compatible Version : 234881024
Process Version : 15.4
Color Temperature : 4800
Tint : 0
Highlight Recovery : 100
Fill Light : 63
Shadows : 15
Exposure 2012 : 0.00
Contrast 2012 : 0
Highlights 2012 : 0
Shadows 2012 : 0
Whites 2012 : 0
Blacks 2012 : 0
Texture : 0
Clarity 2012 : 0
Dehaze : 0
Vibrance : +29
Parametric Shadows : -21
Parametric Darks : 0
Parametric Lights : +39
Parametric Highlights : 0
Parametric Shadow Split : 25
Parametric Midtone Split : 50
Parametric Highlight Split : 75
Sharpen Radius : +1.0
Sharpen Detail : 25
Sharpen Edge Masking : 0
Luminance Smoothing : 15
Luminance Noise Reduction Detail : 50
Luminance Noise Reduction Contrast : 0
Color Noise Reduction : 25
Color Noise Reduction Detail : 50
Color Noise Reduction Smoothness : 50
Hue Adjustment Red : +81
Hue Adjustment Orange : +29
Hue Adjustment Yellow : +5
Hue Adjustment Green : 0
Hue Adjustment Aqua : 0
Hue Adjustment Blue : 0
Hue Adjustment Purple : 0
Hue Adjustment Magenta : 0
Saturation Adjustment Red : -100
Saturation Adjustment Orange : -74
Saturation Adjustment Yellow : +45
Saturation Adjustment Green : +45
Saturation Adjustment Aqua : -100
Saturation Adjustment Blue : -83
Saturation Adjustment Purple : -100
Saturation Adjustment Magenta : -100
Luminance Adjustment Red : -36
Luminance Adjustment Orange : +40
Luminance Adjustment Yellow : 0
Luminance Adjustment Green : +100
Luminance Adjustment Aqua : +100
Luminance Adjustment Blue : -100
Luminance Adjustment Purple : 0
Luminance Adjustment Magenta : 0
Split Toning Shadow Hue : 43
Split Toning Shadow Saturation : 5
Split Toning Highlight Hue : 51
Split Toning Highlight Saturation : 29
Split Toning Balance : 0
Color Grade Midtone Hue : 0
Color Grade Midtone Sat : 0
Color Grade Shadow Lum : 0
Color Grade Midtone Lum : 0
Color Grade Highlight Lum : 0
Color Grade Blending : 100
Color Grade Global Hue : 0
Color Grade Global Sat : 0
Color Grade Global Lum : 0
Auto Lateral CA : 1
Lens Profile Enable : 1
Lens Manual Distortion Amount : 0
Vignette Amount : -14
Vignette Midpoint : 64
Defringe Purple Amount : 1
Defringe Purple Hue Lo : 30
Defringe Purple Hue Hi : 70
Defringe Green Amount : 0
Defringe Green Hue Lo : 40
Defringe Green Hue Hi : 60
Defringe : 2
Perspective Upright : Off
Perspective Vertical : 0
Perspective Horizontal : 0
Perspective Rotate : 0.0
Perspective Aspect : 0
Perspective Scale : 100
Perspective X : 0.00
Perspective Y : 0.00
Grain Amount : 0
Post Crop Vignette Amount : 0
Shadow Tint : +100
Red Hue : +100
Red Saturation : -50
Green Hue : -2
Green Saturation : -48
Blue Hue : -100
Blue Saturation : +100
HDR Edit Mode : 0
Convert To Grayscale : False
Override Look Vignette : False
Tone Curve Name 2012 : Linear
Camera Profile : Adobe Standard
Lens Profile Setup : LensDefaults
Lens Profile Name : Adobe (Leica SUMMICRON-M 35 mm f/2 ASPH.)
Lens Profile Filename : Leica Camera AG (Leica SUMMICRON-M 35 mm f2 ASPH.) - RAW.lcp
Lens Profile Is Embedded : False
Lens Profile Distortion Scale : 100
Lens Profile Vignetting Scale : 100
Has Settings : True
Crop Top : 0.222308
Crop Left : 0
Crop Bottom : 0.892803
Crop Right : 0.670495
Crop Angle : 0
Crop Constrain To Warp : 0
Has Crop : True
Already Applied : True
Tone Curve PV2012 : 0, 0, 255, 255
Tone Curve PV2012 Red : 0, 0, 255, 255
Tone Curve PV2012 Green : 0, 0, 255, 255
Tone Curve PV2012 Blue : 0, 0, 255, 255
Point Colors : -1.000000, -1.000000, -1.000000, -1.000000, -1.000000, -1.000000, -1.000000, -1.000000, -1.000000, -1.000000, -1.000000, -1.000000, -1.000000, -1.000000, -1.000000, -1.000000, -1.000000, -1.000000, -1.000000
Image Width : 400
Image Height : 267
Bits Per Sample : 8
Color Components : 3
Aperture : 2.4
Image Size : 400x267
Megapixels : 0.107
Scale Factor To 35 mm Equivalent : 14.9
Shutter Speed : 1/250
Modify Date : 2024:12:01 15:57:19+01:00
Circle Of Confusion : 0.002 mm
Depth Of Field : 9.76 m (30.59 - 40.35 m)
Field Of View : 4.0 deg
Focal Length : 35.0 mm (35 mm equivalent: 520.6 mm)
Hyperfocal Distance : 252.68 m
Light Value : 9.5
Lens ID : Summicron-M 1:2/35 ASPH.