Uber Exif Photo
Make : LEICA CAMERA AG
Camera Model Name : LEICA X1
Software : Adobe Photoshop Lightroom 3.6 (Macintosh)
Modify Date : 2011:12:25 19:41:09
Exposure Time : 1/80
F Number : 4.0
Exposure Program : Program AE
ISO : 3200
Date/Time Original : 2011:12:24 21:45:53
Create Date : 2011:12:24 21:45:53
Shutter Speed Value : 1/80
Aperture Value : 4.0
Exposure Compensation : 0
Max Aperture Value : 2.8
Subject Distance : 7 m
Metering Mode : Multi-segment
Light Source : Unknown
Flash : On, Did not fire
Focal Length : 24.0 mm
Sensing Method : One-chip color area
Custom Rendered : Custom
White Balance : Auto
Digital Zoom Ratio : 1
Focal Length In 35mm Format : 36 mm
Scene Capture Type : Landscape
Contrast : Normal
Saturation : Normal
Sharpness : Normal
Creator Tool : Adobe Photoshop Lightroom 3.6 (Macintosh)
Approximate Focus Distance : 7
Date Created : 2011:12:24 21:45:53
Format : image/jpeg
Version : 6.6
Process Version : 5.7
Incremental Temperature : +100
Incremental Tint : +18
Exposure : -1.00
Shadows : 0
Brightness : 0
Luminance Smoothing : 66
Color Noise Reduction : 100
Chromatic Aberration R : 0
Chromatic Aberration B : 0
Vignette Amount : 0
Shadow Tint : 0
Red Hue : 0
Red Saturation : 0
Green Hue : 0
Green Saturation : 0
Blue Hue : 0
Blue Saturation : 0
Fill Light : 0
Highlight Recovery : 1
Clarity : +27
Defringe : 0
Gray Mixer Red : +13
Gray Mixer Orange : 0
Gray Mixer Yellow : -7
Gray Mixer Green : -20
Gray Mixer Aqua : -25
Gray Mixer Blue : -2
Gray Mixer Purple : +14
Gray Mixer Magenta : +16
Split Toning Shadow Hue : 0
Split Toning Shadow Saturation : 0
Split Toning Highlight Hue : 0
Split Toning Highlight Saturation : 0
Split Toning Balance : 0
Parametric Shadows : 0
Parametric Darks : 0
Parametric Lights : 0
Parametric Highlights : 0
Parametric Shadow Split : 25
Parametric Midtone Split : 50
Parametric Highlight Split : 75
Sharpen Radius : +1.2
Sharpen Detail : 0
Sharpen Edge Masking : 37
Post Crop Vignette Amount : -21
Post Crop Vignette Midpoint : 76
Post Crop Vignette Feather : 81
Post Crop Vignette Roundness : 0
Post Crop Vignette Style : Highlight Priority
Post Crop Vignette Highlight Contrast : 0
Grain Amount : 0
Luminance Noise Reduction Detail : 50
Color Noise Reduction Detail : 50
Luminance Noise Reduction Contrast : 0
Lens Profile Enable : 0
Lens Manual Distortion Amount : 0
Perspective Vertical : 0
Perspective Horizontal : 0
Perspective Rotate : 0.0
Perspective Scale : 100
Convert To Grayscale : True
Tone Curve Name : Medium Contrast
Camera Profile : Embedded
Lens Profile Setup : LensDefaults
Has Settings : True
Crop Top : 0.380018
Crop Left : 0
Crop Bottom : 0.976645
Crop Right : 0.596627
Crop Angle : 0
Crop Constrain To Warp : 0
Crop Width : 2549
Crop Height : 1704
Crop Unit : pixels
Has Crop : True
Already Applied : True
Tone Curve : 0, 0, 32, 22, 64, 56, 128, 128, 192, 196, 255, 255
Image Width : 300
Image Height : 201
Bits Per Sample : 8
Color Components : 1
Aperture : 4.0
Image Size : 300x201
Megapixels : 0.060
Scale Factor To 35 mm Equivalent : 1.5
Shutter Speed : 1/80
Circle Of Confusion : 0.020 mm
Depth Of Field : 232.80 m (3.55 - 236.35 m)
Field Of View : 53.1 deg
Focal Length : 24.0 mm (35 mm equivalent: 36.0 mm)
Hyperfocal Distance : 7.19 m
Light Value : 5.3