Uber Exif Photo
Make : Leica Camera AG
Camera Model Name : Leica S2
Software : Adobe Photoshop Lightroom 3.5 (Macintosh)
Modify Date : 2011:10:30 20:34:59
Exposure Time : 1/180
F Number : 5.6
Exposure Program : Aperture-priority AE
ISO : 160
Date/Time Original : 2011:10:29 10:18:41
Create Date : 2011:10:29 10:18:41
Shutter Speed Value : 1/180
Aperture Value : 5.6
Exposure Compensation : 0
Max Aperture Value : 2.5
Metering Mode : Multi-spot
Light Source : Unknown
Flash : No Flash
Focal Length : 70.0 mm
Scene Type : Directly photographed
Custom Rendered : Normal
White Balance : Auto
Digital Zoom Ratio : 0
Scene Capture Type : Standard
Contrast : Normal
Saturation : Normal
Sharpness : Normal
Serial Number : 3905600
Lens Model : Summarit-S 70
Profile Description : sRGB IEC61966-2.1
Creator Tool : Adobe Photoshop Lightroom 3.5 (Macintosh)
Lens : Summarit-S 70
Approximate Focus Distance : 23.1
Date Created : 2011:10:29 10:18:41
Version : 6.5
Process Version : 5.7
Color Temperature : 5967
Tint : +9
Exposure : +0.43
Shadows : 13
Brightness : +28
Luminance Smoothing : 0
Color Noise Reduction : 28
Chromatic Aberration R : 0
Chromatic Aberration B : 0
Vignette Amount : 0
Shadow Tint : 0
Red Hue : 0
Red Saturation : 0
Green Hue : 0
Green Saturation : 0
Blue Hue : 0
Blue Saturation : 0
Fill Light : 0
Vibrance : -15
Highlight Recovery : 0
Clarity : -33
Defringe : 0
Hue Adjustment Red : 0
Hue Adjustment Orange : 0
Hue Adjustment Yellow : 0
Hue Adjustment Green : 0
Hue Adjustment Aqua : 0
Hue Adjustment Blue : 0
Hue Adjustment Purple : +28
Hue Adjustment Magenta : 0
Saturation Adjustment Red : +36
Saturation Adjustment Orange : +32
Saturation Adjustment Yellow : +21
Saturation Adjustment Green : 0
Saturation Adjustment Aqua : +32
Saturation Adjustment Blue : +49
Saturation Adjustment Purple : +32
Saturation Adjustment Magenta : 0
Luminance Adjustment Red : 0
Luminance Adjustment Orange : 0
Luminance Adjustment Yellow : 0
Luminance Adjustment Green : 0
Luminance Adjustment Aqua : -28
Luminance Adjustment Blue : -55
Luminance Adjustment Purple : -28
Luminance Adjustment Magenta : 0
Split Toning Shadow Hue : 0
Split Toning Shadow Saturation : 0
Split Toning Highlight Hue : 63
Split Toning Highlight Saturation : 12
Split Toning Balance : 0
Parametric Shadows : -13
Parametric Darks : +1
Parametric Lights : +10
Parametric Highlights : +3
Parametric Shadow Split : 25
Parametric Midtone Split : 50
Parametric Highlight Split : 75
Sharpen Radius : +2.6
Sharpen Detail : 100
Sharpen Edge Masking : 100
Post Crop Vignette Amount : -75
Post Crop Vignette Midpoint : 36
Post Crop Vignette Feather : 74
Post Crop Vignette Roundness : +33
Post Crop Vignette Style : Highlight Priority
Post Crop Vignette Highlight Contrast : 0
Grain Amount : 0
Color Noise Reduction Detail : 50
Lens Profile Enable : 0
Lens Manual Distortion Amount : 0
Perspective Vertical : 0
Perspective Horizontal : 0
Perspective Rotate : 0.0
Perspective Scale : 100
Convert To Grayscale : False
Tone Curve Name : Linear
Camera Profile : Embedded
Lens Profile Setup : LensDefaults
Has Settings : True
Crop Top : 0.086556
Crop Left : 0.073764
Crop Bottom : 1
Crop Right : 0.987208
Crop Angle : 0
Crop Constrain To Warp : 0
Crop Width : 6862
Crop Height : 4560
Crop Unit : pixels
Has Crop : True
Already Applied : True
Tone Curve : 0, 0, 255, 255
Gradient Based Corr What : Correction
Gradient Based Corr Amount : 1.000000
Gradient Based Corr Active : true
Gradient Based Corr Exposure : 0.375000
Gradient Based Corr Saturation : 0.300000
Gradient Based Corr Contrast : 0.200000
Gradient Based Corr Clarity : 0.100000
Gradient Based Corr Sharpness : 0.000000
Gradient Based Corr Brightness : 0.000000
Gradient Based Corr Toning Hue : 0.000000
Gradient Based Corr Toning Saturation : 0.000000
Gradient Based Corr Mask What : Mask/Gradient
Gradient Based Corr Mask Value : 1.000000
Gradient Based Corr Mask Zero X : 0.074468
Gradient Based Corr Mask Zero Y : 0.621868
Gradient Based Corr Mask Full X : 0.935113
Gradient Based Corr Mask Full Y : 0.396253
Image Width : 300
Image Height : 199
Bits Per Sample : 8
Color Components : 3
Aperture : 5.6
Image Size : 300x199
Megapixels : 0.060
Shutter Speed : 1/180
Light Value : 11.8
Lens ID : Summarit-S 70