Uber Exif Photo
Make : Leica Camera AG
Camera Model Name : M9 Digital Camera
Software : 1.138
Modify Date : 2011:02:12 10:33:57
Exposure Time : 1/250
F Number : 13.0
Exposure Program : Aperture-priority AE
ISO : 160
Sensitivity Type : Unknown
Date/Time Original : 2011:02:12 08:42:38
Create Date : 2011:02:12 08:42:38
Shutter Speed Value : 1/250
Aperture Value : 13.0
Exposure Compensation : 0
Max Aperture Value : 2.8
Metering Mode : Center-weighted average
Light Source : Unknown
Focal Length : 24.0 mm
Contrast : Normal
Sharpening : Normal
Saturation : Normal
White Balance : Auto
JPEG Quality : Fine
WB RGB Levels : 0.4460537421 1 0.7565920111
User Profile : Profile 1
JPEG Size : 5216x3472
Firmware Version : 1.138
Base ISO : 160
Sensor Width : 5270
Sensor Height : 3516
Sensor Bit Depth : 14
Camera Temperature : 10 C
Lens Type : Elmarit-M 24mm f/2.8 ASPH.
Approximate F Number : 7.5
Measured LV : 4.86
External Sensor Brightness Value : 6.63
Scene Type : Directly photographed
Exposure Mode : Manual
Digital Zoom Ratio : 0
Focal Length In 35mm Format : 24 mm
Scene Capture Type : Standard
Serial Number : 3971291
Lens Model : Leica Elmarit-M 24mm f/2.8 ASPH.
Maker Note Safety : Safe
Profile Description : sRGB IEC61966-2.1
Date/Time Digitized : 2011:02:12 08:42:38+01:00
Exif Image Width : 5212
Exif Image Height : 3468
Creator Tool : Adobe Photoshop Lightroom 3.3
Lens : Leica Elmarit-M 24mm f/2.8 ASPH.
Version : 6.3
Process Version : 5.7
Color Temperature : 4950
Tint : +11
Exposure : 0.00
Shadows : 7
Brightness : +81
Sharpness : 114
Luminance Smoothing : 100
Color Noise Reduction : 100
Chromatic Aberration R : 0
Chromatic Aberration B : 0
Vignette Amount : 0
Shadow Tint : 0
Red Hue : 0
Red Saturation : 0
Green Hue : 0
Green Saturation : 0
Blue Hue : 0
Blue Saturation : 0
Fill Light : 0
Vibrance : +100
Highlight Recovery : 4
Clarity : -49
Defringe : 0
Hue Adjustment Red : 0
Hue Adjustment Orange : 0
Hue Adjustment Yellow : 0
Hue Adjustment Green : 0
Hue Adjustment Aqua : 0
Hue Adjustment Blue : 0
Hue Adjustment Purple : 0
Hue Adjustment Magenta : 0
Saturation Adjustment Red : 0
Saturation Adjustment Orange : 0
Saturation Adjustment Yellow : 0
Saturation Adjustment Green : 0
Saturation Adjustment Aqua : 0
Saturation Adjustment Blue : 0
Saturation Adjustment Purple : 0
Saturation Adjustment Magenta : 0
Luminance Adjustment Red : 0
Luminance Adjustment Orange : 0
Luminance Adjustment Yellow : 0
Luminance Adjustment Green : 0
Luminance Adjustment Aqua : 0
Luminance Adjustment Blue : 0
Luminance Adjustment Purple : 0
Luminance Adjustment Magenta : 0
Split Toning Shadow Hue : 0
Split Toning Shadow Saturation : 0
Split Toning Highlight Hue : 0
Split Toning Highlight Saturation : 0
Split Toning Balance : 0
Parametric Shadows : 0
Parametric Darks : 0
Parametric Lights : 0
Parametric Highlights : 0
Parametric Shadow Split : 25
Parametric Midtone Split : 50
Parametric Highlight Split : 75
Sharpen Radius : +1.2
Sharpen Detail : 25
Sharpen Edge Masking : 76
Post Crop Vignette Amount : -29
Post Crop Vignette Midpoint : 76
Post Crop Vignette Feather : 81
Post Crop Vignette Roundness : 0
Post Crop Vignette Style : Highlight Priority
Post Crop Vignette Highlight Contrast : 0
Grain Amount : 0
Luminance Noise Reduction Detail : 50
Color Noise Reduction Detail : 50
Luminance Noise Reduction Contrast : 0
Lens Profile Enable : 0
Lens Manual Distortion Amount : 0
Perspective Vertical : 0
Perspective Horizontal : 0
Perspective Rotate : 0.0
Perspective Scale : 100
Convert To Grayscale : False
Tone Curve Name : Medium Contrast
Camera Profile : Adobe Standard
Lens Profile Setup : LensDefaults
Has Settings : True
Has Crop : False
Already Applied : True
Flash Fired : False
Flash Return : No return detection
Flash Mode : Unknown
Flash Function : False
Flash Red Eye Mode : False
Tone Curve : 0, 0, 32, 22, 64, 56, 128, 128, 192, 196, 255, 255
Image Width : 300
Image Height : 200
Bits Per Sample : 8
Color Components : 3
Aperture : 13.0
Blue Balance : 0.756592
Image Size : 300x200
Lens ID : Leica Elmarit-M 24mm f/2.8 ASPH.
Megapixels : 0.060
Red Balance : 0.446054
Scale Factor To 35 mm Equivalent : 1.0
Shutter Speed : 1/250
Flash : No Flash
Circle Of Confusion : 0.030 mm
Field Of View : 73.7 deg
Focal Length : 24.0 mm (35 mm equivalent: 24.0 mm)
Hyperfocal Distance : 1.47 m
Light Value : 14.7