Uber Exif Photo
Make : Leica Camera AG
Camera Model Name : M9 Digital Camera
Software : 1.138
Modify Date : 2011:02:06 10:12:48
Exposure Time : 1/60
F Number : 4.0
Exposure Program : Aperture-priority AE
ISO : 640
Sensitivity Type : Unknown
Date/Time Original : 2011:02:06 09:53:43
Create Date : 2011:02:06 09:53:43
Shutter Speed Value : 1/60
Aperture Value : 4.0
Exposure Compensation : 0
Max Aperture Value : 2.0
Metering Mode : Center-weighted average
Light Source : Unknown
Focal Length : 50.0 mm
Contrast : Normal
Sharpening : Normal
Saturation : Normal
White Balance : Auto
JPEG Quality : Fine
WB RGB Levels : 0.5114885115 1 0.8405930942
User Profile : Profile 1
JPEG Size : 5216x3472
Firmware Version : 1.138
Base ISO : 160
Sensor Width : 5270
Sensor Height : 3516
Sensor Bit Depth : 14
Camera Temperature : 17 C
Lens Type : Summicron-M 50mm f/2 (IV, V)
Approximate F Number : 4.0
Measured LV : 2.21
External Sensor Brightness Value : 1.44
Scene Type : Directly photographed
Exposure Mode : Manual
Digital Zoom Ratio : 0
Focal Length In 35mm Format : 50 mm
Scene Capture Type : Standard
Serial Number : 3971291
Lens Model : Leica Summicron-M 50mm f/2 (IV, V)
Maker Note Safety : Safe
Date/Time Digitized : 2011:02:06 09:53:43+01:00
Exif Image Width : 1776
Exif Image Height : 2669
Creator Tool : Adobe Photoshop Lightroom 3.3
Lens : Leica Summicron-M 50mm f/2 (IV, V)
Version : 6.3
Process Version : 5.7
Color Temperature : 4000
Tint : -105
Exposure : +0.76
Shadows : 56
Brightness : +21
Sharpness : 10
Luminance Smoothing : 0
Color Noise Reduction : 10
Chromatic Aberration R : 0
Chromatic Aberration B : 0
Vignette Amount : 0
Shadow Tint : 0
Red Hue : 0
Red Saturation : 0
Green Hue : 0
Green Saturation : 0
Blue Hue : 0
Blue Saturation : 0
Fill Light : 25
Vibrance : 0
Highlight Recovery : 16
Clarity : 0
Defringe : 0
Hue Adjustment Red : 0
Hue Adjustment Orange : 0
Hue Adjustment Yellow : 0
Hue Adjustment Green : 0
Hue Adjustment Aqua : 0
Hue Adjustment Blue : 0
Hue Adjustment Purple : 0
Hue Adjustment Magenta : 0
Saturation Adjustment Red : -7
Saturation Adjustment Orange : -10
Saturation Adjustment Yellow : 0
Saturation Adjustment Green : 0
Saturation Adjustment Aqua : 0
Saturation Adjustment Blue : 0
Saturation Adjustment Purple : 0
Saturation Adjustment Magenta : 0
Luminance Adjustment Red : 0
Luminance Adjustment Orange : 0
Luminance Adjustment Yellow : 0
Luminance Adjustment Green : 0
Luminance Adjustment Aqua : 0
Luminance Adjustment Blue : 0
Luminance Adjustment Purple : 0
Luminance Adjustment Magenta : 0
Split Toning Shadow Hue : 0
Split Toning Shadow Saturation : 0
Split Toning Highlight Hue : 0
Split Toning Highlight Saturation : 0
Split Toning Balance : 0
Parametric Shadows : +33
Parametric Darks : -24
Parametric Lights : -3
Parametric Highlights : +49
Parametric Shadow Split : 25
Parametric Midtone Split : 50
Parametric Highlight Split : 75
Sharpen Radius : +1.0
Sharpen Detail : 25
Sharpen Edge Masking : 0
Post Crop Vignette Amount : 0
Grain Amount : 0
Color Noise Reduction Detail : 50
Lens Profile Enable : 0
Lens Manual Distortion Amount : 0
Perspective Vertical : 0
Perspective Horizontal : 0
Perspective Rotate : 0.0
Perspective Scale : 100
Convert To Grayscale : False
Tone Curve Name : Medium Contrast
Camera Profile : Adobe Standard
Lens Profile Setup : LensDefaults
Has Settings : True
Crop Top : 0.214468
Crop Left : 0.3017
Crop Bottom : 0.98972
Crop Right : 0.636762
Crop Angle : 0.633803
Crop Constrain To Warp : 0
Crop Width : 1776
Crop Height : 2669
Crop Unit : pixels
Has Crop : True
Already Applied : True
Flash Fired : False
Flash Return : No return detection
Flash Mode : Unknown
Flash Function : False
Flash Red Eye Mode : False
Tone Curve : 0, 0, 32, 22, 64, 56, 128, 128, 192, 196, 255, 255
Image Width : 200
Image Height : 300
Bits Per Sample : 8
Color Components : 1
Aperture : 4.0
Blue Balance : 0.840593
Image Size : 200x300
Lens ID : Leica Summicron-M 50mm f/2 (IV, V)
Megapixels : 0.060
Red Balance : 0.511489
Scale Factor To 35 mm Equivalent : 1.0
Shutter Speed : 1/60
Flash : No Flash
Circle Of Confusion : 0.030 mm
Field Of View : 39.6 deg
Focal Length : 50.0 mm (35 mm equivalent: 50.0 mm)
Hyperfocal Distance : 20.80 m
Light Value : 7.2