Uber Exif Photo
Make : LEICA CAMERA AG
Camera Model Name : LEICA X1
Software : QuickTime 7.6.6
Modify Date : 2010:12:27 00:23:10
Exposure Time : 1/125
F Number : 4.0
Exposure Program : Program AE
ISO : 100
Sensitivity Type : Unknown
Date/Time Original : 2010:12:26 14:53:21
Create Date : 2010:12:26 14:53:21
Shutter Speed Value : 1/125
Aperture Value : 4.0
Exposure Compensation : 0
Max Aperture Value : 2.8
Metering Mode : Multi-segment
Light Source : Unknown
Focal Length : 24.0 mm
Sensing Method : One-chip color area
Custom Rendered : Normal
White Balance : Auto
Digital Zoom Ratio : 1
Focal Length In 35mm Format : 35 mm
Scene Capture Type : Landscape
Contrast : Normal
Saturation : Normal
Sharpness : Normal
Profile Description : sRGB IEC61966-2.1
Date/Time Digitized : 2010:12:26 14:53:21+01:00
Exif Image Width : 2200
Exif Image Height : 2099
Creator Tool : Adobe Photoshop Lightroom 3.3
Version : 6.3
Process Version : 5.7
Incremental Temperature : 0
Incremental Tint : 0
Exposure : 0.00
Shadows : 5
Brightness : +50
Luminance Smoothing : 0
Color Noise Reduction : 16
Chromatic Aberration R : 0
Chromatic Aberration B : 0
Vignette Amount : -100
Vignette Midpoint : 23
Shadow Tint : 0
Red Hue : 0
Red Saturation : 0
Green Hue : 0
Green Saturation : 0
Blue Hue : 0
Blue Saturation : 0
Fill Light : 1
Highlight Recovery : 0
Clarity : -3
Defringe : 0
Gray Mixer Red : -6
Gray Mixer Orange : -14
Gray Mixer Yellow : -18
Gray Mixer Green : -24
Gray Mixer Aqua : -20
Gray Mixer Blue : +6
Gray Mixer Purple : +13
Gray Mixer Magenta : +5
Split Toning Shadow Hue : 0
Split Toning Shadow Saturation : 0
Split Toning Highlight Hue : 52
Split Toning Highlight Saturation : 10
Split Toning Balance : 0
Parametric Shadows : +52
Parametric Darks : +3
Parametric Lights : +39
Parametric Highlights : -42
Parametric Shadow Split : 21
Parametric Midtone Split : 35
Parametric Highlight Split : 49
Sharpen Radius : +1.0
Sharpen Detail : 25
Sharpen Edge Masking : 0
Post Crop Vignette Amount : 0
Grain Amount : 0
Color Noise Reduction Detail : 50
Lens Profile Enable : 0
Lens Manual Distortion Amount : 0
Perspective Vertical : 0
Perspective Horizontal : 0
Perspective Rotate : 0.0
Perspective Scale : 100
Convert To Grayscale : True
Tone Curve Name : Medium Contrast
Camera Profile : ACR 4.4
Lens Profile Setup : LensDefaults
Has Settings : True
Crop Top : 0
Crop Left : 0.149826
Crop Bottom : 1
Crop Right : 0.850174
Crop Angle : 0
Crop Constrain To Warp : 0
Crop Width : 2200
Crop Height : 2099
Crop Unit : pixels
Has Crop : True
Already Applied : True
Flash Fired : False
Flash Return : No return detection
Flash Mode : Off
Flash Function : False
Flash Red Eye Mode : False
Tone Curve : 0, 0, 32, 22, 64, 56, 128, 128, 192, 196, 255, 255
Image Width : 300
Image Height : 286
Bits Per Sample : 8
Color Components : 3
Aperture : 4.0
Image Size : 300x286
Megapixels : 0.086
Scale Factor To 35 mm Equivalent : 1.5
Shutter Speed : 1/125
Flash : Off, Did not fire
Circle Of Confusion : 0.021 mm
Field Of View : 54.4 deg
Focal Length : 24.0 mm (35 mm equivalent: 35.0 mm)
Hyperfocal Distance : 6.99 m
Light Value : 11.0