Uber Exif Photo
Make : Leica Camera AG
Camera Model Name : M8 Digital Camera
Software : 2.005
Modify Date : 2010:09:14 20:21:34
Exposure Time : 1/60
F Number : 2.8
Exposure Program : Aperture-priority AE
ISO : 640
Date/Time Original : 2010:09:14 20:02:04
Create Date : 2010:09:14 20:02:04
Shutter Speed Value : 1/60
Aperture Value : 2.8
Exposure Compensation : +65536
Max Aperture Value : 2.8
Metering Mode : Center-weighted average
Light Source : Unknown
Focal Length : 28.0 mm
Scene Type : Directly photographed
Custom Rendered : Normal
White Balance : Auto
Scene Capture Type : Standard
Contrast : Normal
Saturation : High
Sharpness : Normal
Profile Description : sRGB IEC61966-2.1
Date/Time Digitized : 2010:09:14 20:02:04+02:00
Exif Image Width : 3936
Exif Image Height : 2624
Creator Tool : Adobe Photoshop Lightroom
Lens : Leica Elmarit-M 28mm f/2.8 ASPH.
Version : 5.7
Incremental Temperature : 0
Incremental Tint : +1
Exposure : 0.00
Shadows : 0
Brightness : 0
Luminance Smoothing : 100
Color Noise Reduction : 0
Chromatic Aberration R : 0
Chromatic Aberration B : 0
Vignette Amount : 0
Shadow Tint : 0
Red Hue : 0
Red Saturation : 0
Green Hue : 0
Green Saturation : 0
Blue Hue : 0
Blue Saturation : 0
Fill Light : 0
Vibrance : +52
Highlight Recovery : 0
Clarity : 0
Defringe : 0
Hue Adjustment Red : -24
Hue Adjustment Orange : 0
Hue Adjustment Yellow : 0
Hue Adjustment Green : 0
Hue Adjustment Aqua : 0
Hue Adjustment Blue : 0
Hue Adjustment Purple : 0
Hue Adjustment Magenta : 0
Saturation Adjustment Red : +14
Saturation Adjustment Orange : +33
Saturation Adjustment Yellow : -8
Saturation Adjustment Green : 0
Saturation Adjustment Aqua : 0
Saturation Adjustment Blue : 0
Saturation Adjustment Purple : +33
Saturation Adjustment Magenta : +66
Luminance Adjustment Red : +99
Luminance Adjustment Orange : 0
Luminance Adjustment Yellow : 0
Luminance Adjustment Green : 0
Luminance Adjustment Aqua : 0
Luminance Adjustment Blue : 0
Luminance Adjustment Purple : 0
Luminance Adjustment Magenta : 0
Split Toning Shadow Hue : 0
Split Toning Shadow Saturation : 0
Split Toning Highlight Hue : 0
Split Toning Highlight Saturation : 0
Split Toning Balance : 0
Parametric Shadows : -30
Parametric Darks : -15
Parametric Lights : +15
Parametric Highlights : +8
Parametric Shadow Split : 25
Parametric Midtone Split : 50
Parametric Highlight Split : 75
Sharpen Radius : +1.0
Sharpen Detail : 25
Sharpen Edge Masking : 0
Post Crop Vignette Amount : 0
Convert To Grayscale : False
Tone Curve Name : Medium Contrast
Camera Profile : Embedded
Has Settings : True
Has Crop : False
Already Applied : True
Flash Fired : False
Flash Return : No return detection
Flash Mode : Auto
Flash Function : False
Flash Red Eye Mode : False
Tone Curve : 0, 0, 32, 22, 64, 56, 128, 128, 192, 196, 255, 255
Paint Correction What : Correction
Paint Correction Amount : 1.000000
Paint Correction Active : true
Paint Correction Exposure : -0.142857
Paint Correction Saturation : 0.875000
Paint Correction Contrast : 0.285714
Paint Correction Clarity : 0.000000
Paint Correction Sharpness : 0.000000
Paint Correction Brightness : -0.267857
Paint Correction Toning Hue : 352.000000
Paint Correction Toning Saturation : 0.890000
Paint Correction Mask What : Mask/Paint
Paint Correction Mask Value : 1.000000
Paint Correction Mask Radius : 0.174683
Paint Correction Mask Flow : 1.000000
Paint Correction Mask Center Weight : 0.000000
Image Width : 300
Image Height : 200
Bits Per Sample : 8
Color Components : 3
Aperture : 2.8
Image Size : 300x200
Megapixels : 0.060
Shutter Speed : 1/60
Flash : Auto, Did not fire
Light Value : 6.2
Lens ID : Elmarit-M 28mm f/2.8 ASPH.