Uber Exif Photo
Make : Leica Camera AG
Camera Model Name : M8 Digital Camera
Software : QuickTime 7.6.6
Modify Date : 2010:10:04 22:32:24
Exposure Time : 1/45
Exposure Program : Aperture-priority AE
ISO : 320
Date/Time Original : 2010:10:03 18:51:52
Create Date : 2010:10:03 18:51:52
Shutter Speed Value : 1/45
Exposure Compensation : 0
Max Aperture Value : 2.8
Metering Mode : Center-weighted average
Light Source : Unknown
Focal Length : 28.0 mm
Custom Rendered : Normal
White Balance : Auto
Scene Capture Type : Standard
Contrast : Normal
Saturation : High
Sharpness : Normal
Profile Description : sRGB IEC61966-2.1
Date/Time Digitized : 2010:10:03 18:51:52+02:00
Exif Image Width : 2624
Exif Image Height : 3936
Creator Tool : Adobe Photoshop Lightroom
Version : 5.7
Incremental Temperature : -2
Incremental Tint : -11
Exposure : 0.00
Shadows : 15
Brightness : +50
Luminance Smoothing : 15
Color Noise Reduction : 25
Chromatic Aberration R : 0
Chromatic Aberration B : 0
Vignette Amount : -14
Vignette Midpoint : 64
Shadow Tint : -60
Red Hue : +100
Red Saturation : -79
Green Hue : +100
Green Saturation : +100
Blue Hue : -100
Blue Saturation : +100
Fill Light : 63
Vibrance : -29
Highlight Recovery : 100
Clarity : 0
Defringe : 2
Hue Adjustment Red : +19
Hue Adjustment Orange : 0
Hue Adjustment Yellow : 0
Hue Adjustment Green : 0
Hue Adjustment Aqua : +100
Hue Adjustment Blue : 0
Hue Adjustment Purple : 0
Hue Adjustment Magenta : 0
Saturation Adjustment Red : -100
Saturation Adjustment Orange : -69
Saturation Adjustment Yellow : -74
Saturation Adjustment Green : -67
Saturation Adjustment Aqua : -100
Saturation Adjustment Blue : -74
Saturation Adjustment Purple : -100
Saturation Adjustment Magenta : -100
Luminance Adjustment Red : 0
Luminance Adjustment Orange : +10
Luminance Adjustment Yellow : +10
Luminance Adjustment Green : +10
Luminance Adjustment Aqua : +19
Luminance Adjustment Blue : +67
Luminance Adjustment Purple : 0
Luminance Adjustment Magenta : 0
Split Toning Shadow Hue : 43
Split Toning Shadow Saturation : 5
Split Toning Highlight Hue : 51
Split Toning Highlight Saturation : 29
Split Toning Balance : 0
Parametric Shadows : -21
Parametric Darks : 0
Parametric Lights : +39
Parametric Highlights : 0
Parametric Shadow Split : 25
Parametric Midtone Split : 50
Parametric Highlight Split : 75
Sharpen Radius : +1.0
Sharpen Detail : 25
Sharpen Edge Masking : 0
Post Crop Vignette Amount : 0
Convert To Grayscale : False
Tone Curve Name : Medium Contrast
Camera Profile : ACR 3.4
Has Settings : True
Has Crop : False
Already Applied : True
Flash Fired : False
Flash Return : No return detection
Flash Mode : Auto
Flash Function : False
Flash Red Eye Mode : False
Tone Curve : 0, 0, 32, 22, 64, 56, 128, 128, 192, 196, 255, 255
Image Width : 200
Image Height : 300
Bits Per Sample : 8
Color Components : 3
Image Size : 200x300
Megapixels : 0.060
Shutter Speed : 1/45
Flash : Auto, Did not fire