Uber Exif Photo
Province-State : Georgia
Country-Primary Location Name : USA
Country-Primary Location Code : USA
Keywords : snow, weather, cold, ice, walk, neighborhood, Decatur, Decatur Square
By-line : Louie Favorite
Caption-Abstract : January 16, 2022 - Decatur, Georgia..Our walk home in the snow after dinner.
Special Instructions : original LF4_7127
Copyright Notice : ©2022 Louie Favorite, Atlanta, GA
Copyright Flag : True
URL : louiefavorite.com
Make : Leica Camera AG
Camera Model Name : LEICA M10
Orientation : Horizontal (normal)
Software : Adobe Photoshop 22.5 (Macintosh)
Modify Date : 2022:01:16 14:24:11
Artist : Louie Favorite
Copyright : ©2022 Louie Favorite, Atlanta, GA
Exposure Time : 1/350
F Number : 2.8
Exposure Program : Manual
ISO : 400
Date/Time Original : 2022:01:16 13:42:33
Create Date : 2022:01:16 13:42:33
Shutter Speed Value : 1/350
Aperture Value : 3.4
Exposure Compensation : 0
Max Aperture Value : 1.4
Metering Mode : Multi-spot
Light Source : Unknown
Flash : No Flash
Focal Length : 35.0 mm
Color Space : Uncalibrated
Exif Image Width : 3000
Exif Image Height : 2000
Scene Type : Directly photographed
Custom Rendered : Normal
Exposure Mode : Manual
White Balance : Auto
Digital Zoom Ratio : 0
Scene Capture Type : Standard
Contrast : Normal
Saturation : Normal
Sharpness : Normal
Serial Number : 5230664
Lens Info : 35mm f/1.4
Lens Make : Leica Camera AG
Lens Model : Summilux-M 1:1.4/35 ASPH.
GPS Version ID : 2.2.0.0
Color Mode : RGB
ICC Profile Name : Adobe RGB (1998)
City : Decatur
State : Georgia
Country : USA
Instructions : original LF4_7127
Date Created : 2022:01:16 13:42:33
Creator Tool : 2.6.5.0
Label : Winner
Rating : 0
Lens : Summilux-M 1:1.4/35 ASPH.
Approximate Focus Distance : 0.84
Distortion Correction Already Applied : True
Lateral Chromatic Aberration Correction Already Applied : True
Image Number : 7127
Format : image/jpeg
Version : 13.3
Process Version : 11.0
Color Temperature : 5850
Tint : +11
Exposure 2012 : +0.15
Contrast 2012 : 0
Highlights 2012 : -49
Shadows 2012 : +37
Whites 2012 : -16
Blacks 2012 : -10
Texture : 0
Clarity 2012 : +6
Dehaze : +14
Vibrance : 0
Parametric Shadows : 0
Parametric Darks : 0
Parametric Lights : 0
Parametric Highlights : 0
Parametric Shadow Split : 25
Parametric Midtone Split : 50
Parametric Highlight Split : 75
Sharpen Radius : +1.0
Sharpen Detail : 25
Sharpen Edge Masking : 0
Luminance Smoothing : 10
Luminance Noise Reduction Detail : 50
Luminance Noise Reduction Contrast : 0
Color Noise Reduction : 25
Color Noise Reduction Detail : 50
Color Noise Reduction Smoothness : 50
Hue Adjustment Red : 0
Hue Adjustment Orange : 0
Hue Adjustment Yellow : 0
Hue Adjustment Green : 0
Hue Adjustment Aqua : 0
Hue Adjustment Blue : 0
Hue Adjustment Purple : 0
Hue Adjustment Magenta : 0
Saturation Adjustment Red : 0
Saturation Adjustment Orange : 0
Saturation Adjustment Yellow : 0
Saturation Adjustment Green : 0
Saturation Adjustment Aqua : 0
Saturation Adjustment Blue : 0
Saturation Adjustment Purple : 0
Saturation Adjustment Magenta : 0
Luminance Adjustment Red : 0
Luminance Adjustment Orange : 0
Luminance Adjustment Yellow : 0
Luminance Adjustment Green : 0
Luminance Adjustment Aqua : 0
Luminance Adjustment Blue : 0
Luminance Adjustment Purple : 0
Luminance Adjustment Magenta : 0
Split Toning Shadow Hue : 0
Split Toning Shadow Saturation : 0
Split Toning Highlight Hue : 0
Split Toning Highlight Saturation : 0
Split Toning Balance : 0
Color Grade Midtone Hue : 0
Color Grade Midtone Sat : 0
Color Grade Shadow Lum : 0
Color Grade Midtone Lum : 0
Color Grade Highlight Lum : 0
Color Grade Blending : 50
Color Grade Global Hue : 0
Color Grade Global Sat : 0
Color Grade Global Lum : 0
Auto Lateral CA : 1
Lens Profile Enable : 1
Lens Manual Distortion Amount : 0
Vignette Amount : 0
Defringe Purple Amount : 0
Defringe Purple Hue Lo : 30
Defringe Purple Hue Hi : 70
Defringe Green Amount : 0
Defringe Green Hue Lo : 40
Defringe Green Hue Hi : 60
Perspective Upright : Off
Perspective Vertical : 0
Perspective Horizontal : 0
Perspective Rotate : 0.0
Perspective Aspect : 0
Perspective Scale : 100
Perspective X : 0.00
Perspective Y : 0.00
Grain Amount : 0
Post Crop Vignette Amount : 0
Shadow Tint : 0
Red Hue : 0
Red Saturation : 0
Green Hue : 0
Green Saturation : 0
Blue Hue : 0
Blue Saturation : 0
Override Look Vignette : False
Tone Curve Name 2012 : Linear
Camera Profile : Adobe Standard
Lens Profile Setup : LensDefaults
Lens Profile Name : Adobe (Leica SUMMILUX-M 35 mm f/1.4 ASPH.)
Lens Profile Filename : Leica Camera AG (Leica SUMMILUX-M 35 mm f1.4 ASPH.) - RAW.lcp
Lens Profile Is Embedded : False
Lens Profile Distortion Scale : 100
Lens Profile Vignetting Scale : 100
Has Settings : True
Already Applied : True
Marked : True
Web Statement : louiefavorite.com
Country Code : USA
Color Class : 1 (Winner)
Tagged : No
Prefs : Tagged:0, ColorClass:1, Rating:0, FrameNum:007127
PM Version : PM6
Supplemental Categories : LEICA M10, lens=35, fstop=3.4, shutter=1/360, ASA=400
Subject : snow, weather, cold, ice, walk, neighborhood, Decatur, Decatur Square
Description : January 16, 2022 - Decatur, Georgia..Our walk home in the snow after dinner.
Creator : Louie Favorite
Rights : ©2022 Louie Favorite, Atlanta, GA
Tone Curve PV2012 : 0, 0, 255, 255
Tone Curve PV2012 Red : 0, 0, 255, 255
Tone Curve PV2012 Green : 0, 0, 255, 255
Tone Curve PV2012 Blue : 0, 0, 255, 255
Look Name : Adobe Color
Look Amount : 1.000000
Look Supports Amount : false
Look Supports Monochrome : false
Look Supports Output Referred : false
Look Copyright : © 2018 Adobe Systems, Inc.
Look Group : Profiles
Look Parameters Version : 13.3
Look Parameters Process Version : 11.0
Look Parameters Convert To Grayscale : False
Look Parameters Camera Profile : Adobe Standard
Look Parameters Look Table : E1095149FDB39D7A057BAB208837E2E1
Look Parameters Tone Curve PV2012 : 0, 0, 22, 16, 40, 35, 127, 127, 224, 230, 240, 246, 255, 255
Look Parameters Tone Curve PV2012 Red : 0, 0, 255, 255
Look Parameters Tone Curve PV2012 Green : 0, 0, 255, 255
Look Parameters Tone Curve PV2012 Blue : 0, 0, 255, 255
Usage Terms : ©2022 Louie Favorite, Atlanta, GA
Creator City : Decatur
Creator Region : Georgia
Creator Postal Code : 30030
Creator Country : United States
Creator Work Email : lfavorite@mac.com
Location Created Sublocation : Location Created City : Decatur
Location Created Province State : Georgia
Location Created Country Name : USA
Location Created Country Code : USA
Location Created World Region : Location Shown Sublocation : 122
Location Shown City : Decatur
Location Shown Province State : Georgia
Location Shown Country Name : USA
Location Shown Country Code : USA
Location Shown World Region : Image Width : 400
Image Height : 267
Bits Per Sample : 8
Color Components : 3
Aperture : 2.8
Image Size : 400x267
Megapixels : 0.107
Scale Factor To 35 mm Equivalent : 2.0
Shutter Speed : 1/350
GPS Latitude : 33 deg 46' 21.00" N
GPS Longitude : 84 deg 17' 33.66" W
GPS Latitude Ref : North
GPS Longitude Ref : West
Circle Of Confusion : 0.015 mm
Depth Of Field : 0.05 m (0.82 - 0.86 m)
Field Of View : 29.1 deg
Focal Length : 35.0 mm (35 mm equivalent: 69.4 mm)
GPS Position : 33 deg 46' 21.00" N, 84 deg 17' 33.66" W
Hyperfocal Distance : 28.89 m
Light Value : 9.4
Lens ID : Summilux-M 1:1.4/35 ASPH.