Uber Exif Photo
Province-State : Georgia
Country-Primary Location Name : USA
Country-Primary Location Code : USA
Object Name : ladder
Keywords : Decatur, neighborhood, 21mm, Leica, night, dark, available light, scaffold, construction, ladder
By-line : Louie Favorite
Writer-Editor : LF
Caption-Abstract : February 9, 2022 - Decatur, Georgia
Special Instructions : shutter=
Copyright Notice : ©2021 Louie Favorite, Atlanta, Georgia, USA
Copyright Flag : True
Make : Leica Camera AG
Camera Model Name : LEICA M10
Orientation : Horizontal (normal)
Software : Adobe Photoshop 22.5 (Macintosh)
Modify Date : 2022:02:09 18:55:22
Artist : Louie Favorite
Exposure Time : 1/350
F Number : 2.8
Exposure Program : Aperture-priority AE
ISO : 1600
Date/Time Original : 2022:02:09 18:32:08
Create Date : 2022:02:09 18:32:08
Shutter Speed Value : 1/350
Aperture Value : 2.4
Exposure Compensation : -0.333
Max Aperture Value : 1.0
Metering Mode : Multi-spot
Light Source : Unknown
Flash : No Flash
Color Space : Uncalibrated
Exif Image Width : 3000
Exif Image Height : 2000
Scene Type : Directly photographed
Custom Rendered : Normal
Exposure Mode : Auto
White Balance : Auto
Digital Zoom Ratio : 0
Scene Capture Type : Standard
Contrast : Normal
Saturation : Normal
Sharpness : Normal
Serial Number : 5230664
Lens Make : Leica Camera AG
Lens Model : Leica 21mm F/2.8 Elmarit
GPS Version ID : 2.2.0.0
GPS Altitude Ref : Above Sea Level
GPS Time Stamp : 23:33:13
GPS Status : Measurement Active
GPS Date Stamp : 2022:02:09
Country Code : USA
Creator City : Atlanta
Creator Country : United States
Creator Postal Code : 30030
Creator Region : Georgia
Creator Work Email : lfavorite@mac.com
Creator Work Telephone : 1+ 404-422-5511
Creator Work URL : louiefavorite.com
Approximate Focus Distance : 4
Image Number : 7458
Lateral Chromatic Aberration Correction Already Applied : True
Lens : Leica 21mm F/2.8 Elmarit
Creator : Louie Favorite
Description : February 9, 2022 - Decatur, Georgia
Format : image/jpeg
Rights : ©2021 Louie Favorite, Atlanta, Georgia, USA
Subject : Decatur, neighborhood, 21mm, Leica, night, dark, available light, scaffold, construction, ladder
Title : ladder
Color Class : 0 (None)
PM Version : PM6
Prefs : Tagged:1, ColorClass:0, Rating:0, FrameNum:007458
Tagged : Yes
Caption Writer : LF
City : Decatur
Color Mode : RGB
Country : USA
Date Created : 2022:02:09 18:32:08
ICC Profile Name : Adobe RGB (1998)
Instructions : shutter=
Source : Leica Camera AG,
State : Georgia
Supplemental Categories : serial #5230664
Urgency : 5 (normal urgency)
Creator Tool : 2.6.5.0
Rating : 0
Marked : True
Usage Terms : ©2021 Louie Favorite, Atlanta, Georgia, USA
Web Statement : louiefavorite.com
Already Applied : True
Auto Lateral CA : 1
Blacks 2012 : 0
Blue Hue : 0
Blue Saturation : 0
Camera Profile : Adobe Standard
Clarity 2012 : +36
Color Grade Blending : 50
Color Grade Global Hue : 0
Color Grade Global Lum : 0
Color Grade Global Sat : 0
Color Grade Highlight Lum : 0
Color Grade Midtone Hue : 0
Color Grade Midtone Lum : 0
Color Grade Midtone Sat : 0
Color Grade Shadow Lum : 0
Color Noise Reduction : 25
Color Noise Reduction Detail : 50
Color Noise Reduction Smoothness : 50
Contrast 2012 : 0
Defringe Green Amount : 0
Defringe Green Hue Hi : 60
Defringe Green Hue Lo : 40
Defringe Purple Amount : 0
Defringe Purple Hue Hi : 70
Defringe Purple Hue Lo : 30
Dehaze : +26
Exposure 2012 : 0.00
Grain Amount : 0
Green Hue : 0
Green Saturation : 0
Has Settings : True
Highlights 2012 : -10
Hue Adjustment Aqua : 0
Hue Adjustment Blue : 0
Hue Adjustment Green : 0
Hue Adjustment Magenta : 0
Hue Adjustment Orange : 0
Hue Adjustment Purple : 0
Hue Adjustment Red : 0
Hue Adjustment Yellow : 0
Lens Manual Distortion Amount : 0
Lens Profile Enable : 1
Lens Profile Setup : LensDefaults
Look Amount : 1.000000
Look Copyright : © 2018 Adobe Systems, Inc.
Look Group : Profiles
Look Name : Adobe Color
Look Parameters Camera Profile : Adobe Standard
Look Parameters Convert To Grayscale : False
Look Parameters Look Table : E1095149FDB39D7A057BAB208837E2E1
Look Parameters Process Version : 11.0
Look Parameters Tone Curve PV2012 : 0, 0, 22, 16, 40, 35, 127, 127, 224, 230, 240, 246, 255, 255
Look Parameters Tone Curve PV2012 Blue : 0, 0, 255, 255
Look Parameters Tone Curve PV2012 Green : 0, 0, 255, 255
Look Parameters Tone Curve PV2012 Red : 0, 0, 255, 255
Look Parameters Version : 13.3
Look Supports Amount : false
Look Supports Monochrome : false
Look Supports Output Referred : false
Luminance Adjustment Aqua : 0
Luminance Adjustment Blue : 0
Luminance Adjustment Green : 0
Luminance Adjustment Magenta : 0
Luminance Adjustment Orange : 0
Luminance Adjustment Purple : 0
Luminance Adjustment Red : 0
Luminance Adjustment Yellow : 0
Luminance Noise Reduction Contrast : 0
Luminance Noise Reduction Detail : 50
Luminance Smoothing : 20
Override Look Vignette : False
Parametric Darks : 0
Parametric Highlight Split : 75
Parametric Highlights : 0
Parametric Lights : 0
Parametric Midtone Split : 50
Parametric Shadow Split : 25
Parametric Shadows : 0
Perspective Aspect : 0
Perspective Horizontal : 0
Perspective Rotate : 0.0
Perspective Scale : 100
Perspective Upright : Off
Perspective Vertical : 0
Perspective X : 0.00
Perspective Y : 0.00
Post Crop Vignette Amount : 0
Process Version : 11.0
Red Hue : 0
Red Saturation : 0
Saturation Adjustment Aqua : 0
Saturation Adjustment Blue : 0
Saturation Adjustment Green : 0
Saturation Adjustment Magenta : 0
Saturation Adjustment Orange : 0
Saturation Adjustment Purple : 0
Saturation Adjustment Red : 0
Saturation Adjustment Yellow : 0
Shadow Tint : 0
Shadows 2012 : 0
Sharpen Detail : 25
Sharpen Edge Masking : 0
Sharpen Radius : +1.0
Split Toning Balance : 0
Split Toning Highlight Hue : 0
Split Toning Highlight Saturation : 0
Split Toning Shadow Hue : 0
Split Toning Shadow Saturation : 0
Color Temperature : 7450
Texture : 0
Tint : +4
Tone Curve Name 2012 : Linear
Tone Curve PV2012 : 0, 0, 255, 255
Tone Curve PV2012 Blue : 0, 0, 255, 255
Tone Curve PV2012 Green : 0, 0, 255, 255
Tone Curve PV2012 Red : 0, 0, 255, 255
Version : 13.3
Vibrance : 0
Vignette Amount : 0
Whites 2012 : 0
Image Width : 400
Image Height : 267
Bits Per Sample : 8
Color Components : 3
Aperture : 2.8
Image Size : 400x267
Megapixels : 0.107
Scale Factor To 35 mm Equivalent : 2.0
Shutter Speed : 1/350
GPS Altitude : 326.3 m Above Sea Level
GPS Date/Time : 2022:02:09 23:33:13Z
GPS Latitude : 33 deg 46' 29.04" N
GPS Longitude : 84 deg 17' 46.02" W
GPS Latitude Ref : North
GPS Longitude Ref : West
Circle Of Confusion : 0.015 mm
GPS Position : 33 deg 46' 29.04" N, 84 deg 17' 46.02" W
Light Value : 7.4
Lens ID : Leica 21mm F/2.8 Elmarit