Uber Exif Photo
Province-State : New York
Country-Primary Location Name : United States
Country-Primary Location Code : USA
Object Name : LF4_4005
Keywords : New York, NYC, Manhattan, city, Gotham, street, Times Square, tourists, costume, crowd, lady, woman, child, boy
By-line : Louie Favorite
Writer-Editor : LF
Caption-Abstract : January 11, 2020 - New York City
Copyright Notice : ©2020 Louie Favorite, Atlanta, Georgia, USA
Copyright Flag : True
URL : louiefavorite.com
Image Description : January 11, 2020 - New York City
Make : Leica Camera AG
Camera Model Name : LEICA M10
Orientation : Horizontal (normal)
Modify Date : 2020:01:18 14:07:16
Artist : Louie Favorite
Copyright : ©2020 Louie Favorite, Atlanta, Georgia, USA
Exposure Time : 1/1500
F Number : 1.4
Exposure Program : Aperture-priority AE
ISO : 6400
Date/Time Original : 2020:01:11 19:05:44
Create Date : 2020:01:11 19:05:44
Shutter Speed Value : 1/1500
Aperture Value : 1.4
Exposure Compensation : 0
Max Aperture Value : 1.4
Metering Mode : Center-weighted average
Light Source : Unknown
Flash : No Flash
Focal Length : 35.0 mm
Color Space : Uncalibrated
Exif Image Width : 2000
Exif Image Height : 1333
Scene Type : Directly photographed
Custom Rendered : Normal
Exposure Mode : Auto
White Balance : Auto
Digital Zoom Ratio : 0
Scene Capture Type : Standard
Contrast : Normal
Saturation : Normal
Sharpness : Normal
Serial Number : 5230664
Lens Info : 35mm f/1.4
Lens Make : Leica Camera AG
Lens Model : Summilux-M 1:1.4/35 ASPH.
GPS Version ID : 2.2.0.0
Creator Tool : 2.6.5.0
Label : Superior alt
Rating : 1
Format : image/jpeg
Lens : Summilux-M 1:1.4/35 ASPH.
Approximate Focus Distance : 2.53
Distortion Correction Already Applied : True
Lateral Chromatic Aberration Correction Already Applied : True
Image Number : 4005
Color Mode : Grayscale
ICC Profile Name : Gray Gamma 2.2
City : New York City
State : New York
Country : United States
Source : Summilux-M 1:1.4/35 ASPH. Leica Camera AG,35, shutter=
Caption Writer : LF
Urgency : 5 (normal urgency)
Date Created : 2020:01:11 19:05:44
Version : 12.1
Process Version : 11.0
Color Temperature : 5700
Tint : -6
Luminance Smoothing : 25
Color Noise Reduction : 25
Vignette Amount : 0
Shadow Tint : 0
Red Hue : 0
Red Saturation : 0
Green Hue : 0
Green Saturation : 0
Blue Hue : 0
Blue Saturation : 0
Gray Mixer Red : 0
Gray Mixer Orange : 0
Gray Mixer Yellow : 0
Gray Mixer Green : 0
Gray Mixer Aqua : 0
Gray Mixer Blue : 0
Gray Mixer Purple : 0
Gray Mixer Magenta : 0
Split Toning Shadow Hue : 0
Split Toning Shadow Saturation : 0
Split Toning Highlight Hue : 0
Split Toning Highlight Saturation : 0
Split Toning Balance : 0
Parametric Shadows : 0
Parametric Darks : 0
Parametric Lights : 0
Parametric Highlights : 0
Parametric Shadow Split : 25
Parametric Midtone Split : 50
Parametric Highlight Split : 75
Sharpen Radius : +1.0
Sharpen Detail : 25
Sharpen Edge Masking : 0
Post Crop Vignette Amount : 0
Grain Amount : 0
Luminance Noise Reduction Detail : 50
Color Noise Reduction Detail : 50
Luminance Noise Reduction Contrast : 0
Color Noise Reduction Smoothness : 50
Lens Profile Enable : 1
Lens Manual Distortion Amount : 0
Perspective Vertical : 0
Perspective Horizontal : 0
Perspective Rotate : 0.0
Perspective Scale : 100
Perspective Aspect : 0
Perspective Upright : Off
Perspective X : 0.00
Perspective Y : 0.00
Auto Lateral CA : 1
Exposure 2012 : 0.00
Contrast 2012 : 0
Highlights 2012 : -71
Shadows 2012 : +38
Whites 2012 : -13
Blacks 2012 : -8
Clarity 2012 : +34
Dehaze : +21
Texture : +19
Tone Map Strength : 0
Convert To Grayscale : True
Override Look Vignette : False
Tone Curve Name : Medium Contrast
Tone Curve Name 2012 : Linear
Camera Profile : Adobe Standard
Lens Profile Setup : LensDefaults
Lens Profile Name : Adobe (Leica SUMMILUX-M 35 mm f/1.4 ASPH.)
Lens Profile Filename : Leica Camera AG (Leica SUMMILUX-M 35 mm f1.4 ASPH.) - RAW.lcp
Lens Profile Distortion Scale : 100
Lens Profile Chromatic Aberration Scale : 100
Lens Profile Vignetting Scale : 100
Has Settings : True
Already Applied : True
Marked : True
Web Statement : louiefavorite.com
Country Code : USA
Color Class : 4 (Superior alt)
Tagged : Yes
Prefs : Tagged:1, ColorClass:4, Rating:1, FrameNum:004005
PM Version : PM6
Subject : New York, NYC, Manhattan, city, Gotham, street, Times Square, tourists, costume, crowd, lady, woman, child, boy
Description : January 11, 2020 - New York City
Creator : Louie Favorite
Title : LF4_4005
Rights : ©2020 Louie Favorite, Atlanta, Georgia, USA
Supplemental Categories : serial #5230664
Tone Curve : 0, 0, 32, 22, 64, 56, 128, 128, 192, 196, 255, 255
Tone Curve Red : 0, 0, 255, 255
Tone Curve Green : 0, 0, 255, 255
Tone Curve Blue : 0, 0, 255, 255
Tone Curve PV2012 : 0, 0, 255, 255
Tone Curve PV2012 Red : 0, 0, 255, 255
Tone Curve PV2012 Green : 0, 0, 255, 255
Tone Curve PV2012 Blue : 0, 0, 255, 255
Look Name : Adobe Monochrome
Look Amount : 1.000000
Look Supports Amount : false
Look Supports Monochrome : false
Look Supports Output Referred : false
Look Copyright : © 2018 Adobe Systems, Inc.
Look Group : Profiles
Look Parameters Version : 12.1
Look Parameters Process Version : 11.0
Look Parameters Clarity 2012 : +8
Look Parameters Convert To Grayscale : True
Look Parameters Camera Profile : Adobe Standard
Look Parameters Look Table : 73ED6C18DDE909DD7EA2D771F5AC282D
Look Parameters Tone Curve PV2012 : 0, 0, 64, 56, 128, 128, 192, 197, 255, 255
Look Parameters Tone Curve PV2012 Red : 0, 0, 255, 255
Look Parameters Tone Curve PV2012 Green : 0, 0, 255, 255
Look Parameters Tone Curve PV2012 Blue : 0, 0, 255, 255
Usage Terms : ©2020 Louie Favorite, Atlanta, Georgia, USA
Creator City : Atlanta
Creator Region : Georgia
Creator Postal Code : 30030
Creator Country : United States
Creator Work Telephone : 1+ 404-422-5511
Creator Work Email : lfavorite@mac.com
Creator Work URL : louiefavorite.com
Image Width : 400
Image Height : 267
Bits Per Sample : 8
Color Components : 1
Aperture : 1.4
Image Size : 400x267
Megapixels : 0.107
Scale Factor To 35 mm Equivalent : 3.0
Shutter Speed : 1/1500
GPS Latitude : 40 deg 45' 33.12" N
GPS Longitude : 73 deg 59' 5.28" W
GPS Latitude Ref : North
GPS Longitude Ref : West
Circle Of Confusion : 0.010 mm
Depth Of Field : 0.15 m (2.46 - 2.60 m)
Field Of View : 19.6 deg
Focal Length : 35.0 mm (35 mm equivalent: 104.2 mm)
GPS Position : 40 deg 45' 33.12" N, 73 deg 59' 5.28" W
Hyperfocal Distance : 86.67 m
Light Value : 5.5
Lens ID : Summilux-M 1:1.4/35 ASPH.