Uber Exif Photo
Caption-Abstract : January 4, 2018 - New York, New York - NYC visit, 2018.
Writer-Editor : LF
By-line : Louie Favorite
Province-State : New York
Country-Primary Location Name : United States
Country-Primary Location Code : USA
Keywords : NYC, New York, Manhattan, snow, blizzard, bomb cyclone, cold, winter, friends
Copyright Notice : ©2017 Louie Favorite, Atlanta, Georgia, USA
Copyright Flag : True
URL : louiefavorite.com
Image Description : January 4, 2018 - New York, New York - NYC visit, 2018.
Make : Leica Camera AG
Camera Model Name : LEICA M10
Orientation : Horizontal (normal)
Software : Adobe Photoshop CC 2019 (Macintosh)
Modify Date : 2018:12:04 11:23:51
Artist : Louie Favorite
Copyright : ©2017 Louie Favorite, Atlanta, Georgia, USA
Exposure Time : 1/125
Exposure Program : Aperture-priority AE
ISO : 200
Date/Time Original : 2018:01:04 10:41:22
Create Date : 2018:01:04 10:41:22
Shutter Speed Value : 1/125
Exposure Compensation : -0.3
Max Aperture Value : 1.4
Metering Mode : Center-weighted average
Light Source : Unknown
Flash : No Flash
Focal Length : 35.0 mm
Color Space : Uncalibrated
Exif Image Width : 2000
Exif Image Height : 1333
Scene Type : Directly photographed
Custom Rendered : Normal
Exposure Mode : Auto
White Balance : Auto
Digital Zoom Ratio : 0
Scene Capture Type : Standard
Contrast : Normal
Saturation : Normal
Sharpness : Normal
Serial Number : 5230664
Lens Info : 35mm f/248
Lens Make : Leica Camera AG
Lens Model : Summilux-M 1:1.4/35 ASPH.
Rating : 0
Creator Tool : 1.9.4.0
Format : image/jpeg
Country Code : USA
City : New York
State : New York
Country : United States
Credit : Louie Favorite
Source : Leica Camera AG / LEICA M10 / 35mm
Caption Writer : LF
Urgency : 5 (normal urgency)
Date Created : 2018:01:04 10:41:22
Color Mode : Grayscale
ICC Profile Name : Gray Gamma 2.2
Marked : True
Web Statement : louiefavorite.com
Color Class : 0 (None)
Tagged : Yes
Prefs : Tagged:1, ColorClass:0, Rating:0, FrameNum:001307
PM Version : PM5
Image Number : 1307
Lens : Summilux-M 1:1.4/35 ASPH.
Approximate Focus Distance : 2.61
Version : 11.0
Process Version : 11.0
Color Temperature : 4750
Tint : -8
Luminance Smoothing : 0
Color Noise Reduction : 25
Vignette Amount : 0
Shadow Tint : 0
Red Hue : 0
Red Saturation : 0
Green Hue : 0
Green Saturation : 0
Blue Hue : 0
Blue Saturation : 0
Gray Mixer Red : 0
Gray Mixer Orange : 0
Gray Mixer Yellow : 0
Gray Mixer Green : 0
Gray Mixer Aqua : 0
Gray Mixer Blue : 0
Gray Mixer Purple : 0
Gray Mixer Magenta : 0
Split Toning Shadow Hue : 0
Split Toning Shadow Saturation : 0
Split Toning Highlight Hue : 0
Split Toning Highlight Saturation : 0
Split Toning Balance : 0
Parametric Shadows : 0
Parametric Darks : 0
Parametric Lights : 0
Parametric Highlights : 0
Parametric Shadow Split : 25
Parametric Midtone Split : 50
Parametric Highlight Split : 75
Sharpen Radius : +1.0
Sharpen Detail : 25
Sharpen Edge Masking : 0
Post Crop Vignette Amount : 0
Grain Amount : 0
Color Noise Reduction Detail : 50
Color Noise Reduction Smoothness : 50
Lens Profile Enable : 0
Lens Manual Distortion Amount : 0
Perspective Vertical : 0
Perspective Horizontal : 0
Perspective Rotate : 0.0
Perspective Scale : 100
Perspective Aspect : 0
Perspective Upright : Off
Perspective X : 0.00
Perspective Y : 0.00
Auto Lateral CA : 0
Exposure 2012 : +1.00
Contrast 2012 : -12
Highlights 2012 : -38
Shadows 2012 : +98
Whites 2012 : -17
Blacks 2012 : -37
Clarity 2012 : +33
Dehaze : +48
Tone Map Strength : 0
Convert To Grayscale : True
Override Look Vignette : False
Tone Curve Name : Medium Contrast
Tone Curve Name 2012 : Linear
Camera Profile : Adobe Standard
Lens Profile Setup : LensDefaults
Has Settings : True
Has Crop : False
Already Applied : True
Raw File Name : 2018NYC197.dng
Subject : NYC, New York, Manhattan, snow, blizzard, bomb cyclone, cold, winter, friends
Description : January 4, 2018 - New York, New York - NYC visit, 2018.
Creator : Louie Favorite
Rights : ©2017 Louie Favorite, Atlanta, Georgia, USA
Creator City : Atlanta
Creator Region : Georgia
Creator Country : United States
Creator Work Telephone : 1+ 404-422-5511
Creator Work Email : lfavorite@mac.com
Creator Work URL : louiefavorite.com
Supplemental Categories : LF4_1307.jpg, 5952 X 3968
Usage Terms : ©2017 Louie Favorite, Atlanta, Georgia, USA
Tone Curve : 0, 0, 32, 22, 64, 56, 128, 128, 192, 196, 255, 255
Tone Curve Red : 0, 0, 255, 255
Tone Curve Green : 0, 0, 255, 255
Tone Curve Blue : 0, 0, 255, 255
Tone Curve PV2012 : 0, 0, 255, 255
Tone Curve PV2012 Red : 0, 0, 255, 255
Tone Curve PV2012 Green : 0, 0, 255, 255
Tone Curve PV2012 Blue : 0, 0, 255, 255
Look Name : Adobe Monochrome
Look Amount : 1.000000
Look Supports Amount : false
Look Supports Monochrome : false
Look Supports Output Referred : false
Look Copyright : © 2018 Adobe Systems, Inc.
Look Group : Profiles
Look Parameters Version : 11.0
Look Parameters Process Version : 11.0
Look Parameters Clarity 2012 : +8
Look Parameters Convert To Grayscale : True
Look Parameters Camera Profile : Adobe Standard
Look Parameters Look Table : 73ED6C18DDE909DD7EA2D771F5AC282D
Look Parameters Tone Curve PV2012 : 0, 0, 64, 56, 128, 128, 192, 197, 255, 255
Look Parameters Tone Curve PV2012 Red : 0, 0, 255, 255
Look Parameters Tone Curve PV2012 Green : 0, 0, 255, 255
Look Parameters Tone Curve PV2012 Blue : 0, 0, 255, 255
Image Width : 350
Image Height : 233
Bits Per Sample : 8
Color Components : 1
Image Size : 350x233
Megapixels : 0.082
Scale Factor To 35 mm Equivalent : 3.0
Shutter Speed : 1/125
Circle Of Confusion : 0.010 mm
Field Of View : 19.6 deg
Focal Length : 35.0 mm (35 mm equivalent: 104.2 mm)
Lens ID : Summilux-M 1:1.4/35 ASPH.