Uber Exif Photo
Caption-Abstract : 0October 26, 2018 - Pensacola, Florida, United States -
Writer-Editor : LF
By-line : Louie Favorite
Sub-location : Pensacola Interstate Fair
Province-State : Florida
Country-Primary Location Name : United States
Country-Primary Location Code : USA
Keywords : Pensacola, Interstate Fair, carnival, fun, people, dusk, man, worker, carney
Copyright Notice : ©2018 Louie Favorite, Atlanta, Georgia, USA
Copyright Flag : True
URL : louiefavorite.com
Image Description : 0October 26, 2018 - Pensacola, Florida, United States -
Make : Leica Camera AG
Camera Model Name : LEICA M10
Orientation : Horizontal (normal)
Modify Date : 2018:11:04 10:58:41
Artist : Louie Favorite
Copyright : ©2018 Louie Favorite, Atlanta, Georgia, USA
Exposure Time : 1/180
F Number : 1.4
Exposure Program : Aperture-priority AE
ISO : 100
Date/Time Original : 2018:10:26 18:18:03
Create Date : 2018:10:26 18:18:03
Shutter Speed Value : 1/180
Exposure Compensation : 0
Max Aperture Value : 1.4
Metering Mode : Center-weighted average
Light Source : Unknown
Flash : No Flash
Focal Length : 35.0 mm
Color Space : Uncalibrated
Exif Image Width : 2000
Exif Image Height : 1333
Scene Type : Directly photographed
Custom Rendered : Normal
Exposure Mode : Auto
White Balance : Auto
Digital Zoom Ratio : 0
Scene Capture Type : Standard
Contrast : Normal
Saturation : Normal
Sharpness : Normal
Serial Number : 5230664
Lens Info : 35mm f/248
Lens Make : Leica Camera AG
Lens Model : Summilux-M 1:1.4/35 ASPH.
GPS Version ID : 2.2.0.0
GPS Latitude Ref : North
GPS Longitude Ref : West
Creator Tool : Adobe Photoshop CC 2019 (Macintosh)
Rating : 0
Format : image/jpeg
Lens : Summilux-M 1:1.4/35 ASPH.
Approximate Focus Distance : 0.82
Distortion Correction Already Applied : True
Lateral Chromatic Aberration Correction Already Applied : True
Image Number : 7271
Color Mode : Grayscale
ICC Profile Name : Gray Gamma 2.2
City : Pensacola
State : Florida
Country : United States
Credit : Louie Favorite
Source : Leica Camera AG / LEICA M10 / 35
Caption Writer : LF
Urgency : 5 (normal urgency)
Date Created : 2018:10:26 18:18:03-04:00
Version : 11.0
Process Version : 11.0
Color Temperature : 10250
Tint : +11
Luminance Smoothing : 5
Color Noise Reduction : 25
Vignette Amount : 0
Shadow Tint : 0
Red Hue : 0
Red Saturation : 0
Green Hue : 0
Green Saturation : 0
Blue Hue : 0
Blue Saturation : 0
Gray Mixer Red : 0
Gray Mixer Orange : 0
Gray Mixer Yellow : 0
Gray Mixer Green : 0
Gray Mixer Aqua : 0
Gray Mixer Blue : 0
Gray Mixer Purple : 0
Gray Mixer Magenta : 0
Split Toning Shadow Hue : 0
Split Toning Shadow Saturation : 0
Split Toning Highlight Hue : 0
Split Toning Highlight Saturation : 0
Split Toning Balance : 0
Parametric Shadows : 0
Parametric Darks : 0
Parametric Lights : 0
Parametric Highlights : 0
Parametric Shadow Split : 25
Parametric Midtone Split : 50
Parametric Highlight Split : 75
Sharpen Radius : +1.0
Sharpen Detail : 25
Sharpen Edge Masking : 0
Post Crop Vignette Amount : 0
Grain Amount : 0
Luminance Noise Reduction Detail : 50
Color Noise Reduction Detail : 50
Luminance Noise Reduction Contrast : 0
Color Noise Reduction Smoothness : 50
Lens Profile Enable : 1
Lens Manual Distortion Amount : 0
Perspective Vertical : 0
Perspective Horizontal : 0
Perspective Rotate : 0.0
Perspective Scale : 100
Perspective Aspect : 0
Perspective Upright : Off
Perspective X : 0.00
Perspective Y : 0.00
Auto Lateral CA : 1
Exposure 2012 : +2.70
Contrast 2012 : +8
Highlights 2012 : -30
Shadows 2012 : +89
Whites 2012 : -49
Blacks 2012 : -65
Clarity 2012 : +86
Dehaze : +20
Tone Map Strength : 0
Convert To Grayscale : True
Override Look Vignette : False
Tone Curve Name : Medium Contrast
Tone Curve Name 2012 : Linear
Camera Profile : Adobe Standard
Lens Profile Setup : LensDefaults
Lens Profile Name : Adobe (Leica SUMMILUX-M 35 mm f/1.4 ASPH.)
Lens Profile Filename : Leica Camera AG (Leica SUMMILUX-M 35 mm f1.4 ASPH.) - RAW.lcp
Lens Profile Distortion Scale : 100
Lens Profile Chromatic Aberration Scale : 100
Lens Profile Vignetting Scale : 100
Has Settings : True
Already Applied : True
Raw File Name : LF4_7271.dng
Country Code : USA
Location : Pensacola Interstate Fair
Marked : True
Web Statement : louiefavorite.com
Color Class : 0 (None)
Tagged : Yes
Prefs : Tagged:1, ColorClass:0, Rating:0, FrameNum:007271
PM Version : PM5
Subject : Pensacola, Interstate Fair, carnival, fun, people, dusk, man, worker, carney
Description : 0October 26, 2018 - Pensacola, Florida, United States -
Rights : ©2018 Louie Favorite, Atlanta, Georgia, USA
Creator : Louie Favorite
Supplemental Categories : original filename: LF4_7271a.psd, 5976 X 3984
Tone Curve : 0, 0, 32, 22, 64, 56, 128, 128, 192, 196, 255, 255
Tone Curve Red : 0, 0, 255, 255
Tone Curve Green : 0, 0, 255, 255
Tone Curve Blue : 0, 0, 255, 255
Tone Curve PV2012 : 0, 0, 255, 255
Tone Curve PV2012 Red : 0, 0, 255, 255
Tone Curve PV2012 Green : 0, 0, 255, 255
Tone Curve PV2012 Blue : 0, 0, 255, 255
Look Name : Adobe Monochrome
Look Amount : 1.000000
Look Supports Amount : false
Look Supports Monochrome : false
Look Supports Output Referred : false
Look Copyright : © 2018 Adobe Systems, Inc.
Look Group : Profiles
Look Parameters Version : 11.0
Look Parameters Process Version : 11.0
Look Parameters Clarity 2012 : +8
Look Parameters Convert To Grayscale : True
Look Parameters Camera Profile : Adobe Standard
Look Parameters Look Table : 73ED6C18DDE909DD7EA2D771F5AC282D
Look Parameters Tone Curve PV2012 : 0, 0, 64, 56, 128, 128, 192, 197, 255, 255
Look Parameters Tone Curve PV2012 Red : 0, 0, 255, 255
Look Parameters Tone Curve PV2012 Green : 0, 0, 255, 255
Look Parameters Tone Curve PV2012 Blue : 0, 0, 255, 255
Creator City : Atlanta
Creator Region : Georgia
Creator Country : United States
Creator Work Telephone : 1+ 404-422-5511
Creator Work Email : lfavorite@mac.com
Creator Work URL : louiefavorite.com
Usage Terms : ©2018 Louie Favorite, Atlanta, Georgia, USA
Image Width : 350
Image Height : 233
Bits Per Sample : 8
Color Components : 1
Aperture : 1.4
Image Size : 350x233
Megapixels : 0.082
Scale Factor To 35 mm Equivalent : 3.0
Shutter Speed : 1/180
GPS Latitude : 30 deg 28' 28.14" N
GPS Longitude : 87 deg 18' 31.07" W
Circle Of Confusion : 0.010 mm
Depth Of Field : 0.015 m (0.813 - 0.827 m)
Field Of View : 19.6 deg
Focal Length : 35.0 mm (35 mm equivalent: 104.2 mm)
GPS Position : 30 deg 28' 28.14" N, 87 deg 18' 31.07" W
Hyperfocal Distance : 86.67 m
Light Value : 8.5
Lens ID : Summilux-M 1:1.4/35 ASPH.