Uber Exif Photo
Object Name : Leica M Monochrom with Canon 17mm TS-E tilt/shift
Keywords : 17mm, Leica M Monochrom, canon 17mm TS-E, f/8
Copyright Notice : dierk topp
Caption-Abstract : PP: Nik HDR efex
Copyright Flag : True
Image Description : PP: Nik HDR efex
Make : Leica Camera AG
Camera Model Name : M Monochrom
Software : Adobe Photoshop Lightroom 4.2 (Windows)
Modify Date : 2013:03:30 21:11:13
Copyright : dierk topp
Exposure Time : 1/12
Exposure Program : Manual
ISO : 320
Date/Time Original : 2013:03:30 14:45:26
Create Date : 2013:03:30 14:45:26
Shutter Speed Value : 1/12
Exposure Compensation : -1.66
Max Aperture Value : 1.0
Metering Mode : Center-weighted average
Light Source : Unknown
Flash : No Flash
Color Space : Uncalibrated
Scene Type : Directly photographed
Exposure Mode : Auto bracket
Digital Zoom Ratio : 0
Scene Capture Type : Standard
Serial Number : 4343114
Profile Description : sRGB IEC61966-2.1
Description : PP: Nik HDR efex
Format : image/jpeg
Rights : dierk topp
Subject : 17mm, Leica M Monochrom, canon 17mm TS-E, f/8
Title : Leica M Monochrom with Canon 17mm TS-E tilt/shift
Saturation : Normal
Sharpness : Normal
Date Created : 2013:03:30 14:45:26
Property Release Status : Unknown (nil)
PLUS Version : 1.2.0
Creator Tool : Adobe Photoshop Lightroom 4.2 (Windows)
Rating : 5
Marked : True
Already Applied : True
Blue Hue : 0
Blue Saturation : 0
Camera Profile : Embedded
Color Noise Reduction : 0
Convert To Grayscale : False
Grain Amount : 0
Green Hue : 0
Green Saturation : 0
Has Crop : False
Has Settings : True
Hue Adjustment Aqua : 0
Hue Adjustment Blue : 0
Hue Adjustment Green : 0
Hue Adjustment Magenta : 0
Hue Adjustment Orange : 0
Hue Adjustment Purple : 0
Hue Adjustment Red : 0
Hue Adjustment Yellow : 0
Incremental Temperature : 0
Incremental Tint : 0
Lens Manual Distortion Amount : 0
Lens Profile Enable : 0
Lens Profile Setup : LensDefaults
Luminance Adjustment Aqua : 0
Luminance Adjustment Blue : 0
Luminance Adjustment Green : 0
Luminance Adjustment Magenta : 0
Luminance Adjustment Orange : 0
Luminance Adjustment Purple : 0
Luminance Adjustment Red : 0
Luminance Adjustment Yellow : 0
Luminance Smoothing : 0
Parametric Darks : 0
Parametric Highlight Split : 75
Parametric Highlights : 0
Parametric Lights : +10
Parametric Midtone Split : 50
Parametric Shadow Split : 25
Parametric Shadows : 0
Perspective Horizontal : 0
Perspective Rotate : 0.0
Perspective Scale : 100
Perspective Vertical : 0
Post Crop Vignette Amount : 0
Process Version : 6.7
Red Hue : 0
Red Saturation : 0
Saturation Adjustment Aqua : 0
Saturation Adjustment Blue : 0
Saturation Adjustment Green : 0
Saturation Adjustment Magenta : 0
Saturation Adjustment Orange : 0
Saturation Adjustment Purple : 0
Saturation Adjustment Red : 0
Saturation Adjustment Yellow : 0
Shadow Tint : 0
Sharpen Detail : 25
Sharpen Edge Masking : 0
Sharpen Radius : +1.0
Split Toning Balance : +42
Split Toning Highlight Hue : 45
Split Toning Highlight Saturation : 25
Split Toning Shadow Hue : 45
Split Toning Shadow Saturation : 31
Version : 7.2
Vibrance : 0
Vignette Amount : 0
Image Width : 300
Image Height : 207
Bits Per Sample : 8
Color Components : 3
Image Size : 300x207
Megapixels : 0.062
Scale Factor To 35 mm Equivalent : 17.3
Shutter Speed : 1/12
Circle Of Confusion : 0.002 mm