Uber Exif Photo
Object Name : NEX7 with Leica APO-Macro-Elmarit-R 100/2.8
Keywords : B&W, nex-7
Copyright Notice : dierk topp
Copyright Flag : True
Make : SONY
Camera Model Name : NEX-7
Software : Adobe Photoshop Lightroom 4.2 (Windows)
Modify Date : 2013:03:15 21:34:12
Copyright : dierk topp
Exposure Time : 1/60
Exposure Program : Aperture-priority AE
ISO : 100
Sensitivity Type : Recommended Exposure Index
Recommended Exposure Index : 100
Date/Time Original : 2013:03:11 12:54:34
Create Date : 2013:03:11 12:54:34
Shutter Speed Value : 1/60
Brightness Value : 1.19296875
Exposure Compensation : 0
Max Aperture Value : 1.0
Metering Mode : Multi-segment
Light Source : Unknown
Flash : Off, Did not fire
Color Space : Uncalibrated
Scene Type : Directly photographed
Custom Rendered : Normal
Exposure Mode : Auto
White Balance : Auto
Scene Capture Type : Standard
Contrast : Normal
Saturation : Normal
Sharpness : Normal
Lens Model : ----
Lens : ----
Format : image/jpeg
Rights : dierk topp
Subject : B&W, nex-7
Title : NEX7 with Leica APO-Macro-Elmarit-R 100/2.8
Date Created : 2013:03:11 12:54:34
Property Release Status : Unknown (nil)
PLUS Version : 1.2.0
Creator Tool : Adobe Photoshop Lightroom 4.2 (Windows)
Rating : 5
Marked : True
Already Applied : True
Blue Hue : 0
Blue Saturation : 0
Camera Profile : Adobe Standard
Color Noise Reduction : 25
Color Noise Reduction Detail : 50
Convert To Grayscale : True
Crop Angle : 0
Crop Bottom : 1
Crop Constrain To Warp : 0
Crop Height : 1000
Crop Left : 0
Crop Right : 0.908584
Crop Top : 0
Crop Unit : pixels
Crop Width : 1363
Gradient Based Corr Active : True
Gradient Based Corr Amount : 1.000000
Gradient Based Corr Mask Full X : 1.004460
Gradient Based Corr Mask Full Y : 0.483278
Gradient Based Corr Mask Value : 1.000000
Gradient Based Corr Mask What : Mask/Gradient
Gradient Based Corr Mask Zero X : 0.422520
Gradient Based Corr Mask Zero Y : 0.496656
Gradient Based Corr Brightness : 0.000000
Gradient Based Corr Saturation : 0.000000
Gradient Based Corr Sharpness : 0.046730
Gradient Based Corr Toning Hue : 0.000000
Gradient Based Corr Toning Saturation : 0.000000
Gradient Based Corr What : Correction
Grain Amount : 0
Gray Mixer Aqua : -16
Gray Mixer Blue : +12
Gray Mixer Green : -27
Gray Mixer Magenta : +2
Gray Mixer Orange : +12
Gray Mixer Purple : +16
Gray Mixer Red : +21
Gray Mixer Yellow : -24
Green Hue : 0
Green Saturation : 0
Has Crop : True
Has Settings : True
Lens Manual Distortion Amount : 0
Lens Profile Enable : 0
Lens Profile Setup : LensDefaults
Luminance Smoothing : 0
Parametric Darks : +6
Parametric Highlight Split : 75
Parametric Highlights : 0
Parametric Lights : -24
Parametric Midtone Split : 50
Parametric Shadow Split : 25
Parametric Shadows : -23
Perspective Horizontal : 0
Perspective Rotate : 0.0
Perspective Scale : 100
Perspective Vertical : 0
Post Crop Vignette Amount : 0
Process Version : 6.7
Red Hue : 0
Red Saturation : 0
Shadow Tint : 0
Sharpen Detail : 25
Sharpen Edge Masking : 0
Sharpen Radius : +1.0
Split Toning Balance : 0
Split Toning Highlight Hue : 0
Split Toning Highlight Saturation : 0
Split Toning Shadow Hue : 0
Split Toning Shadow Saturation : 0
Color Temperature : 4450
Tint : +4
Version : 7.2
Vignette Amount : 0
Image Width : 300
Image Height : 224
Bits Per Sample : 8
Color Components : 1
Image Size : 300x224
Megapixels : 0.067
Scale Factor To 35 mm Equivalent : 29.5
Shutter Speed : 1/60
Circle Of Confusion : 0.001 mm