Uber Exif Photo
Keywords : B&W, nex-7, snow
Copyright Notice : dierk topp
Copyright Flag : True
Make : SONY
Camera Model Name : NEX-7
Software : Adobe Photoshop Lightroom 4.2 (Windows)
Modify Date : 2013:03:15 21:33:09
Copyright : dierk topp
Exposure Time : 1/1600
Exposure Program : Aperture-priority AE
ISO : 100
Sensitivity Type : Recommended Exposure Index
Recommended Exposure Index : 100
Date/Time Original : 2013:03:11 12:51:13
Create Date : 2013:03:11 12:51:13
Shutter Speed Value : 1/1600
Brightness Value : 5.83359375
Exposure Compensation : 0
Max Aperture Value : 1.0
Metering Mode : Multi-segment
Light Source : Unknown
Flash : Off, Did not fire
Color Space : Uncalibrated
Scene Type : Directly photographed
Custom Rendered : Normal
Exposure Mode : Auto
White Balance : Auto
Scene Capture Type : Standard
Contrast : Normal
Saturation : Normal
Sharpness : Normal
Lens Model : ----
Lens : ----
Format : image/jpeg
Rights : dierk topp
Subject : B&W, nex-7, snow
Date Created : 2013:03:11 12:51:13
Property Release Status : Unknown (nil)
PLUS Version : 1.2.0
Creator Tool : Adobe Photoshop Lightroom 4.2 (Windows)
Rating : 5
Marked : True
Already Applied : True
Blue Hue : 0
Blue Saturation : 0
Camera Profile : Adobe Standard
Color Noise Reduction : 25
Color Noise Reduction Detail : 50
Convert To Grayscale : True
Grain Amount : 0
Gray Mixer Aqua : -18
Gray Mixer Blue : +9
Gray Mixer Green : -27
Gray Mixer Magenta : +4
Gray Mixer Orange : -19
Gray Mixer Purple : +16
Gray Mixer Red : -10
Gray Mixer Yellow : -23
Green Hue : 0
Green Saturation : 0
Has Crop : False
Has Settings : True
Lens Manual Distortion Amount : 0
Lens Profile Enable : 0
Lens Profile Setup : LensDefaults
Luminance Smoothing : 0
Parametric Darks : -26
Parametric Highlight Split : 75
Parametric Highlights : 0
Parametric Lights : +12
Parametric Midtone Split : 50
Parametric Shadow Split : 25
Parametric Shadows : 0
Perspective Horizontal : 0
Perspective Rotate : 0.0
Perspective Scale : 100
Perspective Vertical : 0
Post Crop Vignette Amount : 0
Process Version : 6.7
Red Hue : 0
Red Saturation : 0
Shadow Tint : 0
Sharpen Detail : 25
Sharpen Edge Masking : 0
Sharpen Radius : +1.0
Split Toning Balance : 0
Split Toning Highlight Hue : 0
Split Toning Highlight Saturation : 0
Split Toning Shadow Hue : 0
Split Toning Shadow Saturation : 0
Color Temperature : 6050
Tint : +1
Version : 7.2
Vignette Amount : 0
Image Width : 300
Image Height : 205
Bits Per Sample : 8
Color Components : 1
Image Size : 300x205
Megapixels : 0.061
Scale Factor To 35 mm Equivalent : 30.4
Shutter Speed : 1/1600
Circle Of Confusion : 0.001 mm