Uber Exif Photo
Object Name : Leica M Monochrom with Summilux 35mm @f/1.4
Keywords : 35mm, Leica M Monochrom, churches, night, snow
Copyright Notice : dierk topp
Caption-Abstract : high ISO, snowing, stitch of 3 images
Copyright Flag : True
Image Description : high ISO, snowing, stitch of 3 images
Software : Adobe Photoshop Lightroom 4.2 (Windows)
Modify Date : 2013:03:11 21:54:44
Copyright : dierk topp
Date/Time Original : 2013:03:11 19:00:17
Create Date : 2013:03:11 19:00:17
Color Space : Uncalibrated
Description : high ISO, snowing, stitch of 3 images
Format : image/jpeg
Rights : dierk topp
Subject : 35mm, Leica M Monochrom, churches, night, snow
Title : Leica M Monochrom with Summilux 35mm @f/1.4
Saturation : Normal
Sharpness : Normal
Date Created : 2013:03:11 19:00:17
Property Release Status : Unknown (nil)
PLUS Version : 1.2.0
Creator Tool : Adobe Photoshop Lightroom 4.2 (Windows)
Rating : 5
Marked : True
Already Applied : True
Blue Hue : 0
Blue Saturation : 0
Camera Profile : Embedded
Color Noise Reduction : 0
Convert To Grayscale : False
Crop Angle : 0
Crop Bottom : 0.891231
Crop Constrain To Warp : 1
Crop Height : 1000
Crop Left : 0.094304
Crop Right : 0.948847
Crop Top : 0.036688
Crop Unit : pixels
Crop Width : 772
Grain Amount : 0
Green Hue : 0
Green Saturation : 0
Has Crop : True
Has Settings : True
Hue Adjustment Aqua : 0
Hue Adjustment Blue : 0
Hue Adjustment Green : 0
Hue Adjustment Magenta : 0
Hue Adjustment Orange : 0
Hue Adjustment Purple : 0
Hue Adjustment Red : 0
Hue Adjustment Yellow : 0
Incremental Temperature : 0
Incremental Tint : 0
Lens Manual Distortion Amount : 0
Lens Profile Enable : 0
Lens Profile Setup : LensDefaults
Luminance Adjustment Aqua : 0
Luminance Adjustment Blue : 0
Luminance Adjustment Green : 0
Luminance Adjustment Magenta : 0
Luminance Adjustment Orange : 0
Luminance Adjustment Purple : 0
Luminance Adjustment Red : 0
Luminance Adjustment Yellow : 0
Luminance Smoothing : 0
Parametric Darks : -8
Parametric Highlight Split : 75
Parametric Highlights : 0
Parametric Lights : +6
Parametric Midtone Split : 50
Parametric Shadow Split : 25
Parametric Shadows : 0
Perspective Horizontal : 0
Perspective Rotate : -2.6
Perspective Scale : 100
Perspective Vertical : -42
Post Crop Vignette Amount : 0
Process Version : 6.7
Red Hue : 0
Red Saturation : 0
Saturation Adjustment Aqua : 0
Saturation Adjustment Blue : 0
Saturation Adjustment Green : 0
Saturation Adjustment Magenta : 0
Saturation Adjustment Orange : 0
Saturation Adjustment Purple : 0
Saturation Adjustment Red : 0
Saturation Adjustment Yellow : 0
Shadow Tint : 0
Sharpen Detail : 25
Sharpen Edge Masking : 0
Sharpen Radius : +1.0
Split Toning Balance : 0
Split Toning Highlight Hue : 0
Split Toning Highlight Saturation : 0
Split Toning Shadow Hue : 0
Split Toning Shadow Saturation : 0
Version : 7.2
Vibrance : 0
Vignette Amount : 0
Image Width : 236
Image Height : 300
Bits Per Sample : 8
Color Components : 1
Image Size : 236x300
Megapixels : 0.071