Uber Exif Photo
Keywords : 50/1.8, nex-7, von horn
Copyright Notice : dierk topp
Copyright Flag : True
Make : SONY
Camera Model Name : NEX-7
Software : Adobe Photoshop Lightroom 4.2 (Windows)
Modify Date : 2013:03:02 20:45:59
Copyright : dierk topp
Exposure Time : 1/160
Exposure Program : Manual
ISO : 100
Sensitivity Type : Recommended Exposure Index
Recommended Exposure Index : 100
Date/Time Original : 2013:02:28 14:44:25
Create Date : 2013:02:28 14:44:25
Shutter Speed Value : 1/160
Brightness Value : -4.68984375
Exposure Compensation : 0
Max Aperture Value : 1.0
Metering Mode : Multi-segment
Light Source : Unknown
Flash : Off, Did not fire
Color Space : Uncalibrated
Scene Type : Directly photographed
Custom Rendered : Normal
Exposure Mode : Manual
White Balance : Auto
Scene Capture Type : Standard
Contrast : Normal
Saturation : Normal
Sharpness : Normal
Lens Model : ----
Lens : ----
Format : image/jpeg
Rights : dierk topp
Subject : 50/1.8, nex-7, von horn
Date Created : 2013:02:28 14:44:25
Property Release Status : Unknown (nil)
PLUS Version : 1.2.0
Creator Tool : Adobe Photoshop Lightroom 4.2 (Windows)
Marked : True
Already Applied : True
Blue Hue : 0
Blue Saturation : 0
Camera Profile : nex7_280213
Color Noise Reduction : 25
Color Noise Reduction Detail : 50
Convert To Grayscale : True
Crop Angle : 0
Crop Bottom : 1
Crop Constrain To Warp : 0
Crop Height : 1000
Crop Left : 0.027304
Crop Right : 0.976109
Crop Top : 0
Crop Unit : pixels
Crop Width : 1423
Grain Amount : 0
Gray Mixer Aqua : -22
Gray Mixer Blue : +2
Gray Mixer Green : -21
Gray Mixer Magenta : +9
Gray Mixer Orange : +32
Gray Mixer Purple : +13
Gray Mixer Red : 0
Gray Mixer Yellow : +54
Green Hue : 0
Green Saturation : 0
Has Crop : True
Has Settings : True
Lens Manual Distortion Amount : 0
Lens Profile Enable : 0
Lens Profile Setup : LensDefaults
Luminance Smoothing : 0
Paint Correction Active : True
Paint Correction Amount : 1.000000
Paint Correction Mask Center Weight : 0.000000
Paint Correction Mask Flow : 0.364000
Paint Correction Mask Value : 0.972000
Paint Correction Mask Radius : 0.045051
Paint Correction Mask What : Mask/Paint
Paint Correction Brightness : 0.000000
Paint Correction Saturation : 0.000000
Paint Correction Sharpness : -0.364490
Paint Correction Toning Hue : 0.000000
Paint Correction Toning Saturation : 0.000000
Paint Correction What : Correction
Parametric Darks : 0
Parametric Highlight Split : 75
Parametric Highlights : 0
Parametric Lights : -17
Parametric Midtone Split : 50
Parametric Shadow Split : 25
Parametric Shadows : -3
Perspective Horizontal : 0
Perspective Rotate : 0.0
Perspective Scale : 100
Perspective Vertical : 0
Post Crop Vignette Amount : 0
Process Version : 6.7
Red Hue : 0
Red Saturation : 0
Shadow Tint : 0
Sharpen Detail : 39
Sharpen Edge Masking : 0
Sharpen Radius : +1.0
Split Toning Balance : 0
Split Toning Highlight Hue : 0
Split Toning Highlight Saturation : 0
Split Toning Shadow Hue : 0
Split Toning Shadow Saturation : 0
Color Temperature : 5150
Tint : -34
Version : 7.2
Vignette Amount : 0
Image Width : 300
Image Height : 215
Bits Per Sample : 8
Color Components : 1
Image Size : 300x215
Megapixels : 0.065
Scale Factor To 35 mm Equivalent : 29.9
Shutter Speed : 1/160
Circle Of Confusion : 0.001 mm