Uber Exif Photo
Keywords : 75mm, Apo Summicron 75/2, nex-7
Copyright Notice : dierk topp
Copyright Flag : True
Make : SONY
Camera Model Name : NEX-7
Software : Adobe Photoshop Lightroom 4.2 (Windows)
Modify Date : 2012:12:22 21:37:40
Copyright : dierk topp
Exposure Time : 1/125
Exposure Program : Manual
ISO : 100
Sensitivity Type : Recommended Exposure Index
Recommended Exposure Index : 100
Date/Time Original : 2012:12:22 21:27:19
Create Date : 2012:12:22 21:27:19
Shutter Speed Value : 1/125
Brightness Value : -8.16640625
Exposure Compensation : 0
Max Aperture Value : 1.0
Metering Mode : Multi-segment
Light Source : Unknown
Flash : Off, Did not fire
Color Space : Uncalibrated
Scene Type : Directly photographed
Custom Rendered : Normal
Exposure Mode : Manual
White Balance : Auto
Scene Capture Type : Standard
Contrast : Normal
Saturation : Normal
Sharpness : Normal
Lens Model : ----
Profile Description : sRGB IEC61966-2.1
Lens : ----
Format : image/jpeg
Rights : dierk topp
Subject : 75mm, Apo Summicron 75/2, nex-7
Date Created : 2012:12:22 21:27:19
Property Release Status : Unknown (nil)
PLUS Version : 1.2.0
Creator Tool : Adobe Photoshop Lightroom 4.2 (Windows)
Rating : 5
Marked : True
Already Applied : True
Blue Hue : 0
Blue Saturation : 0
Camera Profile : Adobe Standard
Color Noise Reduction : 25
Color Noise Reduction Detail : 50
Convert To Grayscale : False
Crop Angle : 0
Crop Bottom : 1
Crop Constrain To Warp : 0
Crop Height : 697
Crop Left : 0
Crop Right : 0.956186
Crop Top : 0
Crop Unit : pixels
Crop Width : 1000
Grain Amount : 0
Green Hue : 0
Green Saturation : 0
Has Crop : True
Has Settings : True
Hue Adjustment Aqua : 0
Hue Adjustment Blue : 0
Hue Adjustment Green : 0
Hue Adjustment Magenta : 0
Hue Adjustment Orange : 0
Hue Adjustment Purple : 0
Hue Adjustment Red : 0
Hue Adjustment Yellow : 0
Lens Manual Distortion Amount : 0
Lens Profile Enable : 0
Lens Profile Setup : LensDefaults
Luminance Adjustment Aqua : 0
Luminance Adjustment Blue : 0
Luminance Adjustment Green : 0
Luminance Adjustment Magenta : 0
Luminance Adjustment Orange : 0
Luminance Adjustment Purple : 0
Luminance Adjustment Red : 0
Luminance Adjustment Yellow : 0
Luminance Smoothing : 0
Parametric Darks : -23
Parametric Highlight Split : 75
Parametric Highlights : 0
Parametric Lights : -35
Parametric Midtone Split : 50
Parametric Shadow Split : 25
Parametric Shadows : 0
Perspective Horizontal : 0
Perspective Rotate : 0.0
Perspective Scale : 100
Perspective Vertical : 0
Post Crop Vignette Amount : 0
Process Version : 6.7
Red Hue : 0
Red Saturation : 0
Saturation Adjustment Aqua : 0
Saturation Adjustment Blue : 0
Saturation Adjustment Green : 0
Saturation Adjustment Magenta : 0
Saturation Adjustment Orange : 0
Saturation Adjustment Purple : 0
Saturation Adjustment Red : 0
Saturation Adjustment Yellow : 0
Shadow Tint : 0
Sharpen Detail : 25
Sharpen Edge Masking : 0
Sharpen Radius : +1.0
Split Toning Balance : 0
Split Toning Highlight Hue : 0
Split Toning Highlight Saturation : 0
Split Toning Shadow Hue : 0
Split Toning Shadow Saturation : 0
Color Temperature : 4550
Tint : -25
Version : 7.2
Vibrance : 0
Vignette Amount : 0
Image Width : 215
Image Height : 300
Bits Per Sample : 8
Color Components : 3
Image Size : 215x300
Megapixels : 0.065
Scale Factor To 35 mm Equivalent : 29.9
Shutter Speed : 1/125
Circle Of Confusion : 0.001 mm