Uber Exif Photo
Object Name : Leica M9 with Apo-Summicron 75mm f/2
Keywords : dirk, leica, leica m9, m9
Copyright Notice : dierk topp
Caption-Abstract : two soft boxes, PP: LR4
Copyright Flag : True
Image Description : two soft boxes, PP: LR4
Make : Leica Camera AG
Camera Model Name : M9 Digital Camera
Software : Adobe Photoshop Lightroom 4.0 (Windows)
Modify Date : 2012:04:20 21:49:36
Copyright : dierk topp
Exposure Time : 1/180
F Number : 2.0
Exposure Program : Manual
ISO : 160
Date/Time Original : 2012:04:14 15:36:22
Create Date : 2012:04:14 15:36:22
Shutter Speed Value : 1/180
Aperture Value : 2.0
Exposure Compensation : 0
Max Aperture Value : 2.0
Metering Mode : Center-weighted average
Light Source : Unknown
Flash : No Flash
Focal Length : 75.0 mm
Contrast : Normal
Sharpening : Normal
Saturation : Normal
White Balance : Auto
JPEG Quality : Fine
WB RGB Levels : 0.4480052501 1 0.7644286847
User Profile : Studio
JPEG Size : 5216x3472
Serial Number : 3834236
Firmware Version : 1.162
Base ISO : 160
Sensor Width : 5270
Sensor Height : 3516
Sensor Bit Depth : 14
Camera Temperature : 20 C
Lens Type : Apo-Summicron-M 75mm f/2 ASPH.
Approximate F Number : 2.0
Measured LV : 2.96
External Sensor Brightness Value : 0.95
Color Space : Uncalibrated
Scene Type : Directly photographed
Exposure Mode : Manual
Digital Zoom Ratio : 0
Focal Length In 35mm Format : 75 mm
Scene Capture Type : Standard
Maker Note Safety : Safe
Lens : Leica Apo-Summicron-M 75mm f/2 ASPH.
Description : two soft boxes, PP: LR4
Format : image/jpeg
Rights : dierk topp
Subject : dirk, leica, leica m9, m9
Title : Leica M9 with Apo-Summicron 75mm f/2
Sharpness : Hard
Date Created : 2012:04:14 15:36:22
Property Release Status : Unknown (nil)
PLUS Version : 1.2.0
Creator Tool : Adobe Photoshop Lightroom 4.0 (Windows)
Label : Blau
Marked : True
Already Applied : True
Blue Hue : 0
Blue Saturation : 0
Brightness : +50
Camera Profile : studio leica 75
Clarity : 0
Color Noise Reduction : 25
Convert To Grayscale : True
Crop Angle : 0
Crop Bottom : 1
Crop Height : 1000
Crop Left : 0.098976
Crop Right : 0.972696
Crop Top : 0
Crop Unit : pixels
Crop Width : 1313
Defringe : 0
Exposure : 0.00
Fill Light : 0
Gray Mixer Aqua : -21
Gray Mixer Blue : +3
Gray Mixer Green : -23
Gray Mixer Magenta : +9
Gray Mixer Orange : +8
Gray Mixer Purple : +14
Gray Mixer Red : +1
Gray Mixer Yellow : +36
Green Hue : 0
Green Saturation : 0
Has Crop : True
Has Settings : True
Highlight Recovery : 0
Luminance Smoothing : 0
Parametric Darks : -38
Parametric Highlight Split : 75
Parametric Highlights : +27
Parametric Lights : +8
Parametric Midtone Split : 50
Parametric Shadow Split : 25
Parametric Shadows : -39
Post Crop Vignette Amount : -7
Post Crop Vignette Feather : 50
Post Crop Vignette Midpoint : 50
Post Crop Vignette Roundness : 0
Red Hue : 0
Red Saturation : 0
Shadow Tint : 0
Shadows : 5
Sharpen Detail : 70
Sharpen Edge Masking : 19
Sharpen Radius : +0.9
Split Toning Balance : 0
Split Toning Highlight Hue : 0
Split Toning Highlight Saturation : 0
Split Toning Shadow Hue : 0
Split Toning Shadow Saturation : 0
Color Temperature : 5600
Tint : 0
Tone Curve : 0, 0, 255, 255
Tone Curve Name : Linear
Version : 7.0
Vignette Amount : 0
Image Width : 300
Image Height : 233
Bits Per Sample : 8
Color Components : 1
Aperture : 2.0
Blue Balance : 0.764429
Image Size : 300x233
Lens ID : Apo-Summicron-M 75mm f/2 ASPH.
Megapixels : 0.070
Red Balance : 0.448005
Scale Factor To 35 mm Equivalent : 1.0
Shutter Speed : 1/180
Circle Of Confusion : 0.030 mm
Field Of View : 27.0 deg
Focal Length : 75.0 mm (35 mm equivalent: 75.0 mm)
Hyperfocal Distance : 93.61 m
Light Value : 8.8