Uber Exif Photo
Object Name : NEX-7 with Leica APO Summicron 75/2
Keywords : 75mm, APO Summicron, eis, nex-7
Copyright Notice : dierk topp
Caption-Abstract : f/5.6
Copyright Flag : True
Image Description : f/5.6
Make : SONY
Camera Model Name : NEX-7
Software : Adobe Photoshop Lightroom 3.6 (Windows)
Modify Date : 2012:02:28 14:37:32
Copyright : dierk topp
Exposure Time : 1/160
Exposure Program : Shutter speed priority AE
ISO : 160
Date/Time Original : 2012:02:06 14:27:01
Create Date : 2012:02:06 14:27:01
Shutter Speed Value : 1/160
Brightness Value : 0.8375
Exposure Compensation : -0.3
Max Aperture Value : 1.0
Metering Mode : Multi-segment
Light Source : Unknown
Flash : On, Did not fire
Color Space : Uncalibrated
Scene Type : Directly photographed
Exposure Mode : Auto
White Balance : Auto
Scene Capture Type : Standard
Contrast : Normal
Saturation : Normal
Sharpness : Normal
Profile Description : sRGB IEC61966-2.1
Lens : ----
Description : f/5.6
Format : image/jpeg
Rights : dierk topp
Subject : 75mm, APO Summicron, eis, nex-7
Title : NEX-7 with Leica APO Summicron 75/2
Date Created : 2012:02:06 14:27:01
Property Release Status : Unknown (nil)
PLUS Version : 1.2.0
Creator Tool : Adobe Photoshop Lightroom 3.6 (Windows)
Label : Blau
Rating : 5
Marked : True
Already Applied : True
Blue Hue : 0
Blue Saturation : 0
Brightness : 0
Camera Profile : Embedded
Chromatic Aberration B : 0
Chromatic Aberration R : 0
Clarity : 0
Color Noise Reduction : 0
Convert To Grayscale : False
Defringe : 0
Exposure : 0.00
Fill Light : 0
Green Hue : 0
Green Saturation : 0
Has Crop : False
Has Settings : True
Highlight Recovery : 0
Hue Adjustment Aqua : 0
Hue Adjustment Blue : 0
Hue Adjustment Green : 0
Hue Adjustment Magenta : 0
Hue Adjustment Orange : 0
Hue Adjustment Purple : 0
Hue Adjustment Red : 0
Hue Adjustment Yellow : 0
Incremental Temperature : 0
Incremental Tint : 0
Luminance Adjustment Aqua : 0
Luminance Adjustment Blue : 0
Luminance Adjustment Green : 0
Luminance Adjustment Magenta : 0
Luminance Adjustment Orange : 0
Luminance Adjustment Purple : 0
Luminance Adjustment Red : 0
Luminance Adjustment Yellow : 0
Luminance Smoothing : 0
Parametric Darks : +26
Parametric Highlight Split : 75
Parametric Highlights : 0
Parametric Lights : 0
Parametric Midtone Split : 50
Parametric Shadow Split : 25
Parametric Shadows : 0
Post Crop Vignette Amount : 0
Red Hue : 0
Red Saturation : 0
Saturation Adjustment Aqua : 0
Saturation Adjustment Blue : 0
Saturation Adjustment Green : 0
Saturation Adjustment Magenta : 0
Saturation Adjustment Orange : 0
Saturation Adjustment Purple : 0
Saturation Adjustment Red : 0
Saturation Adjustment Yellow : 0
Shadow Tint : 0
Shadows : 0
Sharpen Detail : 25
Sharpen Edge Masking : 0
Sharpen Radius : +1.0
Split Toning Balance : 0
Split Toning Highlight Hue : 0
Split Toning Highlight Saturation : 0
Split Toning Shadow Hue : 0
Split Toning Shadow Saturation : 0
Tone Curve : 0, 0, 255, 255
Tone Curve Name : Linear
Version : 6.6
Vibrance : 0
Vignette Amount : 0
Image Width : 226
Image Height : 300
Bits Per Sample : 8
Color Components : 3
Image Size : 226x300
Megapixels : 0.068
Shutter Speed : 1/160