Uber Exif Photo
Object Name : M9 with CV 12mm UltraWide Heliar
Keywords : 12mm, heliar, herrenteich, leica, leica m9, m9, voiglander
Copyright Notice : dierk topp
Caption-Abstract : PP: Nik Silver Efex, no Cornerfix!
Copyright Flag : True
Image Description : PP: Nik Silver Efex, no Cornerfix!
Make : Leica Camera AG
Camera Model Name : M9 Digital Camera
Software : Adobe Photoshop Lightroom 3.6 (Windows)
Modify Date : 2012:02:27 15:29:22
Copyright : dierk topp
Exposure Time : 1/180
F Number : 4.8
Exposure Program : Aperture-priority AE
ISO : 160
Date/Time Original : 2012:02:20 15:35:08
Create Date : 2012:02:20 15:35:08
Shutter Speed Value : 1/180
Aperture Value : 4.8
Exposure Compensation : +1
Max Aperture Value : 1.0
Metering Mode : Center-weighted average
Light Source : Unknown
Flash : No Flash
Color Space : Uncalibrated
Scene Type : Directly photographed
Exposure Mode : Auto bracket
White Balance : Auto
Digital Zoom Ratio : 0
Scene Capture Type : Standard
Serial Number : 3834236
Description : PP: Nik Silver Efex, no Cornerfix!
Format : image/jpeg
Rights : dierk topp
Subject : 12mm, heliar, herrenteich, leica, leica m9, m9, voiglander
Title : M9 with CV 12mm UltraWide Heliar
Contrast : High
Saturation : Normal
Sharpness : Normal
Date Created : 2012:02:20 15:35:08
Property Release Status : Unknown (nil)
PLUS Version : 1.2.0
Creator Tool : Adobe Photoshop Lightroom 3.6 (Windows)
Label : Blau
Marked : True
Already Applied : True
Blue Hue : 0
Blue Saturation : 0
Brightness : +10
Camera Profile : Embedded
Chromatic Aberration B : 0
Chromatic Aberration R : 0
Clarity : 0
Color Noise Reduction : 0
Convert To Grayscale : False
Defringe : 0
Exposure : 0.00
Fill Light : 10
Green Hue : 0
Green Saturation : 0
Has Crop : False
Has Settings : True
Highlight Recovery : 0
Hue Adjustment Aqua : 0
Hue Adjustment Blue : 0
Hue Adjustment Green : 0
Hue Adjustment Magenta : 0
Hue Adjustment Orange : 0
Hue Adjustment Purple : 0
Hue Adjustment Red : 0
Hue Adjustment Yellow : 0
Incremental Temperature : 0
Incremental Tint : 0
Luminance Adjustment Aqua : 0
Luminance Adjustment Blue : 0
Luminance Adjustment Green : 0
Luminance Adjustment Magenta : 0
Luminance Adjustment Orange : 0
Luminance Adjustment Purple : 0
Luminance Adjustment Red : 0
Luminance Adjustment Yellow : 0
Luminance Smoothing : 0
Parametric Darks : 0
Parametric Highlight Split : 75
Parametric Highlights : 0
Parametric Lights : 0
Parametric Midtone Split : 50
Parametric Shadow Split : 25
Parametric Shadows : 0
Post Crop Vignette Amount : 0
Red Hue : 0
Red Saturation : 0
Saturation Adjustment Aqua : 0
Saturation Adjustment Blue : 0
Saturation Adjustment Green : 0
Saturation Adjustment Magenta : 0
Saturation Adjustment Orange : 0
Saturation Adjustment Purple : 0
Saturation Adjustment Red : 0
Saturation Adjustment Yellow : 0
Shadow Tint : 0
Shadows : 0
Sharpen Detail : 25
Sharpen Edge Masking : 0
Sharpen Radius : +1.0
Split Toning Balance : 0
Split Toning Highlight Hue : 0
Split Toning Highlight Saturation : 0
Split Toning Shadow Hue : 0
Split Toning Shadow Saturation : 0
Tone Curve : 0, 0, 255, 255
Tone Curve Name : Linear
Version : 6.6
Vibrance : 0
Vignette Amount : 0
Image Width : 208
Image Height : 300
Bits Per Sample : 8
Color Components : 1
Aperture : 4.8
Image Size : 208x300
Megapixels : 0.062
Scale Factor To 35 mm Equivalent : 17.2
Shutter Speed : 1/180
Circle Of Confusion : 0.002 mm
Light Value : 11.3