Uber Exif Photo
Keywords : wischen
Copyright Notice : dierk topp
Copyright Flag : True
Make : Leica Camera AG
Camera Model Name : M9 Digital Camera
Software : Adobe Photoshop Lightroom 3.5 (Windows)
Modify Date : 2011:10:14 21:44:25
Copyright : dierk topp
Exposure Time : 2
F Number : 13.0
Exposure Program : Manual
ISO : 80
Date/Time Original : 2011:10:14 18:49:25
Create Date : 2011:10:14 18:49:25
Shutter Speed Value : 2
Aperture Value : 13.0
Exposure Compensation : -0.664
Max Aperture Value : 2.0
Metering Mode : Center-weighted average
Light Source : Unknown
Flash : No Flash
Focal Length : 75.0 mm
Contrast : Normal
Sharpening : Normal
Saturation : Normal
White Balance : Auto
JPEG Quality : Fine
WB RGB Levels : 0.4509399169 1 0.9597563119
User Profile : Studio
JPEG Size : 5216x3472
Serial Number : 3834236
Firmware Version : 1.162
Base ISO : 160
Sensor Width : 5270
Sensor Height : 3516
Sensor Bit Depth : 14
Camera Temperature : 19 C
Lens Type : Apo-Summicron-M 75mm f/2 ASPH.
Approximate F Number : 7.5
Measured LV : -0.88
External Sensor Brightness Value : 0.68
Color Space : Uncalibrated
Scene Type : Directly photographed
Exposure Mode : Manual
Digital Zoom Ratio : 0
Focal Length In 35mm Format : 75 mm
Scene Capture Type : Standard
Maker Note Safety : Safe
Profile Description : sRGB IEC61966-2.1
Lens : Leica Apo-Summicron-M 75mm f/2 ASPH.
Rights : dierk topp
Subject : wischen
Sharpness : Hard
Date Created : 2011:10:14 18:49:25
Property Release Status : Unknown (nil)
PLUS Version : 1.2.0
Creator Tool : Adobe Photoshop Lightroom 3.5 (Windows)
Rating : 5
Marked : True
Already Applied : True
Blue Hue : 0
Blue Saturation : 0
Brightness : +128
Camera Profile : Adobe Standard
Chromatic Aberration B : 0
Chromatic Aberration R : 0
Clarity : +54
Color Noise Reduction : 25
Convert To Grayscale : False
Crop Angle : 0
Crop Bottom : 1
Crop Height : 984
Crop Left : 0
Crop Right : 0.946488
Crop Top : 0
Crop Unit : pixels
Crop Width : 1400
Defringe : 0
Exposure : +0.33
Fill Light : 0
Green Hue : 0
Green Saturation : 0
Has Crop : True
Has Settings : True
Highlight Recovery : 16
Hue Adjustment Aqua : 0
Hue Adjustment Blue : 0
Hue Adjustment Green : 0
Hue Adjustment Magenta : 0
Hue Adjustment Orange : 0
Hue Adjustment Purple : 0
Hue Adjustment Red : 0
Hue Adjustment Yellow : 0
Luminance Adjustment Aqua : 0
Luminance Adjustment Blue : 0
Luminance Adjustment Green : 0
Luminance Adjustment Magenta : 0
Luminance Adjustment Orange : 0
Luminance Adjustment Purple : 0
Luminance Adjustment Red : 0
Luminance Adjustment Yellow : 0
Luminance Smoothing : 0
Parametric Darks : -33
Parametric Highlight Split : 75
Parametric Highlights : 0
Parametric Lights : +27
Parametric Midtone Split : 50
Parametric Shadow Split : 25
Parametric Shadows : -9
Post Crop Vignette Amount : -4
Post Crop Vignette Feather : 50
Post Crop Vignette Midpoint : 50
Post Crop Vignette Roundness : 0
Red Hue : 0
Red Saturation : 0
Saturation Adjustment Aqua : 0
Saturation Adjustment Blue : 0
Saturation Adjustment Green : 0
Saturation Adjustment Magenta : 0
Saturation Adjustment Orange : 0
Saturation Adjustment Purple : 0
Saturation Adjustment Red : 0
Saturation Adjustment Yellow : 0
Shadow Tint : 0
Shadows : 81
Sharpen Detail : 34
Sharpen Edge Masking : 0
Sharpen Radius : +1.0
Split Toning Balance : 0
Split Toning Highlight Hue : 0
Split Toning Highlight Saturation : 0
Split Toning Shadow Hue : 0
Split Toning Shadow Saturation : 0
Color Temperature : 6250
Tint : -34
Tone Curve : 0, 0, 32, 22, 64, 56, 128, 128, 192, 196, 255, 255
Tone Curve Name : Medium Contrast
Version : 6.5
Vibrance : +1
Vignette Amount : 0
Image Width : 300
Image Height : 216
Bits Per Sample : 8
Color Components : 3
Aperture : 13.0
Blue Balance : 0.959756
Image Size : 300x216
Lens ID : Apo-Summicron-M 75mm f/2 ASPH.
Megapixels : 0.065
Red Balance : 0.45094
Scale Factor To 35 mm Equivalent : 1.0
Shutter Speed : 2
Circle Of Confusion : 0.030 mm
Field Of View : 27.0 deg
Focal Length : 75.0 mm (35 mm equivalent: 75.0 mm)
Hyperfocal Distance : 14.40 m
Light Value : 6.7