Uber Exif Photo
Keywords : 28mm, feste, kartoffelfest, wakendorf
Copyright Notice : dierk topp
Caption-Abstract : SONY DSC
Copyright Flag : True
Image Description : SONY DSC
Make : SONY
Camera Model Name : NEX-5
Software : Adobe Photoshop Lightroom 3.5 (Windows)
Modify Date : 2011:10:11 21:27:52
Copyright : dierk topp
Exposure Time : 1/800
F Number : 1.0
Exposure Program : Aperture-priority AE
ISO : 200
Date/Time Original : 2011:10:09 12:49:42
Create Date : 2011:10:09 12:49:42
Shutter Speed Value : 1/800
Aperture Value : 1.0
Brightness Value : 3.37
Exposure Compensation : 0
Max Aperture Value : 1.0
Metering Mode : Multi-segment
Light Source : Unknown
Flash : Off, Did not fire
Color Space : Uncalibrated
Scene Type : Directly photographed
Custom Rendered : Normal
Exposure Mode : Auto
White Balance : Auto
Scene Capture Type : Standard
Contrast : Normal
Saturation : Normal
Sharpness : Normal
Profile Description : sRGB IEC61966-2.1
Lens : ----
Description : SONY DSC
Format : image/tiff
Rights : dierk topp
Subject : 28mm, feste, kartoffelfest, wakendorf
Date Created : 2011:10:09
Property Release Status : Unknown (nil)
PLUS Version : 1.2.0
Creator Tool : Adobe Photoshop Lightroom 3.5 (Windows)
Rating : 4
Marked : True
Already Applied : True
Blue Hue : 0
Blue Saturation : 0
Brightness : -10
Camera Profile : Embedded
Chromatic Aberration B : 0
Chromatic Aberration R : 0
Clarity : 0
Color Noise Reduction : 0
Convert To Grayscale : True
Defringe : 0
Exposure : 0.00
Fill Light : 6
Gray Mixer Aqua : -20
Gray Mixer Blue : +6
Gray Mixer Green : -24
Gray Mixer Magenta : +7
Gray Mixer Orange : -10
Gray Mixer Purple : +14
Gray Mixer Red : -22
Gray Mixer Yellow : -15
Green Hue : 0
Green Saturation : 0
Has Crop : False
Has Settings : True
Highlight Recovery : 0
Incremental Temperature : 0
Incremental Tint : 0
Luminance Smoothing : 0
Parametric Darks : -29
Parametric Highlight Split : 75
Parametric Highlights : 0
Parametric Lights : +31
Parametric Midtone Split : 50
Parametric Shadow Split : 25
Parametric Shadows : 0
Post Crop Vignette Amount : +2
Post Crop Vignette Feather : 50
Post Crop Vignette Midpoint : 50
Post Crop Vignette Roundness : 0
Red Hue : 0
Red Saturation : 0
Shadow Tint : 0
Shadows : 27
Sharpen Detail : 25
Sharpen Edge Masking : 0
Sharpen Radius : +1.0
Split Toning Balance : 0
Split Toning Highlight Hue : 32
Split Toning Highlight Saturation : 10
Split Toning Shadow Hue : 51
Split Toning Shadow Saturation : 26
Tone Curve : 0, 0, 255, 255
Tone Curve Name : Linear
Version : 6.5
Vignette Amount : 0
Image Width : 300
Image Height : 277
Bits Per Sample : 8
Color Components : 3
Aperture : 1.0
Image Size : 300x277
Megapixels : 0.083
Shutter Speed : 1/800
Light Value : 8.6