Uber Exif Photo
Keywords : 90mm
Copyright Notice : dierk topp
Caption-Abstract : SONY DSC
Copyright Flag : True
Image Description : SONY DSC
Make : SONY
Camera Model Name : NEX-5
Software : Adobe Photoshop Lightroom 3.5 (Windows)
Modify Date : 2011:10:11 21:27:35
Copyright : dierk topp
Exposure Time : 1/160
F Number : 1.0
Exposure Program : Aperture-priority AE
ISO : 200
Date/Time Original : 2011:07:29 15:26:25
Create Date : 2011:07:29 15:26:25
Shutter Speed Value : 1/160
Aperture Value : 1.0
Brightness Value : 0.62
Exposure Compensation : 0
Max Aperture Value : 1.0
Metering Mode : Multi-segment
Light Source : Unknown
Flash : Off, Did not fire
Color Space : Uncalibrated
Scene Type : Directly photographed
Custom Rendered : Normal
Exposure Mode : Auto
White Balance : Auto
Scene Capture Type : Standard
Contrast : Normal
Saturation : Normal
Sharpness : Normal
Lens : ----
Description : SONY DSC
Rights : dierk topp
Subject : 90mm
Date Created : 2011:07:29 15:26:25
Property Release Status : Unknown (nil)
PLUS Version : 1.2.0
Creator Tool : Adobe Photoshop Lightroom 3.5 (Windows)
Rating : 5
Marked : True
Already Applied : True
Blue Hue : 0
Blue Saturation : 0
Brightness : +77
Camera Profile : Adobe Standard
Chromatic Aberration B : 0
Chromatic Aberration R : 0
Clarity : +24
Color Noise Reduction : 25
Convert To Grayscale : True
Crop Angle : 0
Crop Bottom : 1
Crop Height : 1000
Crop Left : 0.107023
Crop Right : 1
Crop Top : 0
Crop Unit : pixels
Crop Width : 1342
Defringe : 0
Exposure : 0.00
Fill Light : 0
Gray Mixer Aqua : -18
Gray Mixer Blue : +9
Gray Mixer Green : -26
Gray Mixer Magenta : +4
Gray Mixer Orange : -18
Gray Mixer Purple : +15
Gray Mixer Red : -9
Gray Mixer Yellow : -21
Green Hue : 0
Green Saturation : 0
Has Crop : True
Has Settings : True
Highlight Recovery : 5
Luminance Smoothing : 0
Parametric Darks : -16
Parametric Highlight Split : 75
Parametric Highlights : 0
Parametric Lights : -36
Parametric Midtone Split : 50
Parametric Shadow Split : 25
Parametric Shadows : 0
Post Crop Vignette Amount : -27
Post Crop Vignette Feather : 50
Post Crop Vignette Midpoint : 50
Post Crop Vignette Roundness : 0
Red Hue : 0
Red Saturation : 0
Shadow Tint : 0
Shadows : 21
Sharpen Detail : 34
Sharpen Edge Masking : 0
Sharpen Radius : +1.0
Split Toning Balance : 0
Split Toning Highlight Hue : 0
Split Toning Highlight Saturation : 0
Split Toning Shadow Hue : 0
Split Toning Shadow Saturation : 0
Color Temperature : 4950
Tint : +27
Tone Curve : 0, 0, 32, 22, 64, 56, 128, 128, 192, 196, 255, 255
Tone Curve Name : Medium Contrast
Version : 6.5
Vignette Amount : 0
Image Width : 300
Image Height : 228
Bits Per Sample : 8
Color Components : 1
Aperture : 1.0
Image Size : 300x228
Megapixels : 0.068
Shutter Speed : 1/160
Light Value : 6.3