Uber Exif Photo
Keywords : feste, reinfeld
Copyright Notice : dierk topp
Copyright Flag : True
Make : Leica Camera AG
Camera Model Name : M9 Digital Camera
Software : Adobe Photoshop Lightroom 3.5 (Windows)
Modify Date : 2011:10:05 22:22:20
Copyright : dierk topp
Exposure Time : 1/180
F Number : 4.0
Exposure Program : Aperture-priority AE
ISO : 160
Date/Time Original : 2011:09:09 15:13:48
Create Date : 2011:09:09 15:13:48
Shutter Speed Value : 1/180
Aperture Value : 4.0
Exposure Compensation : -0.664
Max Aperture Value : 1.4
Metering Mode : Center-weighted average
Light Source : Unknown
Flash : No Flash
Focal Length : 35.0 mm
Contrast : Normal
Sharpening : Normal
Saturation : Normal
White Balance : Auto
JPEG Quality : Fine
WB RGB Levels : 0.4238300955 1 0.8100865266
User Profile : Studio
JPEG Size : 5216x3472
Serial Number : 3834236
Firmware Version : 1.162
Base ISO : 160
Sensor Width : 5270
Sensor Height : 3516
Sensor Bit Depth : 14
Camera Temperature : 22 C
Lens Type : Summilux-M 35mm f/1.4 ASPH.
Approximate F Number : 4.0
Measured LV : 4.01
External Sensor Brightness Value : 3.38
Color Space : Uncalibrated
Scene Type : Directly photographed
Exposure Mode : Auto bracket
Digital Zoom Ratio : 0
Focal Length In 35mm Format : 35 mm
Scene Capture Type : Standard
Maker Note Safety : Safe
Lens : Leica Summilux-M 35mm f/1.4 ASPH.
Rights : dierk topp
Subject : feste, reinfeld
Sharpness : Hard
Date Created : 2011:09:09 15:13:48
Property Release Status : Unknown (nil)
PLUS Version : 1.2.0
Creator Tool : Adobe Photoshop Lightroom 3.5 (Windows)
Marked : True
Already Applied : True
Blue Hue : 0
Blue Saturation : 0
Brightness : +84
Camera Profile : Adobe Standard
Chromatic Aberration B : 0
Chromatic Aberration R : 0
Clarity : +26
Color Noise Reduction : 25
Convert To Grayscale : True
Defringe : 0
Exposure : 0.00
Fill Light : 7
Gray Mixer Aqua : -24
Gray Mixer Blue : +1
Gray Mixer Green : +97
Gray Mixer Magenta : +5
Gray Mixer Orange : +57
Gray Mixer Purple : +16
Gray Mixer Red : -12
Gray Mixer Yellow : +82
Green Hue : 0
Green Saturation : 0
Has Crop : False
Has Settings : True
Highlight Recovery : 25
Luminance Smoothing : 0
Parametric Darks : -8
Parametric Highlight Split : 75
Parametric Highlights : -19
Parametric Lights : -12
Parametric Midtone Split : 50
Parametric Shadow Split : 25
Parametric Shadows : -16
Post Crop Vignette Amount : 0
Red Hue : 0
Red Saturation : 0
Shadow Tint : 0
Shadows : 3
Sharpen Detail : 34
Sharpen Edge Masking : 0
Sharpen Radius : +1.0
Split Toning Balance : 0
Split Toning Highlight Hue : 0
Split Toning Highlight Saturation : 0
Split Toning Shadow Hue : 0
Split Toning Shadow Saturation : 0
Color Temperature : 5550
Tint : +12
Tone Curve : 0, 0, 32, 22, 64, 56, 128, 128, 192, 196, 255, 255
Tone Curve Name : Medium Contrast
Version : 6.5
Vignette Amount : 0
Image Width : 300
Image Height : 206
Bits Per Sample : 8
Color Components : 1
Aperture : 4.0
Blue Balance : 0.810087
Image Size : 300x206
Lens ID : Summilux-M 35mm f/1.4 ASPH.
Megapixels : 0.062
Red Balance : 0.42383
Scale Factor To 35 mm Equivalent : 1.0
Shutter Speed : 1/180
Circle Of Confusion : 0.030 mm
Field Of View : 54.4 deg
Focal Length : 35.0 mm (35 mm equivalent: 35.0 mm)
Hyperfocal Distance : 10.19 m
Light Value : 10.8