Uber Exif Photo
Copyright Notice : dierk topp
Copyright Flag : True
Make : Leica Camera AG
Camera Model Name : M9 Digital Camera
Software : Adobe Photoshop Lightroom 3.5 (Windows)
Modify Date : 2011:10:03 20:36:38
Copyright : dierk topp
Exposure Time : 4
F Number : 4.0
Exposure Program : Manual
ISO : 160
Date/Time Original : 2011:10:03 18:42:35
Create Date : 2011:10:03 18:42:35
Shutter Speed Value : 4
Aperture Value : 4.0
Exposure Compensation : 0
Max Aperture Value : 1.4
Metering Mode : Center-weighted average
Light Source : Unknown
Flash : No Flash
Focal Length : 35.0 mm
Contrast : Normal
Sharpening : Normal
Saturation : Normal
White Balance : Auto
JPEG Quality : Fine
WB RGB Levels : 0.4826773509 1 0.7514906889
User Profile : Studio
JPEG Size : 5216x3472
Serial Number : 3834236
Firmware Version : 1.162
Base ISO : 160
Sensor Width : 5270
Sensor Height : 3516
Sensor Bit Depth : 14
Camera Temperature : 22 C
Lens Type : Summilux-M 35mm f/1.4 ASPH.
Approximate F Number : 4.0
Measured LV : -1.62
External Sensor Brightness Value : 4.32
Color Space : Uncalibrated
Scene Type : Directly photographed
Exposure Mode : Manual
Digital Zoom Ratio : 0
Focal Length In 35mm Format : 35 mm
Scene Capture Type : Standard
Maker Note Safety : Safe
Profile Description : sRGB IEC61966-2.1
Lens : Leica Summilux-M 35mm f/1.4 ASPH.
Rights : dierk topp
Sharpness : Hard
Date Created : 2011:10:03 18:42:35
Property Release Status : Unknown (nil)
PLUS Version : 1.2.0
Creator Tool : Adobe Photoshop Lightroom 3.5 (Windows)
Rating : 5
Marked : True
Already Applied : True
Blue Hue : 0
Blue Saturation : 0
Brightness : +123
Camera Profile : Adobe Standard
Chromatic Aberration B : 0
Chromatic Aberration R : 0
Clarity : -1
Color Noise Reduction : 25
Convert To Grayscale : False
Defringe : 0
Exposure : +0.18
Fill Light : 55
Green Hue : 0
Green Saturation : 0
Has Crop : False
Has Settings : True
Highlight Recovery : 0
Hue Adjustment Aqua : 0
Hue Adjustment Blue : 0
Hue Adjustment Green : 0
Hue Adjustment Magenta : 0
Hue Adjustment Orange : 0
Hue Adjustment Purple : 0
Hue Adjustment Red : 0
Hue Adjustment Yellow : 0
Luminance Adjustment Aqua : 0
Luminance Adjustment Blue : 0
Luminance Adjustment Green : 0
Luminance Adjustment Magenta : 0
Luminance Adjustment Orange : 0
Luminance Adjustment Purple : 0
Luminance Adjustment Red : 0
Luminance Adjustment Yellow : 0
Luminance Smoothing : 0
Parametric Darks : +1
Parametric Highlight Split : 75
Parametric Highlights : 0
Parametric Lights : +19
Parametric Midtone Split : 50
Parametric Shadow Split : 25
Parametric Shadows : 0
Post Crop Vignette Amount : 0
Red Hue : 0
Red Saturation : 0
Saturation Adjustment Aqua : 0
Saturation Adjustment Blue : 0
Saturation Adjustment Green : 0
Saturation Adjustment Magenta : 0
Saturation Adjustment Orange : 0
Saturation Adjustment Purple : 0
Saturation Adjustment Red : 0
Saturation Adjustment Yellow : 0
Shadow Tint : 0
Shadows : 59
Sharpen Detail : 25
Sharpen Edge Masking : 0
Sharpen Radius : +1.0
Split Toning Balance : 0
Split Toning Highlight Hue : 0
Split Toning Highlight Saturation : 0
Split Toning Shadow Hue : 0
Split Toning Shadow Saturation : 0
Color Temperature : 2741
Tint : -5
Tone Curve : 0, 0, 32, 22, 64, 56, 128, 128, 192, 196, 255, 255
Tone Curve Name : Medium Contrast
Version : 6.5
Vibrance : +8
Vignette Amount : 0
Image Width : 300
Image Height : 206
Bits Per Sample : 8
Color Components : 3
Aperture : 4.0
Blue Balance : 0.751491
Image Size : 300x206
Lens ID : Summilux-M 35mm f/1.4 ASPH.
Megapixels : 0.062
Red Balance : 0.482677
Scale Factor To 35 mm Equivalent : 1.0
Shutter Speed : 4
Circle Of Confusion : 0.030 mm
Field Of View : 54.4 deg
Focal Length : 35.0 mm (35 mm equivalent: 35.0 mm)
Hyperfocal Distance : 10.19 m
Light Value : 1.3