Uber Exif Photo
Keywords : 28mm
Copyright Notice : dierk topp
Caption-Abstract : SONY DSC
Copyright Flag : True
Image Description : SONY DSC
Make : SONY
Camera Model Name : NEX-5
Software : Adobe Photoshop Lightroom 3.4.1
Modify Date : 2011:09:22 15:48:34
Copyright : dierk topp
Exposure Time : 1/30
F Number : 1.0
Exposure Program : Aperture-priority AE
ISO : 200
Date/Time Original : 2011:09:17 15:16:02
Create Date : 2011:09:17 15:16:02
Shutter Speed Value : 1/30
Aperture Value : 1.0
Brightness Value : -2.25
Exposure Compensation : 0
Max Aperture Value : 1.0
Metering Mode : Multi-segment
Light Source : Unknown
Flash : Off, Did not fire
Color Space : Uncalibrated
Scene Type : Directly photographed
Custom Rendered : Normal
Exposure Mode : Auto
White Balance : Auto
Scene Capture Type : Standard
Contrast : Normal
Saturation : Normal
Sharpness : Normal
Profile Description : sRGB IEC61966-2.1
Lens : ----
Description : SONY DSC
Rights : dierk topp
Subject : 28mm
Date Created : 2011:09:17 15:16:02
Property Release Status : Unknown (nil)
PLUS Version : 1.2.0
Creator Tool : Adobe Photoshop Lightroom 3.4.1
Rating : 4
Marked : True
Already Applied : True
Blue Hue : 0
Blue Saturation : 0
Brightness : +28
Camera Profile : wald NEX 35mm
Chromatic Aberration B : 0
Chromatic Aberration R : 0
Clarity : +21
Color Noise Reduction : 25
Convert To Grayscale : False
Defringe : 0
Exposure : +0.45
Fill Light : 7
Green Hue : 0
Green Saturation : 0
Has Crop : False
Has Settings : True
Highlight Recovery : 0
Hue Adjustment Aqua : 0
Hue Adjustment Blue : 0
Hue Adjustment Green : 0
Hue Adjustment Magenta : 0
Hue Adjustment Orange : 0
Hue Adjustment Purple : 0
Hue Adjustment Red : 0
Hue Adjustment Yellow : 0
Luminance Adjustment Aqua : 0
Luminance Adjustment Blue : 0
Luminance Adjustment Green : 0
Luminance Adjustment Magenta : 0
Luminance Adjustment Orange : 0
Luminance Adjustment Purple : 0
Luminance Adjustment Red : 0
Luminance Adjustment Yellow : 0
Luminance Smoothing : 0
Parametric Darks : +20
Parametric Highlight Split : 75
Parametric Highlights : 0
Parametric Lights : -9
Parametric Midtone Split : 50
Parametric Shadow Split : 25
Parametric Shadows : 0
Post Crop Vignette Amount : -13
Post Crop Vignette Feather : 50
Post Crop Vignette Midpoint : 50
Post Crop Vignette Roundness : 0
Red Hue : 0
Red Saturation : 0
Saturation Adjustment Aqua : 0
Saturation Adjustment Blue : 0
Saturation Adjustment Green : 0
Saturation Adjustment Magenta : 0
Saturation Adjustment Orange : 0
Saturation Adjustment Purple : 0
Saturation Adjustment Red : 0
Saturation Adjustment Yellow : 0
Shadow Tint : 0
Shadows : 10
Sharpen Detail : 34
Sharpen Edge Masking : 0
Sharpen Radius : +1.0
Split Toning Balance : 0
Split Toning Highlight Hue : 0
Split Toning Highlight Saturation : 0
Split Toning Shadow Hue : 0
Split Toning Shadow Saturation : 0
Color Temperature : 4370
Tint : -23
Tone Curve : 0, 0, 32, 22, 64, 56, 128, 128, 192, 196, 255, 255
Tone Curve Name : Medium Contrast
Version : 6.4.1
Vibrance : 0
Vignette Amount : 0
Image Width : 300
Image Height : 206
Bits Per Sample : 8
Color Components : 3
Aperture : 1.0
Image Size : 300x206
Megapixels : 0.062
Shutter Speed : 1/30
Light Value : 3.9