Uber Exif Photo
Keywords : norma
Copyright Notice : dierk topp
Copyright Flag : True
Make : Leica Camera AG
Camera Model Name : M9 Digital Camera
Software : Adobe Photoshop Lightroom 3.4.1
Modify Date : 2011:09:14 21:11:46
Copyright : dierk topp
Exposure Time : 1/125
F Number : 11.0
Exposure Program : Manual
ISO : 200
Date/Time Original : 2011:09:14 15:02:48
Create Date : 2011:09:14 15:02:48
Shutter Speed Value : 1/125
Aperture Value : 11.0
Exposure Compensation : 0
Max Aperture Value : 2.0
Metering Mode : Center-weighted average
Light Source : Unknown
Flash : No Flash
Focal Length : 75.0 mm
Contrast : Normal
Sharpening : Normal
Saturation : Normal
White Balance : Auto
JPEG Quality : Fine
WB RGB Levels : 0.4631388512 1 0.801291143
User Profile : Studio
JPEG Size : 5216x3472
Serial Number : 3834236
Firmware Version : 1.162
Base ISO : 160
Sensor Width : 5270
Sensor Height : 3516
Sensor Bit Depth : 14
Camera Temperature : 20 C
Lens Type : Apo-Summicron-M 75mm f/2 ASPH.
Approximate F Number : 7.0
Measured LV : -0.77
External Sensor Brightness Value : 0.44
Color Space : Uncalibrated
Scene Type : Directly photographed
Exposure Mode : Manual
Digital Zoom Ratio : 0
Focal Length In 35mm Format : 75 mm
Scene Capture Type : Standard
Maker Note Safety : Safe
Lens : Leica Apo-Summicron-M 75mm f/2 ASPH.
Rights : dierk topp
Subject : norma
Sharpness : Hard
Date Created : 2011:09:14 15:02:48
Property Release Status : Unknown (nil)
PLUS Version : 1.2.0
Creator Tool : Adobe Photoshop Lightroom 3.4.1
Rating : 5
Marked : True
Already Applied : True
Blue Hue : 0
Blue Saturation : 0
Brightness : +54
Camera Profile : studio leica 75
Chromatic Aberration B : 0
Chromatic Aberration R : 0
Clarity : +16
Color Noise Reduction : 25
Convert To Grayscale : True
Crop Angle : 0
Crop Bottom : 1
Crop Height : 759
Crop Left : 0
Crop Right : 0.85696
Crop Top : 0.023033
Crop Unit : pixels
Crop Width : 1000
Defringe : 0
Exposure : +1.35
Fill Light : 19
Gray Mixer Aqua : -18
Gray Mixer Blue : +9
Gray Mixer Green : -15
Gray Mixer Magenta : +4
Gray Mixer Orange : +16
Gray Mixer Purple : +16
Gray Mixer Red : -24
Gray Mixer Yellow : +53
Green Hue : 0
Green Saturation : 0
Has Crop : True
Has Settings : True
Highlight Recovery : 0
Luminance Smoothing : 0
Parametric Darks : +26
Parametric Highlight Split : 75
Parametric Highlights : 0
Parametric Lights : +24
Parametric Midtone Split : 50
Parametric Shadow Split : 25
Parametric Shadows : 0
Post Crop Vignette Amount : +21
Post Crop Vignette Feather : 50
Post Crop Vignette Midpoint : 45
Post Crop Vignette Roundness : 0
Red Hue : 0
Red Saturation : 0
Shadow Tint : 0
Shadows : 10
Sharpen Detail : 34
Sharpen Edge Masking : 0
Sharpen Radius : +1.0
Split Toning Balance : 0
Split Toning Highlight Hue : 0
Split Toning Highlight Saturation : 0
Split Toning Shadow Hue : 0
Split Toning Shadow Saturation : 0
Color Temperature : 5700
Tint : +22
Tone Curve : 0, 0, 32, 22, 64, 56, 128, 128, 192, 196, 255, 255
Tone Curve Name : Medium Contrast
Version : 6.4.1
Vignette Amount : 0
Image Width : 234
Image Height : 300
Bits Per Sample : 8
Color Components : 1
Aperture : 11.0
Blue Balance : 0.801291
Image Size : 234x300
Lens ID : Apo-Summicron-M 75mm f/2 ASPH.
Megapixels : 0.070
Red Balance : 0.463139
Scale Factor To 35 mm Equivalent : 1.0
Shutter Speed : 1/125
Circle Of Confusion : 0.030 mm
Field Of View : 27.0 deg
Focal Length : 75.0 mm (35 mm equivalent: 75.0 mm)
Hyperfocal Distance : 17.02 m
Light Value : 12.9