Uber Exif Photo
Keywords : feste, jass, musik, reinfeld
Copyright Notice : dierk topp
Copyright Flag : True
Make : Leica Camera AG
Camera Model Name : M9 Digital Camera
Software : Adobe Photoshop Lightroom 3.4.1
Modify Date : 2011:09:12 14:53:53
Copyright : dierk topp
Exposure Time : 1/60
F Number : 2.0
Exposure Program : Aperture-priority AE
ISO : 320
Date/Time Original : 2011:09:11 20:17:06
Create Date : 2011:09:11 20:17:06
Shutter Speed Value : 1/60
Aperture Value : 2.0
Exposure Compensation : 0
Max Aperture Value : 2.0
Metering Mode : Center-weighted average
Light Source : Unknown
Flash : No Flash
Focal Length : 75.0 mm
Contrast : Normal
Sharpening : Normal
Saturation : Normal
White Balance : Auto
JPEG Quality : Fine
WB RGB Levels : 0.6589446589 1 0.5561628025
User Profile : Studio
JPEG Size : 5216x3472
Serial Number : 3834236
Firmware Version : 1.162
Base ISO : 160
Sensor Width : 5270
Sensor Height : 3516
Sensor Bit Depth : 14
Camera Temperature : 21 C
Lens Type : Apo-Summicron-M 75mm f/2 ASPH.
Approximate F Number : 2.0
Measured LV : 2.85
External Sensor Brightness Value : 0.81
Color Space : Uncalibrated
Scene Type : Directly photographed
Exposure Mode : Manual
Digital Zoom Ratio : 0
Focal Length In 35mm Format : 75 mm
Scene Capture Type : Standard
Maker Note Safety : Safe
Profile Description : sRGB IEC61966-2.1
Lens : Leica Apo-Summicron-M 75mm f/2 ASPH.
Rights : dierk topp
Subject : feste, jass, musik, reinfeld
Sharpness : Hard
Date Created : 2011:09:11 20:17:06
Property Release Status : Unknown (nil)
PLUS Version : 1.2.0
Creator Tool : Adobe Photoshop Lightroom 3.4.1
Rating : 5
Marked : True
Already Applied : True
Blue Hue : 0
Blue Saturation : 0
Brightness : +99
Camera Profile : Adobe Standard
Chromatic Aberration B : 0
Chromatic Aberration R : 0
Clarity : +23
Color Noise Reduction : 25
Convert To Grayscale : True
Crop Angle : 0
Crop Bottom : 1
Crop Height : 1000
Crop Left : 0.124198
Crop Right : 0.917301
Crop Top : 0
Crop Unit : pixels
Crop Width : 1192
Defringe : 0
Exposure : 0.00
Fill Light : 23
Gray Mixer Aqua : -20
Gray Mixer Blue : +6
Gray Mixer Green : -24
Gray Mixer Magenta : +7
Gray Mixer Orange : +34
Gray Mixer Purple : +14
Gray Mixer Red : -31
Gray Mixer Yellow : +6
Green Hue : 0
Green Saturation : 0
Has Crop : True
Has Settings : True
Highlight Recovery : 24
Luminance Smoothing : 0
Parametric Darks : -15
Parametric Highlight Split : 75
Parametric Highlights : 0
Parametric Lights : -33
Parametric Midtone Split : 50
Parametric Shadow Split : 25
Parametric Shadows : 0
Post Crop Vignette Amount : -53
Post Crop Vignette Feather : 50
Post Crop Vignette Midpoint : 50
Post Crop Vignette Roundness : 0
Red Hue : 0
Red Saturation : 0
Shadow Tint : 0
Shadows : 11
Sharpen Detail : 36
Sharpen Edge Masking : 0
Sharpen Radius : +1.0
Split Toning Balance : 0
Split Toning Highlight Hue : 32
Split Toning Highlight Saturation : 10
Split Toning Shadow Hue : 51
Split Toning Shadow Saturation : 40
Color Temperature : 2400
Tint : -14
Tone Curve : 0, 0, 32, 22, 64, 56, 128, 128, 192, 196, 255, 255
Tone Curve Name : Medium Contrast
Version : 6.4.1
Vignette Amount : 0
Image Width : 300
Image Height : 255
Bits Per Sample : 8
Color Components : 3
Aperture : 2.0
Blue Balance : 0.556163
Image Size : 300x255
Lens ID : Apo-Summicron-M 75mm f/2 ASPH.
Megapixels : 0.076
Red Balance : 0.658945
Scale Factor To 35 mm Equivalent : 1.0
Shutter Speed : 1/60
Circle Of Confusion : 0.030 mm
Field Of View : 27.0 deg
Focal Length : 75.0 mm (35 mm equivalent: 75.0 mm)
Hyperfocal Distance : 93.61 m
Light Value : 6.2