Uber Exif Photo
Copyright Notice : dierk topp
Copyright Flag : True
Make : Leica Camera AG
Camera Model Name : M9 Digital Camera
Software : Adobe Photoshop Lightroom 3.4.1
Modify Date : 2011:09:04 20:25:04
Copyright : dierk topp
Exposure Time : 1/125
F Number : 5.7
Exposure Program : Manual
ISO : 160
Date/Time Original : 2011:08:22 18:53:08
Create Date : 2011:08:22 18:53:08
Shutter Speed Value : 1/125
Aperture Value : 5.7
Exposure Compensation : 0
Max Aperture Value : 2.0
Metering Mode : Center-weighted average
Light Source : Unknown
Flash : No Flash
Focal Length : 75.0 mm
Contrast : Normal
Sharpening : Normal
Saturation : Normal
White Balance : Auto
JPEG Quality : Fine
WB RGB Levels : 0.4707099147 1 0.7905428227
User Profile : Mein
JPEG Size : 5216x3472
Serial Number : 3834236
Firmware Version : 1.162
Base ISO : 160
Sensor Width : 5270
Sensor Height : 3516
Sensor Bit Depth : 14
Camera Temperature : 23 C
Lens Type : Apo-Summicron-M 75mm f/2 ASPH.
Approximate F Number : 5.0
Measured LV : 0.19
External Sensor Brightness Value : 0.15
Color Space : Uncalibrated
Scene Type : Directly photographed
Exposure Mode : Manual
Digital Zoom Ratio : 0
Focal Length In 35mm Format : 75 mm
Scene Capture Type : Standard
Maker Note Safety : Safe
Profile Description : sRGB IEC61966-2.1
Lens : Leica Apo-Summicron-M 75mm f/2 ASPH.
Rights : dierk topp
Sharpness : Hard
Date Created : 2011:08:22 18:53:08
Property Release Status : Unknown (nil)
PLUS Version : 1.2.0
Creator Tool : Adobe Photoshop Lightroom 3.4.1
Rating : 4
Marked : True
Already Applied : True
Blue Hue : 0
Blue Saturation : 0
Brightness : +57
Camera Profile : Adobe Standard
Chromatic Aberration B : 0
Chromatic Aberration R : 0
Clarity : +10
Color Noise Reduction : 25
Convert To Grayscale : True
Crop Angle : 0
Crop Bottom : 1
Crop Height : 722
Crop Left : 0
Crop Right : 0.828864
Crop Top : 0
Crop Unit : pixels
Crop Width : 900
Defringe : 0
Exposure : 0.00
Fill Light : 13
Gray Mixer Aqua : -20
Gray Mixer Blue : +6
Gray Mixer Green : -25
Gray Mixer Magenta : +8
Gray Mixer Orange : +25
Gray Mixer Purple : +15
Gray Mixer Red : -10
Gray Mixer Yellow : -18
Green Hue : 0
Green Saturation : 0
Has Crop : True
Has Settings : True
Highlight Recovery : 10
Luminance Smoothing : 0
Parametric Darks : +16
Parametric Highlight Split : 75
Parametric Highlights : 0
Parametric Lights : 0
Parametric Midtone Split : 50
Parametric Shadow Split : 25
Parametric Shadows : 0
Post Crop Vignette Amount : -30
Post Crop Vignette Feather : 50
Post Crop Vignette Midpoint : 50
Post Crop Vignette Roundness : 0
Red Hue : 0
Red Saturation : 0
Shadow Tint : 0
Shadows : 10
Sharpen Detail : 35
Sharpen Edge Masking : 0
Sharpen Radius : +1.0
Split Toning Balance : 0
Split Toning Highlight Hue : 0
Split Toning Highlight Saturation : 0
Split Toning Shadow Hue : 53
Split Toning Shadow Saturation : 18
Color Temperature : 4800
Tint : -8
Tone Curve : 0, 0, 32, 22, 64, 56, 128, 128, 192, 196, 255, 255
Tone Curve Name : Medium Contrast
Version : 6.4.1
Vignette Amount : 0
Image Width : 247
Image Height : 300
Bits Per Sample : 8
Color Components : 3
Aperture : 5.7
Blue Balance : 0.790543
Image Size : 247x300
Lens ID : Apo-Summicron-M 75mm f/2 ASPH.
Megapixels : 0.074
Red Balance : 0.47071
Scale Factor To 35 mm Equivalent : 1.0
Shutter Speed : 1/125
Circle Of Confusion : 0.030 mm
Field Of View : 27.0 deg
Focal Length : 75.0 mm (35 mm equivalent: 75.0 mm)
Hyperfocal Distance : 32.84 m
Light Value : 11.3