Uber Exif Photo
Keywords : trenthorst
Copyright Notice : dierk topp
Copyright Flag : True
Make : Leica Camera AG
Camera Model Name : M9 Digital Camera
Software : Adobe Photoshop Lightroom 3.4.1
Modify Date : 2011:09:02 21:30:23
Copyright : dierk topp
F Number : 8.0
Exposure Program : Aperture-priority AE
ISO : 160
Date/Time Original : 2011:09:01 15:20:14
Aperture Value : 8.0
Exposure Compensation : -0.664
Max Aperture Value : 1.4
Metering Mode : Center-weighted average
Light Source : Unknown
Flash : No Flash
Focal Length : 35.0 mm
Color Space : Uncalibrated
Scene Type : Directly photographed
Exposure Mode : Auto bracket
White Balance : Auto
Digital Zoom Ratio : 0
Focal Length In 35mm Format : 35 mm
Scene Capture Type : Standard
Profile Description : sRGB IEC61966-2.1
Lens : Leica Summilux-M 35mm f/1.4 ASPH.
Serial Number : 3834236
Rights : dierk topp
Subject : trenthorst
Contrast : High
Sharpness : Normal
Date Created : 2011:09:01 15:20:14
Property Release Status : Unknown (nil)
PLUS Version : 1.2.0
Creator Tool : Adobe Photoshop Lightroom 3.4.1
Rating : 5
Marked : True
Already Applied : True
Blue Hue : 0
Blue Saturation : 0
Brightness : +50
Camera Profile : Embedded
Chromatic Aberration B : 0
Chromatic Aberration R : 0
Clarity : +13
Color Noise Reduction : 0
Convert To Grayscale : True
Defringe : 0
Exposure : +0.20
Fill Light : 15
Gray Mixer Aqua : -18
Gray Mixer Blue : -12
Gray Mixer Green : -27
Gray Mixer Magenta : +4
Gray Mixer Orange : -31
Gray Mixer Purple : +15
Gray Mixer Red : +40
Gray Mixer Yellow : -50
Green Hue : 0
Green Saturation : 0
Has Crop : False
Has Settings : True
Highlight Recovery : 16
Incremental Temperature : 0
Incremental Tint : 0
Luminance Smoothing : 0
Parametric Darks : 0
Parametric Highlight Split : 75
Parametric Highlights : -22
Parametric Lights : +12
Parametric Midtone Split : 50
Parametric Shadow Split : 25
Parametric Shadows : -9
Post Crop Vignette Amount : -41
Post Crop Vignette Feather : 50
Post Crop Vignette Midpoint : 50
Post Crop Vignette Roundness : 0
Red Hue : 0
Red Saturation : 0
Shadow Tint : 0
Shadows : 4
Sharpen Detail : 25
Sharpen Edge Masking : 0
Sharpen Radius : +1.0
Split Toning Balance : 0
Split Toning Highlight Hue : 0
Split Toning Highlight Saturation : 0
Split Toning Shadow Hue : 54
Split Toning Shadow Saturation : 33
Tone Curve : 0, 0, 255, 255
Tone Curve Name : Linear
Version : 6.4.1
Vignette Amount : 0
Image Width : 300
Image Height : 208
Bits Per Sample : 8
Color Components : 3
Aperture : 8.0
Image Size : 300x208
Megapixels : 0.062
Scale Factor To 35 mm Equivalent : 1.0
Circle Of Confusion : 0.030 mm
Field Of View : 54.4 deg
Focal Length : 35.0 mm (35 mm equivalent: 35.0 mm)
Hyperfocal Distance : 5.10 m
Lens ID : Summilux-M 35mm f/1.4 ASPH.