Uber Exif Photo
Keywords : markt, reinfeld
Copyright Notice : dierk topp
Copyright Flag : True
Make : Leica Camera AG
Camera Model Name : M9 Digital Camera
Software : Adobe Photoshop Lightroom 3.4.1
Modify Date : 2011:08:29 21:59:33
Copyright : dierk topp
Exposure Time : 1/1500
F Number : 1.4
Exposure Program : Aperture-priority AE
ISO : 160
Date/Time Original : 2011:08:28 14:53:21
Create Date : 2011:08:28 14:53:21
Shutter Speed Value : 1/1500
Aperture Value : 1.4
Exposure Compensation : 0
Max Aperture Value : 1.0
Metering Mode : Center-weighted average
Light Source : Unknown
Flash : No Flash
Focal Length : 50.0 mm
Contrast : Normal
Sharpening : Normal
Saturation : Normal
White Balance : Auto
JPEG Quality : Fine
WB RGB Levels : 0.4584989086 1 0.753668522
User Profile : Studio
JPEG Size : 5216x3472
Serial Number : 3834236
Firmware Version : 1.162
Base ISO : 160
Sensor Width : 5270
Sensor Height : 3516
Sensor Bit Depth : 14
Camera Temperature : 22 C
Lens Type : Noctilux-M 50mm f/0.95 ASPH.
Approximate F Number : 1.0
Measured LV : 6.50
External Sensor Brightness Value : 3.87
Color Space : Uncalibrated
Scene Type : Directly photographed
Exposure Mode : Manual
Digital Zoom Ratio : 0
Focal Length In 35mm Format : 50 mm
Scene Capture Type : Standard
Maker Note Safety : Safe
Profile Description : sRGB IEC61966-2.1
Lens : Noctilux-M 50mm f/0.95 ASPH.
Rights : dierk topp
Subject : markt, reinfeld
Sharpness : Hard
Date Created : 2011:08:28 14:53:21
Property Release Status : Unknown (nil)
PLUS Version : 1.2.0
Creator Tool : Adobe Photoshop Lightroom 3.4.1
Rating : 5
Marked : True
Already Applied : True
Blue Hue : 0
Blue Saturation : 0
Brightness : +48
Camera Profile : Adobe Standard
Chromatic Aberration B : 0
Chromatic Aberration R : 0
Clarity : +11
Color Noise Reduction : 25
Convert To Grayscale : True
Crop Angle : 0
Crop Bottom : 1
Crop Height : 665
Crop Left : 0
Crop Right : 0.900383
Crop Top : 0
Crop Unit : pixels
Crop Width : 900
Defringe : 0
Exposure : 0.00
Fill Light : 21
Gray Mixer Aqua : -18
Gray Mixer Blue : +10
Gray Mixer Green : -27
Gray Mixer Magenta : +4
Gray Mixer Orange : +9
Gray Mixer Purple : +16
Gray Mixer Red : -10
Gray Mixer Yellow : -23
Green Hue : 0
Green Saturation : 0
Has Crop : True
Has Settings : True
Highlight Recovery : 10
Luminance Smoothing : 0
Parametric Darks : -5
Parametric Highlight Split : 75
Parametric Highlights : 0
Parametric Lights : +10
Parametric Midtone Split : 50
Parametric Shadow Split : 25
Parametric Shadows : 0
Post Crop Vignette Amount : -36
Post Crop Vignette Feather : 50
Post Crop Vignette Midpoint : 50
Post Crop Vignette Roundness : 0
Red Hue : 0
Red Saturation : 0
Shadow Tint : 0
Shadows : 14
Sharpen Detail : 33
Sharpen Edge Masking : 0
Sharpen Radius : +1.0
Split Toning Balance : 0
Split Toning Highlight Hue : 0
Split Toning Highlight Saturation : 0
Split Toning Shadow Hue : 53
Split Toning Shadow Saturation : 22
Color Temperature : 4800
Tint : +6
Tone Curve : 0, 0, 32, 22, 64, 56, 128, 128, 192, 196, 255, 255
Tone Curve Name : Medium Contrast
Version : 6.4.1
Vignette Amount : 0
Image Width : 230
Image Height : 300
Bits Per Sample : 8
Color Components : 3
Aperture : 1.4
Blue Balance : 0.753669
Image Size : 230x300
Lens ID : Noctilux-M 50mm f/0.95 ASPH.
Megapixels : 0.069
Red Balance : 0.458499
Scale Factor To 35 mm Equivalent : 1.0
Shutter Speed : 1/1500
Circle Of Confusion : 0.030 mm
Field Of View : 39.6 deg
Focal Length : 50.0 mm (35 mm equivalent: 50.0 mm)
Hyperfocal Distance : 59.43 m
Light Value : 10.8