Uber Exif Photo
Keywords : markt, reinfeld
Copyright Notice : dierk topp
Copyright Flag : True
Make : Leica Camera AG
Camera Model Name : M9 Digital Camera
Software : Adobe Photoshop Lightroom 3.4.1
Modify Date : 2011:08:29 21:59:18
Copyright : dierk topp
Exposure Time : 1/4000
F Number : 2.8
Exposure Program : Aperture-priority AE
ISO : 160
Date/Time Original : 2011:08:28 15:00:18
Create Date : 2011:08:28 15:00:18
Shutter Speed Value : 1/4000
Aperture Value : 2.8
Exposure Compensation : 0
Max Aperture Value : 1.0
Metering Mode : Center-weighted average
Light Source : Unknown
Flash : No Flash
Focal Length : 50.0 mm
Contrast : Normal
Sharpening : Normal
Saturation : Normal
White Balance : Auto
JPEG Quality : Fine
WB RGB Levels : 0.4526467013 1 0.7382840663
User Profile : Studio
JPEG Size : 5216x3472
Serial Number : 3834236
Firmware Version : 1.162
Base ISO : 160
Sensor Width : 5270
Sensor Height : 3516
Sensor Bit Depth : 14
Camera Temperature : 24 C
Lens Type : Noctilux-M 50mm f/0.95 ASPH.
Approximate F Number : 3.0
Measured LV : 7.81
External Sensor Brightness Value : 6.57
Color Space : Uncalibrated
Scene Type : Directly photographed
Exposure Mode : Manual
Digital Zoom Ratio : 0
Focal Length In 35mm Format : 50 mm
Scene Capture Type : Standard
Maker Note Safety : Safe
Lens : Noctilux-M 50mm f/0.95 ASPH.
Rights : dierk topp
Subject : markt, reinfeld
Sharpness : Hard
Date Created : 2011:08:28 15:00:18
Property Release Status : Unknown (nil)
PLUS Version : 1.2.0
Creator Tool : Adobe Photoshop Lightroom 3.4.1
Marked : True
Already Applied : True
Blue Hue : 0
Blue Saturation : 0
Brightness : +86
Camera Profile : Adobe Standard
Chromatic Aberration B : 0
Chromatic Aberration R : 0
Clarity : +21
Color Noise Reduction : 25
Convert To Grayscale : True
Crop Angle : 0
Crop Bottom : 1
Crop Height : 703
Crop Left : 0
Crop Right : 0.828864
Crop Top : 0.026872
Crop Unit : pixels
Crop Width : 900
Defringe : 0
Exposure : 0.00
Fill Light : 15
Gray Mixer Aqua : -43
Gray Mixer Blue : +10
Gray Mixer Green : -68
Gray Mixer Magenta : +4
Gray Mixer Orange : -34
Gray Mixer Purple : +16
Gray Mixer Red : -3
Gray Mixer Yellow : -23
Green Hue : 0
Green Saturation : 0
Has Crop : True
Has Settings : True
Highlight Recovery : 31
Luminance Smoothing : 0
Parametric Darks : +16
Parametric Highlight Split : 75
Parametric Highlights : -26
Parametric Lights : -2
Parametric Midtone Split : 50
Parametric Shadow Split : 25
Parametric Shadows : -10
Post Crop Vignette Amount : -47
Post Crop Vignette Feather : 50
Post Crop Vignette Midpoint : 50
Post Crop Vignette Roundness : 0
Red Hue : 0
Red Saturation : 0
Shadow Tint : 0
Shadows : 9
Sharpen Detail : 34
Sharpen Edge Masking : 0
Sharpen Radius : +1.0
Split Toning Balance : 0
Split Toning Highlight Hue : 0
Split Toning Highlight Saturation : 0
Split Toning Shadow Hue : 0
Split Toning Shadow Saturation : 0
Color Temperature : 4800
Tint : +12
Tone Curve : 0, 0, 32, 22, 64, 56, 128, 128, 192, 196, 255, 255
Tone Curve Name : Medium Contrast
Version : 6.4.1
Vignette Amount : 0
Image Width : 241
Image Height : 300
Bits Per Sample : 8
Color Components : 1
Aperture : 2.8
Blue Balance : 0.738284
Image Size : 241x300
Lens ID : Noctilux-M 50mm f/0.95 ASPH.
Megapixels : 0.072
Red Balance : 0.452647
Scale Factor To 35 mm Equivalent : 1.0
Shutter Speed : 1/4000
Circle Of Confusion : 0.030 mm
Field Of View : 39.6 deg
Focal Length : 50.0 mm (35 mm equivalent: 50.0 mm)
Hyperfocal Distance : 29.72 m
Light Value : 14.3