Uber Exif Photo
Copyright Notice : dierk topp
Copyright Flag : True
Make : Leica Camera AG
Camera Model Name : M9 Digital Camera
Software : Adobe Photoshop Lightroom 3.4.1
Modify Date : 2011:07:30 21:43:21
Copyright : dierk topp
Exposure Time : 1/90
F Number : 2.0
Exposure Program : Manual
ISO : 160
Date/Time Original : 2011:07:29 15:49:12
Create Date : 2011:07:29 15:49:12
Shutter Speed Value : 1/90
Aperture Value : 2.0
Exposure Compensation : 0
Max Aperture Value : 1.0
Metering Mode : Center-weighted average
Light Source : Unknown
Flash : No Flash
Focal Length : 50.0 mm
Contrast : Normal
Sharpening : Normal
Saturation : Normal
White Balance : Auto
JPEG Quality : Fine
WB RGB Levels : 0.4797376435 1 0.5908402452
User Profile : Mein
JPEG Size : 5216x3472
Serial Number : 3834236
Firmware Version : 1.162
Base ISO : 160
Sensor Width : 5270
Sensor Height : 3516
Sensor Bit Depth : 14
Camera Temperature : 21 C
Lens Type : Noctilux-M 50mm f/0.95 ASPH.
Approximate F Number : 2.0
Measured LV : 2.85
External Sensor Brightness Value : 0.97
Color Space : Uncalibrated
Scene Type : Directly photographed
Exposure Mode : Manual
Digital Zoom Ratio : 0
Focal Length In 35mm Format : 50 mm
Scene Capture Type : Standard
Maker Note Safety : Safe
Profile Description : sRGB IEC61966-2.1
Lens : Noctilux-M 50mm f/0.95 ASPH.
Rights : dierk topp
Sharpness : Hard
Date Created : 2011:07:29 15:49:12
Property Release Status : Unknown (nil)
PLUS Version : 1.2.0
Creator Tool : Adobe Photoshop Lightroom 3.4.1
Rating : 5
Marked : True
Already Applied : True
Blue Hue : 0
Blue Saturation : 0
Brightness : +92
Camera Profile : 110729
Chromatic Aberration B : 0
Chromatic Aberration R : 0
Clarity : +36
Color Noise Reduction : 25
Convert To Grayscale : True
Crop Angle : 0
Crop Bottom : 0.961474
Crop Height : 1000
Crop Left : 0.118172
Crop Right : 0.850613
Crop Top : 0.035176
Crop Unit : pixels
Crop Width : 1188
Defringe : 0
Exposure : 0.00
Fill Light : 16
Gray Mixer Aqua : -19
Gray Mixer Blue : +2
Gray Mixer Green : -4
Gray Mixer Magenta : +4
Gray Mixer Orange : -34
Gray Mixer Purple : +9
Gray Mixer Red : -2
Gray Mixer Yellow : -57
Green Hue : 0
Green Saturation : 0
Has Crop : True
Has Settings : True
Highlight Recovery : 39
Luminance Smoothing : 0
Parametric Darks : -9
Parametric Highlight Split : 75
Parametric Highlights : -44
Parametric Lights : +43
Parametric Midtone Split : 50
Parametric Shadow Split : 25
Parametric Shadows : 0
Post Crop Vignette Amount : -29
Post Crop Vignette Feather : 50
Post Crop Vignette Midpoint : 50
Post Crop Vignette Roundness : 0
Red Hue : 0
Red Saturation : 0
Shadow Tint : 0
Shadows : 10
Sharpen Detail : 33
Sharpen Edge Masking : 0
Sharpen Radius : +1.0
Split Toning Balance : 0
Split Toning Highlight Hue : 0
Split Toning Highlight Saturation : 0
Split Toning Shadow Hue : 67
Split Toning Shadow Saturation : 17
Color Temperature : 5704
Tint : +54
Tone Curve : 0, 0, 32, 22, 64, 56, 128, 128, 192, 196, 255, 255
Tone Curve Name : Medium Contrast
Version : 6.4.1
Vignette Amount : 0
Image Width : 300
Image Height : 255
Bits Per Sample : 8
Color Components : 3
Aperture : 2.0
Blue Balance : 0.59084
Image Size : 300x255
Lens ID : Noctilux-M 50mm f/0.95 ASPH.
Megapixels : 0.076
Red Balance : 0.479738
Scale Factor To 35 mm Equivalent : 1.0
Shutter Speed : 1/90
Circle Of Confusion : 0.030 mm
Field Of View : 39.6 deg
Focal Length : 50.0 mm (35 mm equivalent: 50.0 mm)
Hyperfocal Distance : 41.60 m
Light Value : 7.8