Uber Exif Photo
Keywords : trenthorst
Copyright Notice : dierk topp
Copyright Flag : True
Make : Leica Camera AG
Camera Model Name : M9 Digital Camera
Software : Adobe Photoshop Lightroom 3.4.1
Modify Date : 2011:07:28 21:26:43
Copyright : dierk topp
F Number : 4.8
Exposure Program : Aperture-priority AE
ISO : 160
Date/Time Original : 2011:07:26 15:37:21
Aperture Value : 4.8
Exposure Compensation : +1
Max Aperture Value : 3.8
Metering Mode : Center-weighted average
Light Source : Unknown
Flash : No Flash
Focal Length : 18.0 mm
Color Space : Uncalibrated
Scene Type : Directly photographed
Exposure Mode : Auto bracket
White Balance : Auto
Digital Zoom Ratio : 0
Focal Length In 35mm Format : 18 mm
Scene Capture Type : Standard
Profile Description : sRGB IEC61966-2.1
Lens : Super-Elmar-M 18mm f/3.8 ASPH.
Serial Number : 3834236
Rights : dierk topp
Subject : trenthorst
Contrast : High
Sharpness : Normal
Date Created : 2011:07:26 15:37:21
Property Release Status : Unknown (nil)
PLUS Version : 1.2.0
Creator Tool : Adobe Photoshop Lightroom 3.4.1
Rating : 5
Marked : True
Already Applied : True
Blue Hue : 0
Blue Saturation : 0
Brightness : +3
Camera Profile : Embedded
Chromatic Aberration B : 0
Chromatic Aberration R : 0
Clarity : 0
Color Noise Reduction : 0
Convert To Grayscale : True
Crop Angle : 0
Crop Bottom : 0.996984
Crop Height : 1000
Crop Left : 0.019554
Crop Right : 0.987033
Crop Top : 0.029504
Crop Unit : pixels
Crop Width : 1119
Defringe : 0
Exposure : 0.00
Fill Light : 1
Gray Mixer Aqua : -4
Gray Mixer Blue : +4
Gray Mixer Green : -4
Gray Mixer Magenta : +6
Gray Mixer Orange : -18
Gray Mixer Purple : +12
Gray Mixer Red : -38
Gray Mixer Yellow : -22
Green Hue : 0
Green Saturation : 0
Has Crop : True
Has Settings : True
Highlight Recovery : 33
Incremental Temperature : 0
Incremental Tint : 0
Luminance Smoothing : 0
Parametric Darks : -2
Parametric Highlight Split : 75
Parametric Highlights : -37
Parametric Lights : -19
Parametric Midtone Split : 50
Parametric Shadow Split : 25
Parametric Shadows : -27
Post Crop Vignette Amount : -10
Post Crop Vignette Feather : 50
Post Crop Vignette Midpoint : 50
Post Crop Vignette Roundness : 0
Red Hue : 0
Red Saturation : 0
Shadow Tint : 0
Shadows : 23
Sharpen Detail : 25
Sharpen Edge Masking : 0
Sharpen Radius : +1.0
Split Toning Balance : 0
Split Toning Highlight Hue : 181
Split Toning Highlight Saturation : 0
Split Toning Shadow Hue : 232
Split Toning Shadow Saturation : 27
Tone Curve : 0, 0, 255, 255
Tone Curve Name : Linear
Version : 6.4.1
Vignette Amount : 0
Image Width : 300
Image Height : 270
Bits Per Sample : 8
Color Components : 3
Aperture : 4.8
Image Size : 300x270
Megapixels : 0.081
Scale Factor To 35 mm Equivalent : 1.0
Circle Of Confusion : 0.030 mm
Field Of View : 90.0 deg
Focal Length : 18.0 mm (35 mm equivalent: 18.0 mm)
Hyperfocal Distance : 2.25 m
Lens ID : Apo-Telyt-M 18mm f/3.8 ASPH.