Uber Exif Photo
Keywords : sh
Copyright Notice : dierk topp
Copyright Flag : True
Make : Leica Camera AG
Camera Model Name : M9 Digital Camera
Software : Adobe Photoshop Lightroom 3.4.1
Modify Date : 2011:07:13 18:35:16
Copyright : dierk topp
Exposure Time : 1/2000
F Number : 4.8
Exposure Program : Aperture-priority AE
ISO : 160
Date/Time Original : 2011:07:13 12:59:24
Create Date : 2011:07:13 12:59:24
Shutter Speed Value : 1/2000
Aperture Value : 4.8
Exposure Compensation : -1
Max Aperture Value : 1.4
Metering Mode : Center-weighted average
Light Source : Unknown
Flash : No Flash
Focal Length : 35.0 mm
Contrast : Normal
Sharpening : Normal
Saturation : Normal
White Balance : Auto
JPEG Quality : Fine
WB RGB Levels : 0.4343354011 1 0.7949539059
User Profile : Mein
JPEG Size : 5216x3472
Serial Number : 3834236
Firmware Version : 1.162
Base ISO : 160
Sensor Width : 5270
Sensor Height : 3516
Sensor Bit Depth : 14
Camera Temperature : 26 C
Lens Type : Summilux-M 35mm f/1.4 ASPH.
Approximate F Number : 4.5
Measured LV : 6.65
External Sensor Brightness Value : 6.44
Color Space : Uncalibrated
Scene Type : Directly photographed
Exposure Mode : Auto bracket
Digital Zoom Ratio : 0
Focal Length In 35mm Format : 35 mm
Scene Capture Type : Standard
Maker Note Safety : Safe
Profile Description : sRGB IEC61966-2.1
Lens : Leica Summilux-M 35mm f/1.4 ASPH.
Rights : dierk topp
Subject : sh
Sharpness : Hard
Date Created : 2011:07:13 12:59:24
Property Release Status : Unknown (nil)
PLUS Version : 1.2.0
Creator Tool : Adobe Photoshop Lightroom 3.4.1
Rating : 5
Marked : True
Already Applied : True
Blue Hue : 0
Blue Saturation : 0
Brightness : +92
Camera Profile : Adobe Standard
Chromatic Aberration B : 0
Chromatic Aberration R : -8
Clarity : +23
Color Noise Reduction : 25
Convert To Grayscale : True
Defringe : 0
Exposure : +0.60
Fill Light : 17
Gray Mixer Aqua : -56
Gray Mixer Blue : -84
Gray Mixer Green : -7
Gray Mixer Magenta : -32
Gray Mixer Orange : -29
Gray Mixer Purple : -56
Gray Mixer Red : -11
Gray Mixer Yellow : +7
Green Hue : 0
Green Saturation : 0
Has Crop : False
Has Settings : True
Highlight Recovery : 37
Luminance Smoothing : 0
Parametric Darks : -9
Parametric Highlight Split : 75
Parametric Highlights : 0
Parametric Lights : +1
Parametric Midtone Split : 50
Parametric Shadow Split : 25
Parametric Shadows : 0
Post Crop Vignette Amount : 0
Red Hue : 0
Red Saturation : 0
Shadow Tint : 0
Shadows : 10
Sharpen Detail : 40
Sharpen Edge Masking : 0
Sharpen Radius : +1.0
Split Toning Balance : 0
Split Toning Highlight Hue : 21
Split Toning Highlight Saturation : 9
Split Toning Shadow Hue : 64
Split Toning Shadow Saturation : 36
Color Temperature : 5300
Tint : +9
Tone Curve : 0, 0, 32, 22, 64, 56, 128, 128, 192, 196, 255, 255
Tone Curve Name : Medium Contrast
Version : 6.4.1
Vignette Amount : 0
Image Width : 300
Image Height : 205
Bits Per Sample : 8
Color Components : 3
Aperture : 4.8
Blue Balance : 0.794954
Image Size : 300x205
Lens ID : Summilux-M 35mm f/1.4 ASPH.
Megapixels : 0.061
Red Balance : 0.434335
Scale Factor To 35 mm Equivalent : 1.0
Shutter Speed : 1/2000
Circle Of Confusion : 0.030 mm
Field Of View : 54.4 deg
Focal Length : 35.0 mm (35 mm equivalent: 35.0 mm)
Hyperfocal Distance : 8.49 m
Light Value : 14.8