Uber Exif Photo
Keywords : 35mm
Copyright Notice : dierk topp
Caption-Abstract : SONY DSC
Copyright Flag : True
Image Description : SONY DSC
Make : SONY
Camera Model Name : NEX-5
Software : Adobe Photoshop Lightroom 3.4.1
Modify Date : 2011:07:07 18:53:42
Copyright : dierk topp
Exposure Time : 1/2000
F Number : 1.0
Exposure Program : Aperture-priority AE
ISO : 200
Date/Time Original : 2011:07:06 13:12:59
Create Date : 2011:07:06 13:12:59
Shutter Speed Value : 1/2000
Aperture Value : 1.0
Brightness Value : 3.5
Exposure Compensation : -1
Max Aperture Value : 1.0
Metering Mode : Multi-segment
Light Source : Unknown
Flash : Off, Did not fire
Color Space : Uncalibrated
Scene Type : Directly photographed
Custom Rendered : Normal
Exposure Mode : Auto
White Balance : Auto
Scene Capture Type : Standard
Contrast : Normal
Saturation : Normal
Sharpness : Normal
Profile Description : sRGB IEC61966-2.1
Lens : ----
Description : SONY DSC
Rights : dierk topp
Subject : 35mm
Date Created : 2011:07:06 13:12:59
Property Release Status : Unknown (nil)
PLUS Version : 1.2.0
Creator Tool : Adobe Photoshop Lightroom 3.4.1
Rating : 5
Marked : True
Already Applied : True
Blue Hue : 0
Blue Saturation : +63
Brightness : +57
Camera Profile : Adobe Standard
Chromatic Aberration B : 0
Chromatic Aberration R : 0
Clarity : +38
Color Noise Reduction : 25
Convert To Grayscale : True
Crop Angle : 0.521556
Crop Bottom : 1
Crop Height : 998
Crop Left : 0.00965
Crop Right : 0.99035
Crop Top : 0
Crop Unit : pixels
Crop Width : 1500
Defringe : 0
Exposure : +0.70
Fill Light : 0
Gray Mixer Aqua : -21
Gray Mixer Blue : +1
Gray Mixer Green : -60
Gray Mixer Magenta : +7
Gray Mixer Orange : +38
Gray Mixer Purple : +11
Gray Mixer Red : +24
Gray Mixer Yellow : -47
Green Hue : 0
Green Saturation : 0
Has Crop : True
Has Settings : True
Highlight Recovery : 0
Luminance Smoothing : 0
Parametric Darks : -2
Parametric Highlight Split : 75
Parametric Highlights : 0
Parametric Lights : +2
Parametric Midtone Split : 50
Parametric Shadow Split : 25
Parametric Shadows : -20
Post Crop Vignette Amount : -29
Post Crop Vignette Feather : 50
Post Crop Vignette Midpoint : 50
Post Crop Vignette Roundness : 0
Red Hue : 0
Red Saturation : -34
Shadow Tint : 0
Shadows : 8
Sharpen Detail : 36
Sharpen Edge Masking : 0
Sharpen Radius : +1.0
Split Toning Balance : 0
Split Toning Highlight Hue : 50
Split Toning Highlight Saturation : 18
Split Toning Shadow Hue : 64
Split Toning Shadow Saturation : 62
Color Temperature : 6800
Tint : +63
Tone Curve : 0, 0, 255, 255
Tone Curve Name : Linear
Version : 6.4.1
Vignette Amount : -41
Vignette Midpoint : 48
Image Width : 300
Image Height : 205
Bits Per Sample : 8
Color Components : 3
Aperture : 1.0
Image Size : 300x205
Megapixels : 0.061
Shutter Speed : 1/2000
Light Value : 10.0