Uber Exif Photo
Keywords : 50mm
Copyright Notice : dierk topp
Caption-Abstract : SONY DSC
Copyright Flag : True
Image Description : SONY DSC
Make : SONY
Camera Model Name : NEX-5
Software : Adobe Photoshop Lightroom 3.4.1
Modify Date : 2011:07:04 21:40:33
Copyright : dierk topp
Exposure Time : 1/60
F Number : 1.0
Exposure Program : Aperture-priority AE
ISO : 200
Date/Time Original : 2011:07:04 15:44:45
Create Date : 2011:07:04 15:44:45
Shutter Speed Value : 1/60
Aperture Value : 1.0
Brightness Value : -1.63
Exposure Compensation : -0.7
Max Aperture Value : 1.0
Metering Mode : Multi-segment
Light Source : Unknown
Flash : Off, Did not fire
Color Space : Uncalibrated
Scene Type : Directly photographed
Custom Rendered : Normal
Exposure Mode : Auto
White Balance : Auto
Scene Capture Type : Standard
Contrast : Normal
Saturation : Normal
Sharpness : Normal
Lens : ----
Description : SONY DSC
Rights : dierk topp
Subject : 50mm
Date Created : 2011:07:04 15:44:45
Property Release Status : Unknown (nil)
PLUS Version : 1.2.0
Creator Tool : Adobe Photoshop Lightroom 3.4.1
Rating : 5
Marked : True
Already Applied : True
Blue Hue : 0
Blue Saturation : 0
Brightness : +90
Camera Profile : NEX Nocti wolken
Chromatic Aberration B : 0
Chromatic Aberration R : 0
Clarity : +27
Color Noise Reduction : 25
Convert To Grayscale : True
Crop Angle : 0
Crop Bottom : 1
Crop Height : 1000
Crop Left : 0.115942
Crop Right : 1
Crop Top : 0
Crop Unit : pixels
Crop Width : 1328
Defringe : 0
Exposure : 0.00
Fill Light : 27
Gray Mixer Aqua : -69
Gray Mixer Blue : -26
Gray Mixer Green : -38
Gray Mixer Magenta : +1
Gray Mixer Orange : -13
Gray Mixer Purple : -29
Gray Mixer Red : -8
Gray Mixer Yellow : +16
Green Hue : 0
Green Saturation : 0
Has Crop : True
Has Settings : True
Highlight Recovery : 26
Luminance Smoothing : 0
Parametric Darks : +17
Parametric Highlight Split : 75
Parametric Highlights : -52
Parametric Lights : +6
Parametric Midtone Split : 50
Parametric Shadow Split : 25
Parametric Shadows : -1
Post Crop Vignette Amount : -39
Post Crop Vignette Feather : 50
Post Crop Vignette Midpoint : 50
Post Crop Vignette Roundness : 0
Red Hue : 0
Red Saturation : 0
Shadow Tint : 0
Shadows : 18
Sharpen Detail : 36
Sharpen Edge Masking : 0
Sharpen Radius : +1.0
Split Toning Balance : 0
Split Toning Highlight Hue : 0
Split Toning Highlight Saturation : 0
Split Toning Shadow Hue : 0
Split Toning Shadow Saturation : 0
Color Temperature : 4889
Tint : -4
Tone Curve : 0, 0, 32, 22, 64, 56, 128, 128, 192, 196, 255, 255
Tone Curve Name : Medium Contrast
Version : 6.4.1
Vignette Amount : 0
Image Width : 300
Image Height : 230
Bits Per Sample : 8
Color Components : 1
Aperture : 1.0
Image Size : 300x230
Megapixels : 0.069
Shutter Speed : 1/60
Light Value : 4.9