Uber Exif Photo
Keywords : landwirtschaft
Copyright Notice : dierk topp
Copyright Flag : True
Make : Leica Camera AG
Camera Model Name : M9 Digital Camera
Software : Adobe Photoshop Lightroom 3.4.1
Modify Date : 2011:06:28 20:54:28
Copyright : dierk topp
Exposure Time : 1/1500
F Number : 8.0
Exposure Program : Aperture-priority AE
ISO : 160
Date/Time Original : 2011:06:28 15:41:49
Create Date : 2011:06:28 15:41:49
Shutter Speed Value : 1/1500
Aperture Value : 8.0
Exposure Compensation : -1
Max Aperture Value : 3.8
Metering Mode : Center-weighted average
Light Source : Unknown
Flash : No Flash
Focal Length : 18.0 mm
Contrast : Normal
Sharpening : Normal
Saturation : Normal
White Balance : Auto
JPEG Quality : Fine
WB RGB Levels : 0.445072259 1 0.7644286847
User Profile : Mein
JPEG Size : 5216x3472
Serial Number : 3834236
Firmware Version : 1.162
Base ISO : 160
Sensor Width : 5270
Sensor Height : 3516
Sensor Bit Depth : 14
Camera Temperature : 29 C
Lens Type : Apo-Telyt-M 18mm f/3.8 ASPH.
Approximate F Number : 6.0
Measured LV : 6.41
External Sensor Brightness Value : 7.12
Color Space : Uncalibrated
Scene Type : Directly photographed
Exposure Mode : Auto bracket
Digital Zoom Ratio : 0
Focal Length In 35mm Format : 18 mm
Scene Capture Type : Standard
Maker Note Safety : Safe
Lens : Super-Elmar-M 18mm f/3.8 ASPH.
Rights : dierk topp
Subject : landwirtschaft
Sharpness : Hard
Date Created : 2011:06:28 15:41:49
Property Release Status : Unknown (nil)
PLUS Version : 1.2.0
Creator Tool : Adobe Photoshop Lightroom 3.4.1
Rating : 5
Marked : True
Already Applied : True
Blue Hue : 0
Blue Saturation : 0
Brightness : +32
Camera Profile : Adobe Standard
Chromatic Aberration B : 0
Chromatic Aberration R : 0
Clarity : +21
Color Noise Reduction : 25
Convert To Grayscale : True
Defringe : 0
Exposure : +1.93
Fill Light : 39
Gray Mixer Aqua : -16
Gray Mixer Blue : -60
Gray Mixer Green : +66
Gray Mixer Magenta : -12
Gray Mixer Orange : -22
Gray Mixer Purple : -54
Gray Mixer Red : -12
Gray Mixer Yellow : +59
Green Hue : 0
Green Saturation : 0
Has Crop : False
Has Settings : True
Highlight Recovery : 4
Luminance Smoothing : 0
Parametric Darks : -3
Parametric Highlight Split : 75
Parametric Highlights : -41
Parametric Lights : -1
Parametric Midtone Split : 50
Parametric Shadow Split : 25
Parametric Shadows : -1
Post Crop Vignette Amount : -23
Post Crop Vignette Feather : 50
Post Crop Vignette Midpoint : 50
Post Crop Vignette Roundness : 0
Red Hue : 0
Red Saturation : 0
Shadow Tint : 0
Shadows : 10
Sharpen Detail : 36
Sharpen Edge Masking : 0
Sharpen Radius : +1.0
Split Toning Balance : 0
Split Toning Highlight Hue : 0
Split Toning Highlight Saturation : 0
Split Toning Shadow Hue : 0
Split Toning Shadow Saturation : 0
Color Temperature : 5000
Tint : +10
Tone Curve : 0, 0, 32, 22, 64, 56, 128, 128, 192, 196, 255, 255
Tone Curve Name : Medium Contrast
Version : 6.4.1
Vignette Amount : 0
Image Width : 300
Image Height : 205
Bits Per Sample : 8
Color Components : 1
Aperture : 8.0
Blue Balance : 0.764429
Image Size : 300x205
Lens ID : Apo-Telyt-M 18mm f/3.8 ASPH.
Megapixels : 0.061
Red Balance : 0.445072
Scale Factor To 35 mm Equivalent : 1.0
Shutter Speed : 1/1500
Circle Of Confusion : 0.030 mm
Field Of View : 90.0 deg
Focal Length : 18.0 mm (35 mm equivalent: 18.0 mm)
Hyperfocal Distance : 1.35 m
Light Value : 15.9