Uber Exif Photo
Keywords : reinfeld
Copyright Notice : dierk topp
Copyright Flag : True
Make : Leica Camera AG
Camera Model Name : M9 Digital Camera
Software : Adobe Photoshop Lightroom 3.4.1
Modify Date : 2011:06:25 22:22:51
Copyright : dierk topp
Exposure Time : 1/250
F Number : 8.0
Exposure Program : Aperture-priority AE
ISO : 160
Date/Time Original : 2011:06:25 11:40:12
Create Date : 2011:06:25 11:40:12
Shutter Speed Value : 1/250
Aperture Value : 8.0
Exposure Compensation : 0
Max Aperture Value : 3.8
Metering Mode : Center-weighted average
Light Source : Unknown
Flash : No Flash
Focal Length : 18.0 mm
Contrast : Normal
Sharpening : Normal
Saturation : Normal
White Balance : Auto
JPEG Quality : Fine
WB RGB Levels : 0.4584989086 1 0.7341488551
User Profile : Mein
JPEG Size : 5216x3472
Serial Number : 3834236
Firmware Version : 1.162
Base ISO : 160
Sensor Width : 5270
Sensor Height : 3516
Sensor Bit Depth : 14
Camera Temperature : 20 C
Lens Type : Apo-Telyt-M 18mm f/3.8 ASPH.
Approximate F Number : 6.0
Measured LV : 4.67
External Sensor Brightness Value : 5.24
Color Space : Uncalibrated
Scene Type : Directly photographed
Exposure Mode : Manual
Digital Zoom Ratio : 0
Focal Length In 35mm Format : 18 mm
Scene Capture Type : Standard
Maker Note Safety : Safe
Lens : Super-Elmar-M 18mm f/3.8 ASPH.
Rights : dierk topp
Subject : reinfeld
Sharpness : Hard
Date Created : 2011:06:25 11:40:12
Property Release Status : Unknown (nil)
PLUS Version : 1.2.0
Creator Tool : Adobe Photoshop Lightroom 3.4.1
Rating : 5
Marked : True
Already Applied : True
Blue Hue : 0
Blue Saturation : 0
Brightness : +54
Camera Profile : Adobe Standard
Chromatic Aberration B : 0
Chromatic Aberration R : 0
Clarity : 0
Color Noise Reduction : 25
Convert To Grayscale : True
Crop Angle : 1.23034
Crop Bottom : 1
Crop Height : 998
Crop Left : 0.022556
Crop Right : 0.977444
Crop Top : 0
Crop Unit : pixels
Crop Width : 1500
Defringe : 0
Exposure : +0.55
Fill Light : 2
Gray Mixer Aqua : -18
Gray Mixer Blue : -68
Gray Mixer Green : -19
Gray Mixer Magenta : +7
Gray Mixer Orange : -84
Gray Mixer Purple : -19
Gray Mixer Red : -75
Gray Mixer Yellow : -85
Green Hue : 0
Green Saturation : 0
Has Crop : True
Has Settings : True
Highlight Recovery : 0
Luminance Smoothing : 0
Parametric Darks : 0
Parametric Highlight Split : 75
Parametric Highlights : 0
Parametric Lights : 0
Parametric Midtone Split : 50
Parametric Shadow Split : 25
Parametric Shadows : 0
Post Crop Vignette Amount : 0
Red Hue : 0
Red Saturation : 0
Shadow Tint : 0
Shadows : 1
Sharpen Detail : 39
Sharpen Edge Masking : 0
Sharpen Radius : +1.0
Split Toning Balance : 0
Split Toning Highlight Hue : 0
Split Toning Highlight Saturation : 0
Split Toning Shadow Hue : 0
Split Toning Shadow Saturation : 0
Color Temperature : 4700
Tint : +11
Tone Curve : 0, 0, 32, 22, 64, 56, 128, 128, 192, 196, 255, 255
Tone Curve Name : Medium Contrast
Version : 6.4.1
Vignette Amount : 0
Image Width : 300
Image Height : 205
Bits Per Sample : 8
Color Components : 1
Aperture : 8.0
Blue Balance : 0.734149
Image Size : 300x205
Lens ID : Apo-Telyt-M 18mm f/3.8 ASPH.
Megapixels : 0.061
Red Balance : 0.458499
Scale Factor To 35 mm Equivalent : 1.0
Shutter Speed : 1/250
Circle Of Confusion : 0.030 mm
Field Of View : 90.0 deg
Focal Length : 18.0 mm (35 mm equivalent: 18.0 mm)
Hyperfocal Distance : 1.35 m
Light Value : 13.3