Uber Exif Photo
Copyright Notice : dierk topp
Copyright Flag : True
Make : Leica Camera AG
Camera Model Name : M9 Digital Camera
Software : Adobe Photoshop Lightroom 3.4.1
Modify Date : 2011:06:22 21:58:12
Copyright : dierk topp
Exposure Time : 0.3
F Number : 6.7
Exposure Program : Aperture-priority AE
ISO : 160
Date/Time Original : 2011:06:22 19:36:31
Create Date : 2011:06:22 19:36:31
Shutter Speed Value : 0.3
Aperture Value : 6.7
Exposure Compensation : +1.33
Max Aperture Value : 3.8
Metering Mode : Center-weighted average
Light Source : Unknown
Flash : No Flash
Focal Length : 18.0 mm
Color Space : Uncalibrated
Scene Type : Directly photographed
Exposure Mode : Auto bracket
White Balance : Auto
Digital Zoom Ratio : 0
Focal Length In 35mm Format : 18 mm
Scene Capture Type : Standard
Lens : Super-Elmar-M 18mm f/3.8 ASPH.
Serial Number : 3834236
Format : image/tiff
Rights : dierk topp
Contrast : High
Sharpness : Normal
Date Created : 2011:06:22
Property Release Status : Unknown (nil)
PLUS Version : 1.2.0
Creator Tool : Adobe Photoshop Lightroom 3.4.1
Rating : 5
Marked : True
Already Applied : True
Blue Hue : 0
Blue Saturation : 0
Brightness : +5
Camera Profile : Embedded
Chromatic Aberration B : 0
Chromatic Aberration R : 0
Clarity : +32
Color Noise Reduction : 0
Convert To Grayscale : True
Defringe : 0
Exposure : 0.00
Fill Light : 4
Gray Mixer Aqua : -18
Gray Mixer Blue : +10
Gray Mixer Green : -27
Gray Mixer Magenta : +4
Gray Mixer Orange : +3
Gray Mixer Purple : +16
Gray Mixer Red : -10
Gray Mixer Yellow : -31
Green Hue : 0
Green Saturation : 0
Has Crop : False
Has Settings : True
Highlight Recovery : 0
Incremental Temperature : 0
Incremental Tint : 0
Luminance Smoothing : 0
Parametric Darks : -16
Parametric Highlight Split : 75
Parametric Highlights : 0
Parametric Lights : -15
Parametric Midtone Split : 50
Parametric Shadow Split : 25
Parametric Shadows : 0
Post Crop Vignette Amount : -7
Post Crop Vignette Feather : 50
Post Crop Vignette Midpoint : 50
Post Crop Vignette Roundness : 0
Red Hue : 0
Red Saturation : 0
Shadow Tint : 0
Shadows : 9
Sharpen Detail : 25
Sharpen Edge Masking : 0
Sharpen Radius : +1.0
Split Toning Balance : 0
Split Toning Highlight Hue : 0
Split Toning Highlight Saturation : 0
Split Toning Shadow Hue : 0
Split Toning Shadow Saturation : 0
Tone Curve : 0, 0, 255, 255
Tone Curve Name : Linear
Version : 6.4.1
Vignette Amount : 0
Image Width : 207
Image Height : 300
Bits Per Sample : 8
Color Components : 1
Aperture : 6.7
Image Size : 207x300
Megapixels : 0.062
Scale Factor To 35 mm Equivalent : 1.0
Shutter Speed : 0.3
Circle Of Confusion : 0.030 mm
Field Of View : 90.0 deg
Focal Length : 18.0 mm (35 mm equivalent: 18.0 mm)
Hyperfocal Distance : 1.61 m
Light Value : 6.5
Lens ID : Apo-Telyt-M 18mm f/3.8 ASPH.