Uber Exif Photo
Keywords : see
Copyright Notice : dierk topp
Copyright Flag : True
Make : Leica Camera AG
Camera Model Name : M9 Digital Camera
Software : Adobe Photoshop Lightroom 3.4.1
Modify Date : 2011:06:18 21:23:23
Copyright : dierk topp
Exposure Time : 1/180
F Number : 3.8
Exposure Program : Manual
ISO : 160
Date/Time Original : 2011:06:18 19:04:14
Create Date : 2011:06:18 19:04:14
Shutter Speed Value : 1/180
Aperture Value : 3.8
Exposure Compensation : 0
Max Aperture Value : 3.8
Metering Mode : Center-weighted average
Light Source : Unknown
Flash : No Flash
Focal Length : 18.0 mm
Contrast : Normal
Sharpening : Normal
Saturation : Normal
White Balance : Auto
JPEG Quality : Fine
WB RGB Levels : 0.4270113894 1 0.8340035632
User Profile : Mein
JPEG Size : 5216x3472
Serial Number : 3834236
Firmware Version : 1.162
Base ISO : 160
Sensor Width : 5270
Sensor Height : 3516
Sensor Bit Depth : 14
Camera Temperature : 21 C
Lens Type : Apo-Telyt-M 18mm f/3.8 ASPH.
Approximate F Number : 3.8
Measured LV : 5.53
External Sensor Brightness Value : 4.32
Color Space : Uncalibrated
Scene Type : Directly photographed
Exposure Mode : Manual
Digital Zoom Ratio : 0
Focal Length In 35mm Format : 18 mm
Scene Capture Type : Standard
Maker Note Safety : Safe
Lens : Super-Elmar-M 18mm f/3.8 ASPH.
Rights : dierk topp
Subject : see
Sharpness : Hard
Date Created : 2011:06:18 19:04:14
Property Release Status : Unknown (nil)
PLUS Version : 1.2.0
Creator Tool : Adobe Photoshop Lightroom 3.4.1
Marked : True
Already Applied : True
Blue Hue : 0
Blue Saturation : 0
Brightness : +74
Camera Profile : Adobe Standard
Chromatic Aberration B : 0
Chromatic Aberration R : -10
Clarity : +39
Color Noise Reduction : 25
Convert To Grayscale : True
Crop Angle : 0.794678
Crop Bottom : 0.998187
Crop Height : 782
Crop Left : 0.118247
Crop Right : 0.89832
Crop Top : 0.139525
Crop Unit : pixels
Crop Width : 1100
Defringe : 0
Exposure : +0.44
Fill Light : 9
Gray Mixer Aqua : -53
Gray Mixer Blue : -62
Gray Mixer Green : -28
Gray Mixer Magenta : +4
Gray Mixer Orange : -18
Gray Mixer Purple : -26
Gray Mixer Red : -11
Gray Mixer Yellow : +28
Green Hue : 0
Green Saturation : 0
Has Crop : True
Has Settings : True
Highlight Recovery : 25
Luminance Smoothing : 0
Parametric Darks : -2
Parametric Highlight Split : 75
Parametric Highlights : 0
Parametric Lights : -33
Parametric Midtone Split : 50
Parametric Shadow Split : 25
Parametric Shadows : -15
Post Crop Vignette Amount : -16
Post Crop Vignette Feather : 50
Post Crop Vignette Midpoint : 50
Post Crop Vignette Roundness : 0
Red Hue : 0
Red Saturation : 0
Shadow Tint : 0
Shadows : 2
Sharpen Detail : 36
Sharpen Edge Masking : 0
Sharpen Radius : +1.0
Split Toning Balance : 0
Split Toning Highlight Hue : 0
Split Toning Highlight Saturation : 0
Split Toning Shadow Hue : 0
Split Toning Shadow Saturation : 0
Color Temperature : 5650
Tint : +5
Tone Curve : 0, 0, 32, 22, 64, 56, 128, 128, 192, 196, 255, 255
Tone Curve Name : Medium Contrast
Version : 6.4.1
Vignette Amount : +70
Vignette Midpoint : 50
Image Width : 300
Image Height : 219
Bits Per Sample : 8
Color Components : 1
Aperture : 3.8
Blue Balance : 0.834004
Image Size : 300x219
Lens ID : Apo-Telyt-M 18mm f/3.8 ASPH.
Megapixels : 0.066
Red Balance : 0.427011
Scale Factor To 35 mm Equivalent : 1.0
Shutter Speed : 1/180
Circle Of Confusion : 0.030 mm
Field Of View : 90.0 deg
Focal Length : 18.0 mm (35 mm equivalent: 18.0 mm)
Hyperfocal Distance : 2.84 m
Light Value : 10.7