Uber Exif Photo
Copyright Notice : dierk topp
Copyright Flag : True
Make : Leica Camera AG
Camera Model Name : M9 Digital Camera
Software : Adobe Photoshop Lightroom 3.4.1
Modify Date : 2011:06:16 21:09:41
Copyright : dierk topp
Exposure Time : 1/60
F Number : 8.0
Exposure Program : Aperture-priority AE
ISO : 500
Date/Time Original : 2011:06:16 15:56:24
Create Date : 2011:06:16 15:56:24
Shutter Speed Value : 1/60
Aperture Value : 8.0
Exposure Compensation : 0
Max Aperture Value : 4.0
Metering Mode : Center-weighted average
Light Source : Unknown
Flash : No Flash
Focal Length : 90.0 mm
Color Space : Uncalibrated
Scene Type : Directly photographed
Exposure Mode : Manual
White Balance : Auto
Digital Zoom Ratio : 0
Focal Length In 35mm Format : 90 mm
Scene Capture Type : Standard
Lens : Leica Macro-Elmar-M 90mm f/4
Serial Number : 3834236
Format : image/tiff
Rights : dierk topp
Contrast : High
Sharpness : Normal
Date Created : 2011:06:16
Property Release Status : Unknown (nil)
PLUS Version : 1.2.0
Creator Tool : Adobe Photoshop Lightroom 3.4.1
Rating : 5
Marked : True
Already Applied : True
Blue Hue : 0
Blue Saturation : 0
Brightness : +3
Camera Profile : Embedded
Chromatic Aberration B : 0
Chromatic Aberration R : 0
Clarity : +19
Color Noise Reduction : 0
Convert To Grayscale : True
Defringe : 0
Exposure : +0.62
Fill Light : 0
Gray Mixer Aqua : -15
Gray Mixer Blue : +2
Gray Mixer Green : -46
Gray Mixer Magenta : 0
Gray Mixer Orange : -10
Gray Mixer Purple : +6
Gray Mixer Red : -6
Gray Mixer Yellow : -11
Green Hue : 0
Green Saturation : 0
Has Crop : False
Has Settings : True
Highlight Recovery : 0
Incremental Temperature : 0
Incremental Tint : 0
Luminance Smoothing : 0
Parametric Darks : +26
Parametric Highlight Split : 75
Parametric Highlights : 0
Parametric Lights : +17
Parametric Midtone Split : 50
Parametric Shadow Split : 25
Parametric Shadows : +6
Post Crop Vignette Amount : -41
Post Crop Vignette Feather : 50
Post Crop Vignette Midpoint : 50
Post Crop Vignette Roundness : 0
Red Hue : 0
Red Saturation : 0
Shadow Tint : 0
Shadows : 11
Sharpen Detail : 25
Sharpen Edge Masking : 0
Sharpen Radius : +1.0
Split Toning Balance : 0
Split Toning Highlight Hue : 0
Split Toning Highlight Saturation : 0
Split Toning Shadow Hue : 0
Split Toning Shadow Saturation : 0
Tone Curve : 0, 0, 255, 255
Tone Curve Name : Linear
Version : 6.4.1
Vignette Amount : 0
Image Width : 300
Image Height : 205
Bits Per Sample : 8
Color Components : 1
Aperture : 8.0
Image Size : 300x205
Megapixels : 0.061
Scale Factor To 35 mm Equivalent : 1.0
Shutter Speed : 1/60
Circle Of Confusion : 0.030 mm
Field Of View : 22.6 deg
Focal Length : 90.0 mm (35 mm equivalent: 90.0 mm)
Hyperfocal Distance : 33.70 m
Light Value : 9.6
Lens ID : Macro-Elmar-M 90mm f/4