Uber Exif Photo
Keywords : bach, reinfeld
Copyright Notice : dierk topp
Copyright Flag : True
Software : Microsoft ICE v1.3.5.0
Modify Date : 2011:05:19 21:55:14
Copyright : dierk topp
Date/Time Original : 2011:05:19 15:00:22
Create Date : 2011:05:19 15:00:22
Color Space : Uncalibrated
Profile Description : sRGB IEC61966-2.1
Rights : dierk topp
Subject : bach, reinfeld
Contrast : High
Date/Time Digitized : 2011:05:19 15:00:22+02:00
Exif Image Width : 1500
Exif Image Height : 613
Saturation : Normal
Sharpness : Normal
Property Release Status : Unknown (nil)
PLUS Version : 1.2.0
Creator Tool : Adobe Photoshop Lightroom
Rating : 4
Marked : True
Already Applied : True
Blue Hue : 0
Blue Saturation : 0
Brightness : +48
Camera Profile : Embedded
Chromatic Aberration B : 0
Chromatic Aberration R : 0
Clarity : +7
Color Noise Reduction : 0
Convert To Grayscale : False
Defringe : 0
Exposure : 0.00
Fill Light : 7
Green Hue : 0
Green Saturation : 0
Has Crop : False
Has Settings : True
Highlight Recovery : 0
Hue Adjustment Aqua : 0
Hue Adjustment Blue : 0
Hue Adjustment Green : 0
Hue Adjustment Magenta : 0
Hue Adjustment Orange : 0
Hue Adjustment Purple : 0
Hue Adjustment Red : 0
Hue Adjustment Yellow : 0
Incremental Temperature : 0
Incremental Tint : 0
Luminance Adjustment Aqua : 0
Luminance Adjustment Blue : 0
Luminance Adjustment Green : 0
Luminance Adjustment Magenta : 0
Luminance Adjustment Orange : 0
Luminance Adjustment Purple : 0
Luminance Adjustment Red : 0
Luminance Adjustment Yellow : 0
Luminance Smoothing : 0
Parametric Darks : -23
Parametric Highlight Split : 75
Parametric Highlights : 0
Parametric Lights : -3
Parametric Midtone Split : 50
Parametric Shadow Split : 25
Parametric Shadows : -1
Post Crop Vignette Amount : 0
Red Hue : 0
Red Saturation : 0
Saturation Adjustment Aqua : 0
Saturation Adjustment Blue : 0
Saturation Adjustment Green : 0
Saturation Adjustment Magenta : 0
Saturation Adjustment Orange : 0
Saturation Adjustment Purple : 0
Saturation Adjustment Red : 0
Saturation Adjustment Yellow : 0
Shadow Tint : 0
Shadows : 16
Sharpen Detail : 25
Sharpen Edge Masking : 0
Sharpen Radius : +1.0
Split Toning Balance : 0
Split Toning Highlight Hue : 0
Split Toning Highlight Saturation : 0
Split Toning Shadow Hue : 0
Split Toning Shadow Saturation : 0
Tone Curve : 0, 0, 255, 255
Tone Curve Name : Linear
Version : 6.1
Vibrance : 0
Vignette Amount : 0
Image Width : 300
Image Height : 131
Bits Per Sample : 8
Color Components : 3
Image Size : 300x131
Megapixels : 0.039