Uber Exif Photo
Keywords : reinfeld
Copyright Notice : dierk topp
Copyright Flag : True
Make : Leica Camera AG
Camera Model Name : M9 Digital Camera
Software : 1.116
Modify Date : 2011:05:05 13:02:01
Copyright : dierk topp
Exposure Time : 1/30
F Number : 4.8
Exposure Program : Aperture-priority AE
ISO : 250
Date/Time Original : 2011:05:03 11:15:32
Create Date : 2011:05:03 11:15:32
Shutter Speed Value : 1/30
Aperture Value : 4.8
Exposure Compensation : 0
Max Aperture Value : 1.0
Metering Mode : Center-weighted average
Light Source : Unknown
Contrast : Normal
Sharpening : Normal
Saturation : Normal
JPEG Quality : Fine
White Balance : Auto
WB RGB Levels : 0.4128512032 1 0.8379276837
User Profile : Jpg
JPEG Size : 5216x3472
Serial Number : 3834236
Firmware Version : 1.116
Base ISO : 160
Sensor Width : 5270
Sensor Height : 3516
Sensor Bit Depth : 14
Camera Temperature : 18 C
Lens Type : Uncoded lens
Approximate F Number : 4.5
Measured LV : 2.50
External Sensor Brightness Value : 2.18
Color Space : Uncalibrated
Scene Type : Directly photographed
Exposure Mode : Manual
Digital Zoom Ratio : 0
Scene Capture Type : Standard
Maker Note Safety : Safe
Rights : dierk topp
Subject : reinfeld
Date/Time Digitized : 2011:05:03 11:15:32+02:00
Flash Fired : False
Flash Function : False
Flash Mode : Unknown
Flash Red Eye Mode : False
Flash Return : No return detection
Exif Image Width : 1402
Exif Image Height : 1000
Sharpness : Hard
Property Release Status : Unknown (nil)
PLUS Version : 1.2.0
Creator Tool : Adobe Photoshop Lightroom
Rating : 5
Marked : True
Already Applied : True
Blue Hue : 0
Blue Saturation : 0
Brightness : +77
Camera Profile : Adobe Standard
Chromatic Aberration B : 0
Chromatic Aberration R : 0
Clarity : +17
Color Noise Reduction : 25
Convert To Grayscale : True
Crop Angle : -0.338158
Crop Bottom : 0.991207
Crop Height : 1000
Crop Left : 0.069339
Crop Right : 0.997653
Crop Top : 0.0082
Crop Unit : pixels
Crop Width : 1402
Defringe : 0
Exposure : 0.00
Fill Light : 11
Gray Mixer Aqua : -1
Gray Mixer Blue : +3
Gray Mixer Green : +1
Gray Mixer Magenta : +4
Gray Mixer Orange : +13
Gray Mixer Purple : +11
Gray Mixer Red : +71
Gray Mixer Yellow : +9
Green Hue : 0
Green Saturation : 0
Has Crop : True
Has Settings : True
Highlight Recovery : 25
Luminance Smoothing : 0
Parametric Darks : -17
Parametric Highlight Split : 75
Parametric Highlights : +22
Parametric Lights : -23
Parametric Midtone Split : 50
Parametric Shadow Split : 25
Parametric Shadows : 0
Post Crop Vignette Amount : -7
Post Crop Vignette Feather : 50
Post Crop Vignette Midpoint : 50
Post Crop Vignette Roundness : 0
Red Hue : 0
Red Saturation : 0
Shadow Tint : 0
Shadows : 19
Sharpen Detail : 40
Sharpen Edge Masking : 0
Sharpen Radius : +1.0
Split Toning Balance : 0
Split Toning Highlight Hue : 0
Split Toning Highlight Saturation : 0
Split Toning Shadow Hue : 0
Split Toning Shadow Saturation : 0
Color Temperature : 5900
Tint : +12
Tone Curve : 0, 0, 32, 22, 64, 56, 128, 128, 192, 196, 255, 255
Tone Curve Name : Medium Contrast
Version : 6.1
Vignette Amount : 0
Image Width : 300
Image Height : 219
Bits Per Sample : 8
Color Components : 1
Aperture : 4.8
Blue Balance : 0.837928
Image Size : 300x219
Lens ID : Uncoded lens
Megapixels : 0.066
Red Balance : 0.412851
Scale Factor To 35 mm Equivalent : 3.7
Shutter Speed : 1/30
Flash : No Flash
Circle Of Confusion : 0.008 mm
Light Value : 8.1