Uber Exif Photo
Copyright Notice : Dierk Topp
Sub-location : La Palma
Copyright Flag : False
Photometric Interpretation : RGB
Make : LEICA
Camera Model Name : D-LUX 3
Orientation : Horizontal (normal)
Planar Configuration : Chunky
Software : Adobe Photoshop CS2 Windows
Modify Date : 2008:09:11 21:53:39
Copyright : Dierk Topp
Exposure Time : 1/40
F Number : 3.6
Exposure Program : Aperture-priority AE
ISO : 100
Date/Time Original : 2008:09:04 16:46:28
Create Date : 2008:09:04 16:46:28
Shutter Speed Value : 1/40
Aperture Value : 3.6
Exposure Compensation : -0.66
Max Aperture Value : 2.8
Metering Mode : Multi-segment
Focal Length : 12.5 mm
Color Space : Uncalibrated
Exif Image Width : 1069
Exif Image Height : 653
Profile Description : Adobe RGB (1998)
Samples Per Pixel : 3
Date/Time Digitized : 2008:09:04 16:46:28+01:00
Flash Fired : False
Flash Return : No return detection
Flash Mode : Off
Flash Function : False
Flash Red Eye Mode : False
Creator Tool : Adobe Photoshop CS2 Windows
Rating : 5
Location : La Palma
Format : image/jpeg
Rights : Dierk Topp
Color Mode : RGB
ICC Profile Name : Adobe RGB (1998)
Version : 4.5
White Balance : As Shot
Incremental Temperature : 0
Incremental Tint : 0
Exposure : +0.10
Shadows : 4
Brightness : +21
Contrast : -25
Saturation : 0
Sharpness : 37
Luminance Smoothing : 0
Color Noise Reduction : 0
Chromatic Aberration R : 0
Chromatic Aberration B : 0
Vignette Amount : 0
Shadow Tint : 0
Red Hue : 0
Red Saturation : 0
Green Hue : 0
Green Saturation : 0
Blue Hue : 0
Blue Saturation : 0
Fill Light : 18
Vibrance : 0
Highlight Recovery : 0
Clarity : 0
Defringe : 0
Hue Adjustment Red : 0
Hue Adjustment Orange : 0
Hue Adjustment Yellow : 0
Hue Adjustment Green : 0
Hue Adjustment Aqua : 0
Hue Adjustment Blue : 0
Hue Adjustment Purple : 0
Hue Adjustment Magenta : 0
Saturation Adjustment Red : 0
Saturation Adjustment Orange : 0
Saturation Adjustment Yellow : 0
Saturation Adjustment Green : 0
Saturation Adjustment Aqua : 0
Saturation Adjustment Blue : 0
Saturation Adjustment Purple : 0
Saturation Adjustment Magenta : 0
Luminance Adjustment Red : 0
Luminance Adjustment Orange : 0
Luminance Adjustment Yellow : 0
Luminance Adjustment Green : 0
Luminance Adjustment Aqua : 0
Luminance Adjustment Blue : 0
Luminance Adjustment Purple : 0
Luminance Adjustment Magenta : 0
Split Toning Shadow Hue : 43
Split Toning Shadow Saturation : 0
Split Toning Highlight Hue : 56
Split Toning Highlight Saturation : 0
Split Toning Balance : 0
Parametric Shadows : 0
Parametric Darks : 0
Parametric Lights : 0
Parametric Highlights : 0
Parametric Shadow Split : 25
Parametric Midtone Split : 50
Parametric Highlight Split : 75
Sharpen Radius : +1.0
Sharpen Detail : 25
Sharpen Edge Masking : 0
Post Crop Vignette Amount : -74
Post Crop Vignette Midpoint : 50
Post Crop Vignette Feather : 83
Post Crop Vignette Roundness : 0
Convert To Grayscale : False
Tone Curve Name : Linear
Tone Curve : 0, 0, 255, 255
Camera Profile : Embedded
Has Settings : True
Has Crop : False
Already Applied : True
Image Width : 300
Image Height : 183
Bits Per Sample : 8
Color Components : 3
Aperture : 3.6
Image Size : 300x183
Megapixels : 0.055
Shutter Speed : 1/40
Flash : Off, Did not fire
Light Value : 9.0