Uber Exif Photo
Keywords : colorchecker
Copyright Notice : dierk topp
Copyright Flag : True
Make : Leica Camera AG
Camera Model Name : M9 Digital Camera
Software : 1.116
Modify Date : 2011:04:18 15:28:34
Copyright : dierk topp
Exposure Time : 1/4
F Number : 13.0
Exposure Program : Aperture-priority AE
ISO : 160
Date/Time Original : 2011:04:15 14:20:11
Create Date : 2011:04:15 14:20:11
Shutter Speed Value : 1/4
Aperture Value : 13.0
Exposure Compensation : 0
Max Aperture Value : 2.0
Metering Mode : Center-weighted average
Light Source : Unknown
Focal Length : 75.0 mm
Contrast : Normal
Sharpening : Normal
Saturation : Normal
JPEG Quality : Fine
White Balance : Auto
WB RGB Levels : 0.4279818191 1 0.7985962176
User Profile : Jpg
JPEG Size : 5216x3472
Serial Number : 3834236
Firmware Version : 1.116
Base ISO : 160
Sensor Width : 5270
Sensor Height : 3516
Sensor Bit Depth : 14
Camera Temperature : 21 C
Lens Type : Apo-Summicron-M 75mm f/2 ASPH.
Approximate F Number : 7.5
Measured LV : 0.93
External Sensor Brightness Value : 2.43
Color Space : Uncalibrated
Scene Type : Directly photographed
Exposure Mode : Manual
Digital Zoom Ratio : 0
Focal Length In 35mm Format : 75 mm
Scene Capture Type : Standard
Maker Note Safety : Safe
Profile Description : sRGB IEC61966-2.1
Lens : Leica Apo-Summicron-M 75mm f/2 ASPH.
Rights : dierk topp
Subject : colorchecker
Date/Time Digitized : 2011:04:15 14:20:11+02:00
Flash Fired : False
Flash Function : False
Flash Mode : Unknown
Flash Red Eye Mode : False
Flash Return : No return detection
Exif Image Width : 1500
Exif Image Height : 983
Sharpness : Hard
Property Release Status : Unknown (nil)
PLUS Version : 1.2.0
Creator Tool : Adobe Photoshop Lightroom
Marked : True
Already Applied : True
Blue Hue : 0
Blue Saturation : 0
Brightness : +28
Camera Profile : wohnzimmer mit sonne
Chromatic Aberration B : 0
Chromatic Aberration R : 0
Clarity : +39
Color Noise Reduction : 25
Convert To Grayscale : True
Crop Angle : 0
Crop Bottom : 1
Crop Height : 983
Crop Left : 0
Crop Right : 0.977703
Crop Top : 0.036851
Crop Unit : pixels
Crop Width : 1500
Defringe : 0
Exposure : 0.00
Fill Light : 13
Gray Mixer Aqua : -18
Gray Mixer Blue : -10
Gray Mixer Green : +26
Gray Mixer Magenta : +2
Gray Mixer Orange : -7
Gray Mixer Purple : +15
Gray Mixer Red : +50
Gray Mixer Yellow : +18
Green Hue : 0
Green Saturation : 0
Has Crop : True
Has Settings : True
Highlight Recovery : 41
Luminance Smoothing : 0
Parametric Darks : -19
Parametric Highlight Split : 75
Parametric Highlights : 0
Parametric Lights : +17
Parametric Midtone Split : 50
Parametric Shadow Split : 25
Parametric Shadows : 0
Post Crop Vignette Amount : -32
Post Crop Vignette Feather : 50
Post Crop Vignette Midpoint : 50
Post Crop Vignette Roundness : 0
Red Hue : 0
Red Saturation : 0
Shadow Tint : 0
Shadows : 53
Sharpen Detail : 38
Sharpen Edge Masking : 0
Sharpen Radius : +1.0
Split Toning Balance : 0
Split Toning Highlight Hue : 48
Split Toning Highlight Saturation : 10
Split Toning Shadow Hue : 45
Split Toning Shadow Saturation : 34
Color Temperature : 5450
Tint : +47
Tone Curve : 0, 0, 32, 22, 64, 56, 128, 128, 192, 196, 255, 255
Tone Curve Name : Medium Contrast
Version : 6.1
Vignette Amount : 0
Image Width : 300
Image Height : 202
Bits Per Sample : 8
Color Components : 3
Aperture : 13.0
Blue Balance : 0.798596
Image Size : 300x202
Lens ID : Apo-Summicron-M 75mm f/2 ASPH.
Megapixels : 0.061
Red Balance : 0.427982
Scale Factor To 35 mm Equivalent : 1.0
Shutter Speed : 1/4
Flash : No Flash
Circle Of Confusion : 0.030 mm
Field Of View : 27.0 deg
Focal Length : 75.0 mm (35 mm equivalent: 75.0 mm)
Hyperfocal Distance : 14.40 m
Light Value : 8.7