Uber Exif Photo
Keywords : reinfeld
Copyright Notice : dierk topp
Copyright Flag : True
Make : Leica Camera AG
Camera Model Name : M9 Digital Camera
Software : Adobe Photoshop Lightroom
Modify Date : 2011:04:15 20:18:25
Copyright : dierk topp
F Number : 5.7
Exposure Program : Aperture-priority AE
ISO : 160
Date/Time Original : 2011:04:14 12:45:37
Aperture Value : 5.7
Exposure Compensation : 0
Max Aperture Value : 3.8
Metering Mode : Center-weighted average
Light Source : Unknown
Focal Length : 18.0 mm
Color Space : Uncalibrated
Scene Type : Directly photographed
Exposure Mode : Auto bracket
White Balance : Auto
Digital Zoom Ratio : 0
Focal Length In 35mm Format : 18 mm
Scene Capture Type : Standard
Profile Description : sRGB IEC61966-2.1
Lens : Super-Elmar-M 18mm f/3.8 ASPH.
Serial Number : 3834236
Rights : dierk topp
Subject : reinfeld
Contrast : High
Flash Fired : False
Flash Function : False
Flash Mode : Unknown
Flash Red Eye Mode : False
Flash Return : No return detection
Exif Image Width : 1100
Exif Image Height : 731
Sharpness : Hard
Property Release Status : Unknown (nil)
PLUS Version : 1.2.0
Create Date : 2011:04:14 12:45:37+02:00
Creator Tool : Adobe Photoshop Lightroom
Marked : True
Already Applied : True
Blue Hue : 0
Blue Saturation : 0
Brightness : +50
Camera Profile : Embedded
Chromatic Aberration B : 0
Chromatic Aberration R : 0
Clarity : 0
Color Noise Reduction : 25
Convert To Grayscale : True
Defringe : 0
Exposure : 0.00
Fill Light : 13
Gray Mixer Aqua : -10
Gray Mixer Blue : +20
Gray Mixer Green : -19
Gray Mixer Magenta : +28
Gray Mixer Orange : +4
Gray Mixer Purple : +25
Gray Mixer Red : +29
Gray Mixer Yellow : -13
Green Hue : 0
Green Saturation : 0
Has Crop : False
Has Settings : True
Highlight Recovery : 0
Incremental Temperature : +8
Incremental Tint : -16
Luminance Smoothing : 0
Parametric Darks : -2
Parametric Highlight Split : 75
Parametric Highlights : -31
Parametric Lights : -5
Parametric Midtone Split : 50
Parametric Shadow Split : 25
Parametric Shadows : +6
Post Crop Vignette Amount : 0
Red Hue : 0
Red Saturation : 0
Shadow Tint : 0
Shadows : 0
Sharpen Detail : 25
Sharpen Edge Masking : 0
Sharpen Radius : +1.0
Split Toning Balance : 0
Split Toning Highlight Hue : 52
Split Toning Highlight Saturation : 64
Split Toning Shadow Hue : 37
Split Toning Shadow Saturation : 22
Tone Curve : 0, 0, 32, 22, 64, 56, 128, 128, 192, 196, 255, 255
Tone Curve Name : Medium Contrast
Version : 6.1
Vignette Amount : 0
Image Width : 300
Image Height : 206
Bits Per Sample : 8
Color Components : 3
Aperture : 5.7
Image Size : 300x206
Megapixels : 0.062
Scale Factor To 35 mm Equivalent : 1.0
Flash : No Flash
Circle Of Confusion : 0.030 mm
Field Of View : 90.0 deg
Focal Length : 18.0 mm (35 mm equivalent: 18.0 mm)
Hyperfocal Distance : 1.89 m
Lens ID : Apo-Telyt-M 18mm f/3.8 ASPH.