Uber Exif Photo
Keywords : reinfeld, see
Copyright Notice : dierk topp
Copyright Flag : True
Make : Leica Camera AG
Camera Model Name : M9 Digital Camera
Software : 1.116
Modify Date : 2011:03:13 20:38:35
Copyright : dierk topp
Exposure Time : 1/250
F Number : 9.5
Exposure Program : Aperture-priority AE
ISO : 160
Date/Time Original : 2011:03:11 13:41:59
Create Date : 2011:03:11 13:41:59
Shutter Speed Value : 1/250
Aperture Value : 9.5
Exposure Compensation : 0
Max Aperture Value : 3.8
Metering Mode : Center-weighted average
Light Source : Unknown
Focal Length : 18.0 mm
Contrast : Normal
Sharpening : Normal
Saturation : Normal
JPEG Quality : Fine
White Balance : Auto
WB RGB Levels : 0.4755878084 1 0.7268210452
User Profile : Auto
JPEG Size : 5216x3472
Serial Number : 3834236
Firmware Version : 1.116
Base ISO : 160
Sensor Width : 5270
Sensor Height : 3516
Sensor Bit Depth : 14
Camera Temperature : 18 C
Lens Type : Apo-Telyt-M 18mm f/3.8 ASPH.
Approximate F Number : 6.5
Measured LV : 4.86
External Sensor Brightness Value : 5.97
Color Space : Uncalibrated
Scene Type : Directly photographed
Exposure Mode : Manual
Digital Zoom Ratio : 0
Focal Length In 35mm Format : 18 mm
Scene Capture Type : Standard
Maker Note Safety : Safe
Lens : Super-Elmar-M 18mm f/3.8 ASPH.
Rights : dierk topp
Subject : reinfeld, see
Date/Time Digitized : 2011:03:11 13:41:59+01:00
Flash Fired : False
Flash Function : False
Flash Mode : Unknown
Flash Red Eye Mode : False
Flash Return : No return detection
Exif Image Width : 1100
Exif Image Height : 693
Sharpness : Hard
Property Release Status : Unknown (nil)
PLUS Version : 1.2.0
Creator Tool : Adobe Photoshop Lightroom
Rating : 5
Marked : True
Already Applied : True
Blue Hue : 0
Blue Saturation : 0
Brightness : +110
Camera Profile : Adobe Standard
Chromatic Aberration B : 0
Chromatic Aberration R : 0
Clarity : +33
Color Noise Reduction : 25
Convert To Grayscale : True
Crop Angle : 0
Crop Bottom : 0.946399
Crop Height : 693
Crop Left : 0
Crop Right : 1
Crop Top : 0
Crop Unit : pixels
Crop Width : 1100
Defringe : 0
Exposure : +0.50
Fill Light : 10
Gray Mixer Aqua : -15
Gray Mixer Blue : -68
Gray Mixer Green : -68
Gray Mixer Magenta : +4
Gray Mixer Orange : +76
Gray Mixer Purple : -63
Gray Mixer Red : +21
Gray Mixer Yellow : -51
Green Hue : 0
Green Saturation : 0
Has Crop : True
Has Settings : True
Highlight Recovery : 0
Luminance Smoothing : 0
Parametric Darks : 0
Parametric Highlight Split : 75
Parametric Highlights : 0
Parametric Lights : 0
Parametric Midtone Split : 50
Parametric Shadow Split : 25
Parametric Shadows : 0
Post Crop Vignette Amount : -23
Post Crop Vignette Feather : 50
Post Crop Vignette Midpoint : 50
Post Crop Vignette Roundness : 0
Red Hue : 0
Red Saturation : 0
Shadow Tint : 0
Shadows : 15
Sharpen Detail : 36
Sharpen Edge Masking : 0
Sharpen Radius : +1.0
Split Toning Balance : 0
Split Toning Highlight Hue : 0
Split Toning Highlight Saturation : 0
Split Toning Shadow Hue : 0
Split Toning Shadow Saturation : 0
Color Temperature : 4500
Tint : +4
Tone Curve : 0, 0, 32, 22, 64, 56, 128, 128, 192, 196, 255, 255
Tone Curve Name : Medium Contrast
Version : 6.1
Vignette Amount : 0
Image Width : 300
Image Height : 196
Bits Per Sample : 8
Color Components : 1
Aperture : 9.5
Blue Balance : 0.726821
Image Size : 300x196
Lens ID : Apo-Telyt-M 18mm f/3.8 ASPH.
Megapixels : 0.059
Red Balance : 0.475588
Scale Factor To 35 mm Equivalent : 1.0
Shutter Speed : 1/250
Flash : No Flash
Circle Of Confusion : 0.030 mm
Field Of View : 90.0 deg
Focal Length : 18.0 mm (35 mm equivalent: 18.0 mm)
Hyperfocal Distance : 1.14 m
Light Value : 13.8